{"text_format":"1","workbook":"xlsx","n_sheets":15,"sheets":["Dialog1","AMCA License Information","Optimize Size","Performance","PRVS Arr. 10","PRVS Arr. 4","Vibration isolators","Data","Data1","AMCA 207 Tables","FEI REG","FEI","loudness index","Sound calculation","Sound calculation-1"],"not_rendered":{"charts":1,"images":38,"macros":1,"external_links":2,"defined_names":9,"comments":0,"pivot_tables":0},"unopened":[{"sheet":"Dialog1","index":0,"reason":"not_a_worksheet"}],"bounds":{"document_bytes":16777216,"sheet_cells":100000,"rows_first":2000,"rows_last":500,"rows_between":2000,"halvings":0,"cell_chars":16384,"cell_head_chars":4096},"cells_cut":0,"cells_raw":0,"read":"whole","date_system":"1900"}

{"sheet":"AMCA License Information","index":1,"n_rows":23,"n_cols":5,"rows_kept":23,"cut":false,"hidden":false,"merged":[[1,4,1,10],[2,4,2,10],[3,4,3,10],[4,4,4,10],[10,4,10,10],[11,4,11,10],[12,4,12,10],[13,4,13,10],[5,4,5,9],[7,4,7,10],[8,4,8,10],[9,4,9,10],[18,4,18,10],[19,4,19,10],[14,4,14,10],[15,4,15,10],[16,4,16,8]]}
[]
[null,null,null,null,"M.K. Plastics Corporation certifies that the model shown herein "]
[null,null,null,null,"is licensed to bear the AMCA Seal. The ratings shown are based "]
[null,null,null,null,"on tests and procedures performed in accordance with AMCA "]
[null,null,null,null,"Publication 211 and AMCA Publication 311 and comply with the "]
[null,null,null,null,"requirements of the AMCA Certified Ratings Program."]
[]
[null,null,null,null,"Performance certified is for installation type D: ducted inlet,"]
[null,null,null,null,"ducted outlet. Power rating (BHP) does not include transmission "]
[null,null,null,null,"losses. Performance ratings do not include the effects of "]
[null,null,null,null,"appurtenances (accessories). The sound power level ratings "]
[null,null,null,null,"shown are in decibels, referred to 10(-12) watts calculated per "]
[null,null,null,null,"AMCA Standard 301. Values shown are for inlet Lwi"]
[null,null,null,null,"sound power levels for installation type D:  ducted inlet, "]
[null,null,null,null,"ducted outlet. Ratings do not include the effects of duct "]
[null,null,null,null,"end correction.  The A-weighted sound ratings shown have "]
[null,null,null,null,"been calculated per AMCA Standard 301."]
[]
[null,null,null,null,"The Fan Energy Index (FEI) values are calculated in accordance with "]
[null," ",null,null,"ANSI/AMCA standard 208, are using a total pressure basis. "]
[null,null,null,null,"There are two FEI calculation methods in this program. User can select either"]
[null," ",null,null,"FEI calculation based on default motor efficiencies or FEI calculation "]
[null," ",null,null,"based on four-pole TEFC motors and VFD of same capacity."]

{"sheet":"Optimize Size","index":2,"n_rows":51,"n_cols":17,"rows_kept":51,"cut":false,"hidden":false,"merged":[[0,8,0,11],[17,1,17,7],[47,1,47,10],[48,1,48,10],[19,3,19,4],[20,3,20,4],[8,9,8,12],[9,9,9,12],[10,9,10,12],[49,1,49,12],[3,4,3,5],[4,4,4,5],[5,4,5,5],[6,4,6,5]]}
[null,null,null,null,null,null,null,null," "]
[null,null,null,null,null,null,null,null,null,null,null,null,null,null,null,null," "]
[]
[null,null,null,null,null,null,"."]
["Representative",null,null,null,null,null,"."]
[".",null,null,null,null,null,"."]
[".",null,null,null,null,null,".",null,null,null,null,"JOB # ","."]
[]
["Date",".",null,null,null,null,null,null,null,"FEIT Based on"]
[null,null,null,null,null,"CFM =",807,null,null,"Default Motor Efficiencies"]
["Sys. No.",null,null,null,null,"SP =",2.944,null,null,"Regulated Motor Efficiencies"]
[null,".",null,null,null,"T =",70,"[ oF ]"]
[null,".",null,null,null,"ALT =",0,"[ feet ]"]
["Drawing",".","A"]
["Revision",".",null,null,null,"      BELT DRIVE"]
[null,null,null," ",null,"           DIRECT DRIVE"]
[" ",null,null," ",null,null," "]
[null,"Options: ( For DIRECT DRIVE selection only )"]
[null,"1: Allow selections for",null,null,0.85,"to ",1.1499999999999999,"  of the requested CFM."]
[null,"2: Motor Speed: ",null,"UNKNOWN",null,"60 HZ","or be specified",null,1800]
[null,null,null,"UNKNOWN",null,"50 HZ"]
[]
[]
["SIZE","CFM","SP","BHP","HP","RPM","OV","TS","S.E","FEIT"]
[125,807,2.944,2.9415938854217529,5,2503,7336.363636363636,13433.3192460505,0.12732490912245381,0.59696368278101919]
[160,807,2.944,1.3321599960327148,2,1682,4292.5531914893618,9027.1046631469999,0.28115104435795757,0.8638378251670662]
[200,807,2.944,0.87117993831634521,1,1355,2628.6644951140065,7272.1324723924999,0.42992056825864045,1.0830165078394982]
[250,807,2.944,0.70329457521438599,1,1222,1684.7599164926933,6558.3364437370001,0.53254807777000079,1.2300497006626629]
[" "," "," "," "," "," "," "," "," "," "]
[" "," "," "," "," "," "," "," "," "," "]
[" "," "," "," "," "," "," "," "," "," "]
[" "," "," "," "," "," "," "," "," "," "]
[" "," "," "," "," "," "," "," "," "," "]
[" "," "," "," "," "," "," "," "," "," "]
[]
["SIZE","OB1","OB2","OB3","OB4","OB5","OB6","OB7","OB8","LwA","dBA","Sones"]
[125,120.30895080349333,97.161423829988649,92.507876418451389,107.74087842129036,89.521733576908304,81.815328833344978,77.7776748260017,73.023187885273956,105.13039847677911,93.650998390058732,43.36]
[160,92.252072795781586,88.818486863200647,93.251527953530342,87.367465614659992,80.25921091461953,75.110743816501468,68.170094964201184,61.580067150170336,88.656545354072179,77.177145267351804,27.229999999999997]
[200,90.813900511823164,89.272315150522189,92.062445269799525,86.712214639002184,80.225218195546248,74.934875061697682,69.118948573324644,63.40483643618137,87.98282925348424,76.503429166763866,26.435000000000002]
[250,90.380880952797398,93.14017651410343,96.470753660576548,90.429185171745175,82.843438907973834,77.835144180668749,73.4551896754528,69.37242654387245,91.764264959317018,80.284864872596643,32.94]
[" "," "," "," "," "," "," "," "," "," "," "," "]
[" "," "," "," "," "," "," "," "," "," "," "," "]
[" "," "," "," "," "," "," "," "," "," "," "," "]
[" "," "," "," "," "," "," "," "," "," "," "," "]
[" "," "," "," "," "," "," "," "," "," "," "," "]
[" "," "," "," "," "," "," "," "," "," "," "," "]
[]
["NOTES:","OV: Outlet Velocity",null,null,null,null,null,null,null,null,null," "," "]
[" ","S.E: Static Efficiency of Fan.",null,null,null,null,null,null,null,null,null," "," "]
[" ","dBA at 5 feet from Fan."]
[null,"The AMCA Certified Ratings Seal does not apply to Sones"]

{"sheet":"Performance","index":3,"n_rows":53,"n_cols":10,"rows_kept":53,"cut":false,"hidden":false,"merged":[[14,2,14,4],[15,2,15,4]]}
[null,null,null,null,null,null,null,"PRVS ",{"$f":"G10","v":125}]
[]
[]
[null,null,null,null,"Customer",{"$f":"'Optimize Size'!G4","v":"."}]
["Representative",null,null,null,"Project",{"$f":"'Optimize Size'!G5","v":"."}]
[{"$f":"'Optimize Size'!A6","v":"."},null,null,null,"Engineer",{"$f":"'Optimize Size'!G6","v":"."}]
[{"$f":"'Optimize Size'!A7","v":"."},null,null,null,"P.O. # ",{"$f":"'Optimize Size'!G7","v":"."},null,null,"JOB #",{"$f":"'Optimize Size'!M7","v":"."}]
[]
["Date",{"$f":"'Optimize Size'!B9","v":"."},null,null,null,"Model","PRVS"]
[null,null,null,null,null,"Fan Size",{"$f":"Data!N2","v":125}]
["Sys. No.",{"$f":"'Optimize Size'!B11","v":0},null,null,null,"Dia.[in]",{"$f":"VLOOKUP(G10,Data!M14:R20,3)","v":20.5},"T  =",70,"[ oF ]"]
[null,{"$f":"'Optimize Size'!B12","v":"."},null,null,null,"CFM",807,"ALT =",0,"[ feet ]"]
[null,{"$f":"'Optimize Size'!B13","v":"."},null,null,null,"SP",2.944]
["Drawing",{"$f":"'Optimize Size'!B14","v":"."},"A","FEIT Based on",null,"BHP",2.9415938854217529,"OV =",{"$f":"G12/Data!D3","v":7336.363636363636},"[ fpm ]"]
["Revision",{"$f":"'Optimize Size'!B15","v":"."},"     Default Motor Efficiencies",null,null,"RPM",2503,"TS =",{"$f":"G11*G15*0.262","v":13443.613000000001},"[ fpm ]"]
[null,null,"Regulated Motor Efficiencies",null,null,null," "]
["Air performance ",null,null,"FEIT =",0.59696368278101919]
[]
[]
[]
[]
[]
[]
[]
[]
[]
[]
[]
[]
[]
[]
[]
[]
[]
[]
[]
[]
[]
[]
["Sound power level ",null,"The sound power level ratings shown are in decibels, referred to 10-12 Watts calaulated"]
[null,null,"per AMCA standrad 301. Values shown are for (inlet Lwi ) sound power levels for installation "]
[null,null,"Type D: Ducted inlet, Ducted outlet. Ratings include the duct end correction."]
["RPM",null,null,null,"Hz",null,null,null,null,"LwA"]
[null,63,125,250,500,1000,2000,4000,8000]
[{"$f":"'Sound calculation'!B37","v":2503},{"$f":"'Sound calculation'!D37","v":120.30895080349333},{"$f":"'Sound calculation'!E37","v":97.161423829988649},{"$f":"'Sound calculation'!F37","v":92.507876418451389},{"$f":"'Sound calculation'!G37","v":107.74087842129036},{"$f":"'Sound calculation'!H37","v":89.521733576908304},{"$f":"'Sound calculation'!I37","v":81.815328833344978},{"$f":"'Sound calculation'!J37","v":77.7776748260017},{"$f":"'Sound calculation'!K37","v":73.023187885273956},{"$f":"'Sound calculation'!L37","v":105.13039847677911}]
[null,"  "]
["Sound pressure level variation ",null,null,"Values shown are calculated based on a free-field over reflecting plane conditions."]
[null,null,null,"(ASHRAE Fundamentals Handbook). dBA levels are not licensed by AMCA international"]
["Feet",1,3,5,10,15,50,100,150]
["dB(A)",{"$f":"$J$45-20*LOG10(B49)+2.5","v":107.63039847677911},98.087973382385854,93.650998390058732,87.630398476779106,84.108573295665479,73.650998390058732,67.630398476779106,64.108573295665479]
[" "," "," "," "," "," "," "," "," "]
[]
["Comments :"]

{"sheet":"PRVS Arr. 10","index":4,"n_rows":53,"n_cols":11,"rows_kept":53,"cut":false,"hidden":false,"merged":[[52,6,52,7],[6,5,6,8],[1,8,1,9],[51,6,51,7]]}
[null,null,null,null,null,null,null,null,{"$f":"Performance!H1","v":"PRVS "},{"$f":"Performance!G10","v":125}]
[null,null,null,null,null,null,null,null,"      Technical Data"]
[]
[null,null,null,null,"Customer",{"$f":"Performance!F4","v":"."}]
[null,null,null,null,"Project",{"$f":"Performance!F5","v":"."}]
["Drawing",{"$f":"Performance!B14","v":"."},"B",null,"Engineer",{"$f":"Performance!F6","v":"."}]
["Revision",{"$f":"Performance!B15","v":"."},null,null,"P.O. # ",{"$f":"Performance!F7","v":"."},null,null,null,"JOB #",{"$f":"Performance!J7","v":"."}]
[]
[]
[]
[null,null,null,null,null,null,null,null,70]
[null,null,null,null,null,null," ",null,0]
[null,null,null,null,null,null," "]
[null,null,null,null,null,null," "]
[null,null,null,null,null,null," "]
[]
[]
[]
[]
[]
[]
[]
[]
[]
[]
[]
[]
[]
[]
[null,null,null,null,"Arrangement 10"]
[null,null,null,null,null,null,null,{"$f":"Data!C93","v":"Maximum motor frame 256T"}]
["Quantity",1]
["Sys. No.",{"$f":"Performance!B11","v":0}]
[null,{"$f":"Performance!B12","v":"."}]
[null,{"$f":"Performance!B13","v":"."}]
["Materials "]
["Casing  ","FRP"]
["Impeller","FRP"]
["Stand    ","4-6 mils epoxy coated steel"]
["Shaft     ","C-1045 Carbon steel"]
["Hardware","304 stainless steel",null,null,null,null,null,null,null,"Note: * Drawings required"]
[null,null,null,null,"Additional information"]
["Motor  ",null,null,null,"20' stack extension c/w veliocity cone"]
["Type       ","PREM"]
["Enclosure    ","TEFC"]
["HP          ",{"$f":"Data!G72","v":5},null,null,"Revisions"]
["V/Ph/Hz    ","460/3/60",null,null," No.                                  Description",null,null,null,null,"Date","Approved by"]
["RPM        ","1800"]
[]
["Weight","[ Lb ]"]
["Fan  ",{"$f":"IF(B46>10, VLOOKUP(J1,Data!C83:E88,3), VLOOKUP(J1,Data!C83:E88,2))","v":278},null,null,null,null,null,null,"Released by","Checked by","Approved by"]
["Motor",{"$f":"VLOOKUP(B46,Data!G73:I94,2)","v":110},null,null,null,null,"Initial"]
["Total ",{"$f":"SUM(B51:B52)","v":388},null,null,null,null,"Date"]

{"sheet":"PRVS Arr. 4","index":5,"n_rows":53,"n_cols":11,"rows_kept":53,"cut":false,"hidden":false,"merged":[[1,8,1,9],[6,5,6,8],[51,6,51,7],[52,6,52,7]]}
[null,null,null,null,null,null,null,null,{"$f":"Performance!H1","v":"PRVS "},{"$f":"Performance!G10","v":125}]
[null,null,null,null,null,null,null,null,"      Technical Data"]
[]
[null,null,null,null,"Customer",{"$f":"Performance!F4","v":"."}]
[null,null,null,null,"Project",{"$f":"Performance!F5","v":"."}]
["Drawing",{"$f":"Performance!B14","v":"."},"B",null,"Engineer",{"$f":"Performance!F6","v":"."}]
["Revision",{"$f":"Performance!B15","v":"."},null,null,"P.O. # ",{"$f":"Performance!F7","v":"."},null,null,null,"JOB #",{"$f":"Performance!J7","v":"."}]
[]
[]
[]
[null,null,null,null,null,null,null,null,70]
[null,null,null,null,null,null," ",null,0]
[null,null,null,null,null,null," "]
[null,null,null,null,null,null," "]
[null,null,null,null,null,null," "]
[]
[]
[]
[]
[]
[]
[]
[]
[]
[]
[]
[]
[]
[]
[null,null,null,null,"Arrangement 4"]
[null,null,null,null,null,null,null,{"$f":"Data!C93","v":"Maximum motor frame 256T"}]
["Quantity",2]
["Sys. No.",{"$f":"Performance!B11","v":0}]
[null,{"$f":"Performance!B12","v":"."}]
[null,{"$f":"Performance!B13","v":"."}]
["Materials "]
["Casing  ","FRP"]
["Impeller","FRP"]
["Stand    ","4-6 mils epoxy coated steel"]
["Hardware","316 stainless steel"]
[null,null,null,null,null,null,null,null,null,"Note: * Drawings required"]
[null,null,null,null,"Additional information"]
["Motor  "]
["Type       ","TEFC"]
["Enclosure    ","TEFC"]
["HP          ",{"$f":"Data!G72","v":5},null,null,"Revisions"]
["V/Ph/Hz    ","120/1/60",null,null," No.                                  Description",null,null,null,null,"Date","Approved by"]
["RPM        ","1800"]
[]
["Weight","[ Lb ]"]
["Fan  ",{"$f":"VLOOKUP(J1,Data!C102:D107,2)","v":183},null,null,null,null,null,null,"Released by","Checked by","Approved by"]
["Motor",{"$f":"VLOOKUP(B46,Data!G73:I94,2)","v":110},null,null,null,null,"Initial"]
["Total ",{"$f":"SUM(B51:B52)","v":293},null,null,null,null,"Date"]

{"sheet":"Vibration isolators","index":6,"n_rows":54,"n_cols":15,"rows_kept":54,"cut":false,"hidden":false,"merged":[[27,8,28,9],[29,8,29,9],[30,8,30,9],[31,8,31,9],[36,8,36,9],[32,8,32,9],[33,8,33,9],[34,8,34,9],[35,8,35,9]]}
[null,null,null,null,null,null,null,null,null,null,"Vibration isolators"]
[]
[]
[]
["Representative"]
[{"$f":"Performance!A6","v":"."},null,null,null,null,"Drawing",{"$f":"Performance!B14&\"C\"","v":".C"},null,"Sys. No.",{"$f":"Performance!B11","v":0},null,null,"JOB # ",{"$f":"Performance!J7","v":"."}]
[{"$f":"Performance!A7","v":"."},null,null,null,null,"Revision",{"$f":"Performance!B15","v":"."},null,null,{"$f":"Performance!B12","v":"."}]
[null,null,null,null,null,null,null,null,null,{"$f":"Performance!B13","v":"."}]
["Rubber in shear (RIS) vibration isolator"]
[null,null,null,null,null,"Type","Max.","Deflect.",null,null,null,"Dimensions"]
[null,null,null,null,null,null,"load(lb)","(in)","A","B","C","D","E","F","G"]
[null,null,null,null,null,"RVD1A",45,0.38]
[null,null,null,null,null,"RVD1B",110,0.38,1.875,1.875,3.25,1.375,2.5,0.3125,"0.375-16"]
[null,null,null,null,null,"RVD1C",210,0.38]
[null,null,null,null,null,"RVD1D",340,0.38]
[null,null,null,null,null,"RVD2A",130,0.43]
[null,null,null,null,null,"RVD2B",230,0.43,2.125,2.5,4.25,1.875,3.25,0.435,"0.5-13"]
[null,null,null,null,null,"RVD2C",380,0.43]
[null,null,null,null,null,"RVD2D",700,0.43]
[null,null,null,null,null,"RVD3A",550,0.48]
[null,null,null,null,null,"RVD3B",930,0.48," "," "," "," "," "," "," "]
[null,null,null,null,null,"RVD3C",1540,0.48,2.375,3.5,6,2.875,4.625,0.56299999999999994,"0.5-13"]
[null,null,null,null,null,"RVD3D",1920,0.48]
[null,null,null,null,null,"RVD3E",2400,0.48]
["Spring isolator for 1\" deflection"]
[]
[]
[null,null,null,null,null,null,null,null,"Type",null,"Rated"]
[null,null,null,null,null,null,null,null,null,null,"load(lb)"]
[null,null,null,null,null,null,null,null,"CALE-1C-50",null,50]
[null,null,null,null,null,null,null,null,"CALE-1C-100",null,100]
[null,null,null,null,null,null,null,null,"CALE-1C-150",null,150]
[null,null,null,null,null,null,null,null,"CALE-1C-250",null,250]
[null,null,null,null,null,null,null,null,"CALE-1C-300",null,300]
[null,null,null,null,null,null,null,null,"CALE-1C-370",null,370]
[null,null,null,null,null,null,null,null,"CALE-1C-520",null,520]
[]
[]
[]
["Seismically restrained spring isolator for 1\" and 2\" deflection "]
[]
[null,null,null,null,null,"Type",null,null,null,"Dimensions",null,null,null,null,"Anch.dia"]
[null,null,null,null,null,null,"L","W","H","B","E","F","G","J","Xemb.(in)"]
[null,null,null,null,null,"AMSR-1C-"]
[null,null,null,null,null,"50-520",6,3,4.625,0.75,0.625,1,0.5,0.25,"0.50X2.25"]
[null,null,null,null,null,"AMSR-1E-"]
[null,null,null,null,null,"195-530"]
[null,null,null,null,null,"650-1200",7.625,6,6.25,1.125,0.875,1.5,0.625,0.375,"0.75X3.25"]
[null,null,null,null,null,"1400-2330"]
[null,null,null,null,null,"2575-3250"," "," "," "," "," "," "," "," "," "]
[null,null,null,null,null,"AMSR-2D-"]
[null,null,null,null,null,"75-355",7.625,6,7.25,1.125,0.875,1.5,0.625,0.375,"0.75X3.25"]
[null,null,null,null,null,"435-845"]
[null,null,null,null,null,"1000-1640"]

{"sheet":"Data","index":7,"n_rows":169,"n_cols":43,"rows_kept":169,"cut":false,"hidden":true,"merged":[[18,18,18,21],[154,0,154,2],[3,13,3,22],[3,23,3,32],[3,33,3,42]]}
[null,null,null,null,null,null,null,null,null,null,null,null,null,null,"M.K. 2026 Version 14.1",null,null,null,null,null,null,"Copyright M.K. Plastics July 06, 2026"]
[null,null,null,null,null," DERIVED SPEEDS AND FAN SIZES",null,null,null,null,null,null,3,{"$f":"VLOOKUP(M2,L14:M19,2)","v":125}]
[null,{"$f":"VLOOKUP(Performance!G10,$M$14:$R$20,2)","v":2600},{"$f":"VLOOKUP(Performance!G10,$M$14:$R$20,3)","v":20.5},{"$f":"VLOOKUP(Performance!G10,$M$14:$R$20,5)","v":0.11},null,null,null,null,null,null,null,null,null,"Testing data by AMCA"]
[null,"No.","CFM","SP","BHP","No.","CFM","SP-CFM","BHP-CFM",null,null,null,null,"CFM",null,null,null,null,null,null,null,null,null,"SP",null,null,null,null,null,null,null,null,null,"BHP (Shaft Power)"]
[null,null,null,null,null,null,null,null,null,null,null,null,null,1,{"$f":"N5+1","v":2},{"$f":"O5+1","v":3},4,5,6,7,8,9,10,11,12,13,14,15,16,17,18,{"$f":"AE5+1","v":19},20,21,22,23,24,25,26,27,28,29,30]
[null,1,{"$f":"VLOOKUP(Performance!G10,$M$6:$AR$12,2)","v":924},{"$f":"VLOOKUP(Performance!G10,$M$6:$AR$12,12)","v":1E-3},{"$f":"VLOOKUP(Performance!G10,$M$6:$AR$12,22)","v":3.6055000000000001},1,{"$f":"C6*(Performance!G15/Data!$B$3)*(Performance!G11/Data!$C$3)^3","v":889.5276923076924},{"$f":"D6*(Performance!G15/Data!$B$3)^2*(Performance!G11/Data!$C$3)^2*($AB$17/$AB$19)","v":9.2580576684848166E-4},{"$f":"E6*(Performance!G15/Data!$B$3)^3*(Performance!G11/Data!$C$3)^5*($AB$17/$AB$19)","v":3.2134598880798535},null,null,null,63,221,199,183,155,138,125,102,71,33,0,5.0000000000000001E-3,2.3029999999999999,3.8610000000000002,6.3760000000000003,7.984,9.1509999999999998,10.813000000000001,12.426,13.452,13.458,1.173,1.129,1.0940000000000001,1.0369999999999999,0.99,0.96,0.89200000000000002,0.80200000000000005,0.64700000000000002,0.58299999999999996]
[null,2,{"$f":"VLOOKUP(Performance!G10,$M$6:$AR$12,3)","v":833},{"$f":"VLOOKUP(Performance!G10,$M$6:$AR$12,13)","v":3.3860000000000001},{"$f":"VLOOKUP(Performance!G10,$M$6:$AR$12,23)","v":3.2816999999999998},2,{"$f":"C7*(Performance!G15/Data!$B$3)*(Performance!G11/Data!$C$3)^3","v":801.92269230769239},{"$f":"D7*(Performance!G15/Data!$B$3)^2*(Performance!G11/Data!$C$3)^2*($AB$17/$AB$19)","v":3.1347783265489588},{"$f":"E7*(Performance!G15/Data!$B$3)^3*(Performance!G11/Data!$C$3)^5*($AB$17/$AB$19)","v":2.9248679280853294},null,null,null,90,332,297,259,222,187,150,112,74,46,0,3.0000000000000001E-3,2.0110000000000001,4.0960000000000001,6.0019999999999998,8.0020000000000007,9.8249999999999993,10.909000000000001,11.596,11.999000000000001,11.975,1.4686999999999999,1.3801000000000001,1.3028999999999999,1.2208000000000001,1.1463000000000001,1.0599000000000001,0.92935000000000001,0.80862000000000001,0.71372999999999998,0.61977000000000004]
[null,3,{"$f":"VLOOKUP(Performance!G10,$M$6:$AR$12,4)","v":744},{"$f":"VLOOKUP(Performance!G10,$M$6:$AR$12,14)","v":6.2190000000000003},{"$f":"VLOOKUP(Performance!G10,$M$6:$AR$12,24)","v":3.056},3,{"$f":"C8*(Performance!G15/Data!$B$3)*(Performance!G11/Data!$C$3)^3","v":716.24307692307696},{"$f":"D8*(Performance!G15/Data!$B$3)^2*(Performance!G11/Data!$C$3)^2*($AB$17/$AB$19)","v":5.7575860640307077},{"$f":"E8*(Performance!G15/Data!$B$3)^3*(Performance!G11/Data!$C$3)^5*($AB$17/$AB$19)","v":2.7237091715357185},null,null,null,125,924,833,744,653,560,463,374,281,155,0,1E-3,3.3860000000000001,6.2190000000000003,9.2349999999999994,11.911,14.180999999999999,15.391,15.981,15.92,15.042999999999999,3.6055000000000001,3.2816999999999998,3.056,2.8028,2.5240999999999998,2.2269000000000001,1.9064000000000001,1.5636000000000001,1.18,0.88409000000000004]
[null,4,{"$f":"VLOOKUP(Performance!G10,$M$6:$AR$12,5)","v":653},{"$f":"VLOOKUP(Performance!G10,$M$6:$AR$12,15)","v":9.2349999999999994},{"$f":"VLOOKUP(Performance!G10,$M$6:$AR$12,25)","v":2.8028},4,{"$f":"C9*(Performance!G15/Data!$B$3)*(Performance!G11/Data!$C$3)^3","v":628.63807692307694},{"$f":"D9*(Performance!G15/Data!$B$3)^2*(Performance!G11/Data!$C$3)^2*($AB$17/$AB$19)","v":8.5498162568457285},{"$f":"E9*(Performance!G15/Data!$B$3)^3*(Performance!G11/Data!$C$3)^5*($AB$17/$AB$19)","v":2.4980405975066464},null,null,null,160,1506,1351,1215,1068,910,768,633,495,269,0,4.0000000000000001E-3,3.3769999999999998,6.2039999999999997,8.8819999999999997,11.445,13.499000000000001,14.565,15.31,14.596,14.332000000000001,5.1660000000000004,4.7569999999999997,4.42,4.03,3.5960000000000001,3.194,2.7709999999999999,2.3519999999999999,1.67,1.35]
[null,5,{"$f":"VLOOKUP(Performance!G10,$M$6:$AR$12,6)","v":560},{"$f":"VLOOKUP(Performance!G10,$M$6:$AR$12,16)","v":11.911},{"$f":"VLOOKUP(Performance!G10,$M$6:$AR$12,26)","v":2.5240999999999998},5,{"$f":"C10*(Performance!G15/Data!$B$3)*(Performance!G11/Data!$C$3)^3","v":539.10769230769233},{"$f":"D10*(Performance!G15/Data!$B$3)^2*(Performance!G11/Data!$C$3)^2*($AB$17/$AB$19)","v":11.027272488932264},{"$f":"E10*(Performance!G15/Data!$B$3)^3*(Performance!G11/Data!$C$3)^5*($AB$17/$AB$19)","v":2.2496447381784379},null,null,null,200,2292,2077,1854,1621,1491,1281,930,689,217,0,5.0000000000000001E-3,3.077,5.9349999999999996,8.657,10.026,11.846,14.135,15.198,15.276999999999999,16.021999999999998,7.67,7.1210000000000004,6.524,5.867,5.4829999999999997,4.9029999999999996,4.0279999999999996,3.355,1.78,1.518]
[null,6,{"$f":"VLOOKUP(Performance!G10,$M$6:$AR$12,7)","v":463},{"$f":"VLOOKUP(Performance!G10,$M$6:$AR$12,17)","v":14.180999999999999},{"$f":"VLOOKUP(Performance!G10,$M$6:$AR$12,27)","v":2.2269000000000001},6,{"$f":"C11*(Performance!G15/Data!$B$3)*(Performance!G11/Data!$C$3)^3","v":445.7265384615385},{"$f":"D11*(Performance!G15/Data!$B$3)^2*(Performance!G11/Data!$C$3)^2*($AB$17/$AB$19)","v":13.128851579678317},{"$f":"E11*(Performance!G15/Data!$B$3)^3*(Performance!G11/Data!$C$3)^5*($AB$17/$AB$19)","v":1.9847604561822287},null,null,null,250,3237,2940,2616,2292,1967,1645,1368,948,207,0,2E-3,3.1059999999999999,5.9690000000000003,8.4209999999999994,10.529,12.401,13.647,14.856,15.111000000000001,15.731,9.968,9.3629999999999995,8.641,7.8570000000000002,6.9980000000000002,6.01,5.2389999999999999,4.2130000000000001,3.4430000000000001,2.8490000000000002]
[null,7,{"$f":"VLOOKUP(Performance!G10,$M$6:$AR$12,8)","v":374},{"$f":"VLOOKUP(Performance!G10,$M$6:$AR$12,18)","v":15.391},{"$f":"VLOOKUP(Performance!G10,$M$6:$AR$12,28)","v":1.9064000000000001},7,{"$f":"C12*(Performance!G15/Data!$B$3)*(Performance!G11/Data!$C$3)^3","v":360.04692307692312},{"$f":"D12*(Performance!G15/Data!$B$3)^2*(Performance!G11/Data!$C$3)^2*($AB$17/$AB$19)","v":14.249076557564981},{"$f":"E12*(Performance!G15/Data!$B$3)^3*(Performance!G11/Data!$C$3)^5*($AB$17/$AB$19)","v":1.6991096742852401}]
[null,8,{"$f":"VLOOKUP(Performance!G10,$M$6:$AR$12,9)","v":281},{"$f":"VLOOKUP(Performance!G10,$M$6:$AR$12,19)","v":15.981},{"$f":"VLOOKUP(Performance!G10,$M$6:$AR$12,29)","v":1.5636000000000001},8,{"$f":"C13*(Performance!G15/Data!$B$3)*(Performance!G11/Data!$C$3)^3","v":270.51653846153846},{"$f":"D13*(Performance!G15/Data!$B$3)^2*(Performance!G11/Data!$C$3)^2*($AB$17/$AB$19)","v":14.795301960005585},{"$f":"E13*(Performance!G15/Data!$B$3)^3*(Performance!G11/Data!$C$3)^5*($AB$17/$AB$19)","v":1.393583658577634},null,null,null,null,"T","T","A","OA"]
[null,9,{"$f":"VLOOKUP(Performance!G10,$M$6:$AR$12,10)","v":155},{"$f":"VLOOKUP(Performance!G10,$M$6:$AR$12,20)","v":15.92},{"$f":"VLOOKUP(Performance!G10,$M$6:$AR$12,30)","v":1.18},9,{"$f":"C14*(Performance!G15/Data!$B$3)*(Performance!G11/Data!$C$3)^3","v":149.21730769230771},{"$f":"D14*(Performance!G15/Data!$B$3)^2*(Performance!G11/Data!$C$3)^2*($AB$17/$AB$19)","v":14.738827808227828},{"$f":"E14*(Performance!G15/Data!$B$3)^3*(Performance!G11/Data!$C$3)^5*($AB$17/$AB$19)","v":1.0516939863914094},null,null,1,63,2500,20.5,20.5,3.5000000000000003E-2,null,"AMCA TEST 02/25/06 - 22638-A1",null,null,null,null,{"$f":"Performance!I12","v":0},{"$f":"X14/100","v":0},null,"M=",28.965]
[null,10,{"$f":"VLOOKUP(Performance!G10,$M$6:$AR$12,11)","v":0},{"$f":"VLOOKUP(Performance!G10,$M$6:$AR$12,21)","v":15.042999999999999},{"$f":"VLOOKUP(Performance!G10,$M$6:$AR$12,31)","v":0.88409000000000004},10,{"$f":"C15*(Performance!G15/Data!$B$3)*(Performance!G11/Data!$C$3)^3","v":0},{"$f":"D15*(Performance!G15/Data!$B$3)^2*(Performance!G11/Data!$C$3)^2*($AB$17/$AB$19)","v":13.92689615070171},{"$f":"E15*(Performance!G15/Data!$B$3)^3*(Performance!G11/Data!$C$3)^5*($AB$17/$AB$19)","v":0.78795943765150955},null,null,2,90,2400,20.5,20.5,5.7000000000000002E-2,null,"AMCA TEST 09/11/22 - 39029-A1",null,null,null,null,{"$f":"Performance!I11","v":70},{"$f":"X15+459.67","v":529.67000000000007},null,"R=",21.84]
[null,null,null,null,null,null,null,null,null,null,null,3,125,2600,20.5,20.5,0.11,null,"AMCA TEST 03/06/2026 - 44759-A1"]
[null,"Operating Point",null,null,null,null,null,null,null,null,null,4,160,2500,20.5,20.5,0.188,null,"AMCA TEST 02/27/06 - 22641-A1",null,null,null,null,null,{"$f":"29.922-0.1084*Y14+1.635*10^(-4)*Y14^2-1.348*10^(-7)*Y14^3","v":29.922000000000001},null,null,{"$f":"AB14*Y17/AB15/Y15","v":7.4921444453181177E-2}]
[null,"SP",{"$f":"Performance!G12","v":807},{"$f":"Performance!G13","v":2.944},null,"BHP",{"$f":"Performance!G12","v":807},{"$f":"Performance!G14","v":2.9415938854217529},null,null,null,5,200,2500,20.5,20.5,0.307,null,"AMCA -22642 -A1 02/27/2006"]
[null,null,null,null,null,null,null,null,null,null,null,6,250,2500,20.5,20.5,0.47899999999999998,null,"AMCA - 22637-A1 02/27/2006",null,null,null,null,null,null,null,"SRO=",7.4999999999999997E-2]
[]
[null,1,{"$f":"B21+1","v":2},{"$f":"C21+1","v":3},4,5,6,7,8,9,10,11,12,13,14,15,16,17,18,{"$f":"S21+1","v":19},{"$f":"T21+1","v":20},null,null,null,null,null,"CORR.=",{"$f":"AB19/AB17","v":1.0010485055032263}]
["SIZE",{"$f":"B27","v":"A"},"B","D","E","F","G","J","N","P","H","NB","BCD","AD","Q","X1","X2","X3","X4","X5","X6"]
[{"$f":"VLOOKUP(Performance!G10,$A$28:$V35,1)","v":125},{"$f":"VLOOKUP($A$23,$A$28:$V35,2)","v":4.9400000000000004},{"$f":"VLOOKUP($A$23,$A$28:$V35,3)","v":6.44},{"$f":"VLOOKUP($A$23,$A$28:$V35,4)","v":7.25},{"$f":"VLOOKUP($A$23,$A$28:$V35,5)","v":12.54},{"$f":"VLOOKUP($A$23,$A$28:$V35,6)","v":11.38},{"$f":"VLOOKUP($A$23,$A$28:$V35,7)","v":17.72},{"$f":"VLOOKUP($A$23,$A$28:$V35,8)","v":6},{"$f":"VLOOKUP($A$23,$A$28:$V35,9)","v":23.5},{"$f":"VLOOKUP($A$23,$A$28:$V35,10)","v":4.5599999999999996},{"$f":"VLOOKUP($A$23,$A$28:$V35,11)","v":9.75},{"$f":"VLOOKUP($A$23,$A$28:$V35,12)","v":6},{"$f":"VLOOKUP($A$23,$A$28:$V35,13)","v":10.9375},{"$f":"VLOOKUP($A$23,$A$28:$V35,14)","v":3},{"$f":"VLOOKUP($A$23,$A$28:$V35,15)","v":35.8125},{"$f":"VLOOKUP($A$23,$A$28:$V35,16)","v":3},{"$f":"VLOOKUP($A$23,$A$28:$V35,17)","v":16.5},{"$f":"VLOOKUP($A$23,$A$28:$V35,18)","v":35.0625},{"$f":"VLOOKUP($A$23,$A$28:$V35,19)","v":22.5},{"$f":"VLOOKUP($A$23,$A$28:$V35,20)","v":27},{"$f":"VLOOKUP($A$23,$A$28:$V35,21)","v":41.8125}]
[]
[2]
[null,1,{"$f":"B26+1","v":2},{"$f":"C26+1","v":3},4,5,6,7,8,9,10,11,12,13,14,15,16,17,18,{"$f":"S26+1","v":19},{"$f":"T26+1","v":20}]
["Size","A","B","D","E","F","G","J","N","P","H","NB","BCD","AD","Q","X1","X2","X3","X4","X5","X6",null,null,804,3.0000000000000001E-3,3.1909999999999998]
[63,2.5,6.27,4.75,11.81,10.83,14,3.5,23.5,2.25,9.25,4,10.4375,3,35.5625,3,16.5,34.563000000000002,22.5,27,{"$f":"O28+6","v":41.5625},null,null,728,3.2669999999999999,3.0049999999999999]
[90,3.56,6.24,5.88,12.16,11.06,15.75,4.5599999999999996,23.5,3.16,9.5,4,10.6875,3,35.6875,3,16.5,34.8125,22.5,27,41.6875,null,null,649,6.3250000000000002,2.8220000000000001]
[125,4.9400000000000004,6.44,7.25,12.54,11.38,17.72,6,23.5,4.5599999999999996,9.75,6,10.9375,3,35.8125,3,16.5,35.0625,22.5,27,41.8125,null,null,568,9.2460000000000004,2.6080000000000001]
[160,6.31,6.65,8.6300000000000008,12.98,11.73,19.690000000000001,7.38,23.5,6,10.06,6,11.25,3,35.96875,3,16.5,35.375,22.5,27,41.96875,null,null,491,11.582000000000001,2.387]
[200,7.88,6.59,10.25,13.44,12.13,22,9,23.5,7.5,10.38,8,11.5625,3,36.125,3,16.5,35.6875,22.5,27,42.125,null,null,408,13.529,2.1480000000000001]
[250,9.8800000000000008,7.06,12.75,13.84,12.5,24.75,11.5,23.5,9.3800000000000008,10.81,8,12,3,36.375,3,16.5,36.125,22.5,27,42.375,null,null,327,14.68,1.865]
[null,null,null,null,null,null,null,null,null,null,null,null,null,null,null,null,null,null,null,null,null,null,null,250,15.214,1.591]
[null,null,null,null,null,null,null,null,null,null,null,null,null,null,null,null,null,null,null,null,null,null,null,155,15.323,1.2769999999999999]
[null,null,null,null,null,null,null,null,null,null,null,null,null,null,null,null,null,null,null,null,null,null,null,0,14.628,0.76500000000000001]
[]
[null,"Min","Max","min","max","min","max "]
[null,"cfm","cfm","sp","sp","rpm","rpm"]
[null,1,{"$f":"B40+1","v":2},{"$f":"C40+1","v":3},{"$f":"D40+1","v":4},{"$f":"E40+1","v":5},{"$f":"F40+1","v":6}]
["SIZE",{"$f":"B46","v":"A"},"B","D","E","F","G"]
[{"$f":"VLOOKUP(Performance!G10,$A$47:$G$52,1)","v":125},{"$f":"VLOOKUP(A42,$A$47:$G$52,2)","v":10},{"$f":"VLOOKUP(A42,$A$47:$G$52,3)","v":1300},{"$f":"VLOOKUP(A42,$A$47:$G$52,4)","v":0.1},{"$f":"VLOOKUP(A42,$A$47:$G$52,5)","v":26},{"$f":"VLOOKUP(A42,$A$47:$G$52,6)","v":10},{"$f":"VLOOKUP(A42,$A$47:$G$52,7)","v":3540}]
[]
[]
[null,1,{"$f":"B45+1","v":2},{"$f":"C45+1","v":3},{"$f":"D45+1","v":4},{"$f":"E45+1","v":5},{"$f":"F45+1","v":6}]
["Size","A","B","D","E","F","G"]
[63,10,320,0.1,24,10,3540]
[90,10,690,0.1,24,10,3540]
[125,10,1300,0.1,26,10,3540]
[160,10,2500,0.1,27,10,3540]
[200,10,2900,0.1,27,10,3540]
[250,10,5800,0.1,24,10,3540]
[]
[]
["Arr.9"]
[null,1,{"$f":"B56+1","v":2},{"$f":"C56+1","v":3},4,5,6,7,8,9,10,11,12,13,14,15,16,17,18,{"$f":"S56+1","v":19},{"$f":"T56+1","v":20}]
["SIZE",{"$f":"B62","v":"A"},"B","D","E","F","G","J","N","P","H","NB","BCD","AD","Q","X1","X2","X3","X4","X5","X6"]
[{"$f":"VLOOKUP(Performance!G10,$A$63:$V68,1)","v":125},{"$f":"VLOOKUP($A$58,$A$63:$V68,2)","v":4.9400000000000004},{"$f":"VLOOKUP($A$58,$A$63:$V68,3)","v":4.5599999999999996},{"$f":"VLOOKUP($A$58,$A$63:$V68,4)","v":7.25},{"$f":"VLOOKUP($A$58,$A$63:$V68,5)","v":11.38},{"$f":"VLOOKUP($A$58,$A$63:$V68,6)","v":12.56},{"$f":"VLOOKUP($A$58,$A$63:$V68,7)","v":12.06},{"$f":"VLOOKUP($A$58,$A$63:$V68,8)","v":17.75},{"$f":"VLOOKUP($A$58,$A$63:$V68,9)","v":13},{"$f":"VLOOKUP($A$58,$A$63:$V68,10)","v":9.1300000000000008},{"$f":"VLOOKUP($A$58,$A$63:$V68,11)","v":21},{"$f":"VLOOKUP($A$58,$A$63:$V68,12)","v":6},{"$f":"VLOOKUP($A$58,$A$63:$V68,13)","v":6},{"$f":"VLOOKUP($A$58,$A$63:$V68,14)","v":3},{"$f":"VLOOKUP($A$58,$A$63:$V68,15)","v":22.97},{"$f":"VLOOKUP($A$58,$A$63:$V68,16)","v":0},{"$f":"VLOOKUP($A$58,$A$63:$V68,17)","v":0},{"$f":"VLOOKUP($A$58,$A$63:$V68,18)","v":0},{"$f":"VLOOKUP($A$58,$A$63:$V68,19)","v":0},{"$f":"VLOOKUP($A$58,$A$63:$V68,20)","v":0},{"$f":"VLOOKUP($A$58,$A$63:$V68,21)","v":0}]
[]
[]
[null,1,{"$f":"B61+1","v":2},{"$f":"C61+1","v":3},4,5,6,7,8,9,10,11,12,13,14,15,16,17,18,{"$f":"S61+1","v":19},{"$f":"T61+1","v":20}]
["Size","A","B","D","E","F","G","J","N","P","H","NB","BCD","AD","Q","X1","X2","X3","X4","X5","X6"]
[63,2.5,2.25,4.75,10.81,11.81,11.65,13.97,11.88,9,21,4,3.63,3,22.97]
[90,3.53,3.16,5.88,11.06,12.16,11.94,15.75,12.38,9,21,4,4.75,3,22.84]
[125,4.9400000000000004,4.5599999999999996,7.25,11.38,12.56,12.06,17.75,13,9.1300000000000008,21,6,6,3,22.97,null,null,null,null,null,null,null," ","System Curve"]
[160,6.31,5.94,8.6300000000000008,11.75,13,12.28,19.690000000000001,13.69,9.25,21,6,7.5,3,23.38,null,null,null,null,null,null,1,1037.5714111328125,4.8666121285089918]
[200,7.88,7.5,10.25,12.13,13.44,13.47,22,14.38,9.44,21,8,9,3,23.34,null,null,null,null,null,null,2,922.28570556640625,3.8452244049028712]
[250,9.8800000000000008,9.3800000000000008,12.75,12.5,13.84,13.84,24.75,15.19,9.6300000000000008,21,8,11.5,3,23.16,null,null,null,null,null,null,3,807,2.9440000057220459]
[null,null,null,null,null,null,null,null,null,null,null,null,null,null,null,null,null,null,null,null,null,4,691.71429443359375,2.1629386919730478]
[null,null,null,null,null,null,null,null,null,null,null,null,null,null,null,null,null,null,null,null,null,5,576.4285888671875,1.5020407583146167]
[null,"Fan Weight",null,"Arr.9",null,"Motor Weight",null,null,null,null,null,null,null,null,null,null,null,null,null,null,null,6,461.14285278320313,0.96130608532135464]
[null,null,null,"[Lb]",null,9,{"$f":"VLOOKUP(F72,F73:G91,2)","v":5},"[Lb]",null,null,null,null,null,null,null,null,null,null,null,null,null,7,345.85714721679688,0.54073467299326194]
[null,null,63,225,null,1,0.25,18,null,null,null,null,null,null,null,null,null,null,null,null,null,8,230.57142639160156,0.24032652133033866]
[null,null,90,225,null,2,0.33,20,null,null,null,null,null,null,null,null,null,null,null,null,null,9,115.28571319580078,6.0081630332584665E-2]
[null,null,125,230,null,3,0.5,22,null,null,null,null,null,null,null,null,null,null,null,null,null,10,0,0]
[null,null,160,240,null,4,0.75,26]
[null,null,200,245,null,5,1,38]
[null,null,250,255,null,6,1.5,35]
[null,null,null,null,null,7,2,42]
[null,null,null,null,null,8,3,96]
[null,null,"MOD.STAND","SHORT","LONG",9,5,110]
[null,null,null,"[Lb]","[Lb]",10,7.5,158]
[null,null,63,270,270,11,10,196]
[null,null,90,276,276,12,15,266]
[null,null,125,278,278,13,20,290]
[null,null,160,281,281,14,25,380]
[null,null,200,286,286,15,30,422]
[null,null,250,290,290,16,40,462]
[null,null,null,null,null,17,50,588]
[null,null,null,null,null,18,60,834]
[null,null,null,null,null,19,75,912]
[]
[null,{"$f":"N2","v":125},{"$f":"VLOOKUP(B93,B94:E99,2)","v":"Maximum motor frame 256T"}]
[null,63,"Maximum motor frame 256T"]
[null,90,"Maximum motor frame 256T"]
[null,125,"Maximum motor frame 256T"]
[null,160,"Maximum motor frame 256T"]
[null,200,"Maximum motor frame 256T"]
[null,250,"Maximum motor frame 256T"]
[]
[null,null,"ARR 4 WEIGHTS","LBS"]
[null,null,63,177]
[null,null,90,180]
[null,null,125,183]
[null,null,160,187]
[null,null,200,190]
[null,null,250,192]
[]
[]
[]
[]
[]
[]
[]
[]
[]
[]
[]
[]
["Belt drive loss"]
[0,0.25,null,0.25]
[0.3,0.23,null,0.33]
[0.4,0.2,null,0.5]
[0.6,0.17,null,0.75]
[0.8,0.15,null,1]
[1,0.13800000000000001,null,1.5]
[2,0.12,null,2]
[3,0.1,null,3]
[4,9.1999999999999998E-2,null,5]
[6,8.5000000000000006E-2,null,7.5]
[8,0.08,null,10]
[10,7.4999999999999997E-2,null,15]
[20,7.0000000000000007E-2,null,20]
[30,6.6000000000000003E-2,null,25]
[40,6.4000000000000001E-2,null,30]
[60,6.0999999999999999E-2,null,40]
[80,0.06,null,50]
[100,0.06,null,60]
[200,0.06,null,75]
[600,0.06,null,100]
[null,null,null,125]
[null,null,null,150]
[2.9415938854217529,0.10116812586784363,{"$f":"A143*(1+B143)","v":3.23918942587418},200]
[null,null,null,250]
[null,null,null,300]
[null,null,null,350]
[null,null,null,400]
[null,null,null,450]
[null,null,null,500]
[]
[]
[]
[]
[]
["DIRECT DRIVE SIZES"]
[]
[null,1,{"$f":"B157+1","v":2},3,4,5,6,7,8,9,10,11,12,13,14]
["SIZE",{"$f":"B163","v":"A"},{"$f":"C163","v":"B"},"C","D","E","F4","G","H4","L","U4","Z","AA","AB","AC"]
[{"$f":"VLOOKUP(Performance!G10,A164:N169,1)","v":125},{"$f":"VLOOKUP($A$159,A164:S169,2)","v":4.9400000000000004},{"$f":"VLOOKUP($A$159,A164:O169,3)","v":4.5599999999999996},{"$f":"VLOOKUP($A$159,A164:O169,4)","v":7.25},{"$f":"VLOOKUP($A$159,A164:O169,5)","v":11.38},{"$f":"VLOOKUP($A$159,A164:O169,6)","v":12.5},{"$f":"VLOOKUP($A$159,A164:O169,7)","v":24.78},{"$f":"VLOOKUP($A$159,A164:O169,8)","v":6.49},{"$f":"VLOOKUP($A$159,A164:O169,9)","v":20.13},{"$f":"VLOOKUP($A$159,A164:O169,10)","v":17.75},{"$f":"VLOOKUP($A$159,A164:O169,11)","v":8.75},{"$f":"VLOOKUP($A$159,A164:O169,12)","v":6},{"$f":"VLOOKUP($A$159,A164:O169,13)","v":6},{"$f":"VLOOKUP($A$159,A164:O169,14)","v":3},{"$f":"VLOOKUP($A$159,A164:O169,15)","v":29.75}]
[]
[2]
[null,1,{"$f":"B162+1","v":2},3,4,5,6,7,8,9,10,11,12,13,14]
["Size","A","B","C","D","E","F4","G","H4","L","U4","Z","AA","AB","AC"]
[63,2.5,2.25,4.75,10.81,11.81,24.53,6.31,20.13,14,8.25,4,3.5,3,29.25]
[90,3.5,3.16,5.88,11.06,12.13,24.66,6.3,20.13,15.75,8.56,4,4.5599999999999996,3,29.5]
[125,4.9400000000000004,4.5599999999999996,7.25,11.38,12.5,24.78,6.49,20.13,17.75,8.75,6,6,3,29.75]
[160,6.31,5.94,8.6300000000000008,11.75,13,24.94,6.71,20.13,19.690000000000001,9.06,6,7.38,3,30.06]
[200,7.88,7.5,10.25,12.13,13.44,25.09,6.66,20.13,22,9.3800000000000008,8,9,3,30.38]
[250,9.8800000000000008,9.3800000000000008,12.75,12.5,13.88,25.31,6.61,20.13,24.75,9.81,8,11.5,3,30.81]

{"sheet":"Data1","index":8,"n_rows":137,"n_cols":43,"rows_kept":137,"cut":false,"hidden":true,"merged":[[18,18,18,21],[3,13,3,22],[3,23,3,32],[3,33,3,42]]}
[]
[null,null,null,null,null," DERIVED SPEEDS AND FAN SIZES",null,null,null,null,null,null,6,{"$f":"VLOOKUP(M2,L14:M19,2)","v":250},{"$f":"CONCATENATE(\"PRVS \",N2)","v":"PRVS 250"},null,null,null,"M.K. 2026  Version 14.1",null,null,"Copyright M.K. Plastics July 06, 2026"]
[null,{"$f":"VLOOKUP($N$2,$M$14:$R$20,2)","v":2500},{"$f":"VLOOKUP($N$2,$M$14:$R$20,3)","v":20.5},{"$f":"VLOOKUP($N$2,$M$14:$R$20,5)","v":0.47899999999999998},null,null,{"$f":"N2","v":250},{"$f":"VLOOKUP(G3,M14:Q19,3)","v":20.5},1222]
[null,"No.","CFM","SP","BHP","No.","CFM","SP-CFM","BHP-CFM",null,null,null,null,"CFM",null,null,null,null,null,null,null,null,null,"SP",null,null,null,null,null,null,null,null,null,"BHP"]
[null,null,null,null,null,null,null,null,null,null,null,null,null,1,{"$f":"N5+1","v":2},3,4,5,6,7,8,9,10,11,12,13,14,15,16,17,18,19,20,21,22,23,24,25,26,27,28,29,30]
[null,1,{"$f":"VLOOKUP($N$2,$M$6:$AR$12,2)","v":3237},{"$f":"VLOOKUP($N$2,$M$6:$AR$12,12)","v":2E-3},{"$f":"VLOOKUP($N$2,$M$6:$AR$12,22)","v":9.968},1,{"$f":"C6*($I$3/$B$3)*($H$3/$C$3)^3","v":1582.2456},{"$f":"D6*($I$3/$B$3)^2*($H$3/$C$3)^2*($AB$17/$AB$19)","v":4.7735037550431669E-4},{"$f":"E6*($I$3/$B$3)^3*($H$3/$C$3)^5*($AB$17/$AB$19)","v":1.1629110559158058},null,null,null,63,221,199,183,155,138,125,102,71,33,0,5.0000000000000001E-3,2.3029999999999999,3.8610000000000002,6.3760000000000003,7.984,9.1509999999999998,10.813000000000001,12.426,13.452,13.458,1.173,1.129,1.0940000000000001,1.0369999999999999,1.0109999999999999,0.996,0.89200000000000002,0.80200000000000005,0.64700000000000002,0.58299999999999996]
[null,2,{"$f":"VLOOKUP($N$2,$M$6:$AR$12,3)","v":2940},{"$f":"VLOOKUP($N$2,$M$6:$AR$12,13)","v":3.1059999999999999},{"$f":"VLOOKUP($N$2,$M$6:$AR$12,23)","v":9.3629999999999995},2,1437.0720000000001,0.7413251331582037,1.0923290746929863,null,null,null,90,332,297,259,222,187,150,112,74,46,0,3.0000000000000001E-3,2.0110000000000001,4.0960000000000001,6.0019999999999998,8.0020000000000007,9.8249999999999993,10.909000000000001,11.596,11.999000000000001,11.975,1.4686999999999999,1.3801000000000001,1.3028999999999999,1.2208000000000001,1.1463000000000001,1.0599000000000001,0.92935000000000001,0.80862000000000001,0.71372999999999998,0.61977000000000004]
[null,3,{"$f":"VLOOKUP($N$2,$M$6:$AR$12,4)","v":2616},{"$f":"VLOOKUP($N$2,$M$6:$AR$12,14)","v":5.9690000000000003},{"$f":"VLOOKUP($N$2,$M$6:$AR$12,24)","v":8.641},3,1278.7008000000001,1.424652195692633,1.0080973549526964,null,null,null,125,924,833,744,653,560,463,374,281,155,0,1E-3,3.3860000000000001,6.2190000000000003,9.2349999999999994,11.911,14.180999999999999,15.391,15.981,15.92,15.042999999999999,3.6055000000000001,3.2816999999999998,3.056,2.8028,2.5240999999999998,2.2269000000000001,1.9064000000000001,1.5636000000000001,1.18,0.88409000000000004]
[null,4,{"$f":"VLOOKUP($N$2,$M$6:$AR$12,5)","v":2292},{"$f":"VLOOKUP($N$2,$M$6:$AR$12,15)","v":8.4209999999999994},{"$f":"VLOOKUP($N$2,$M$6:$AR$12,25)","v":7.8570000000000002},4,1120.3296,2.0098837560609253,0.9166324404424645,null,null,null,160,1506,1351,1215,1068,910,768,633,495,269,0,4.0000000000000001E-3,3.3769999999999998,6.2039999999999997,8.8819999999999997,11.445,13.499000000000001,14.565,15.31,14.596,14.332000000000001,5.1660000000000004,4.7569999999999997,4.42,4.03,3.5960000000000001,3.194,2.7709999999999999,2.3519999999999999,1.67,1.35]
[null,5,{"$f":"VLOOKUP($N$2,$M$6:$AR$12,6)","v":1967},{"$f":"VLOOKUP($N$2,$M$6:$AR$12,16)","v":10.529},{"$f":"VLOOKUP($N$2,$M$6:$AR$12,26)","v":6.9980000000000002},5,961.46960000000001,2.5130110518424753,0.81641769354923854,null,null,null,200,2292,2077,1854,1621,1491,1281,930,689,217,0,5.0000000000000001E-3,3.077,5.9349999999999996,8.657,10.026,11.846,14.135,15.198,15.276999999999999,16.021999999999998,7.67,7.1210000000000004,6.524,5.867,5.4829999999999997,4.9029999999999996,4.0279999999999996,3.355,1.78,1.518]
[null,6,{"$f":"VLOOKUP($N$2,$M$6:$AR$12,7)","v":1645},{"$f":"VLOOKUP($N$2,$M$6:$AR$12,17)","v":12.401},{"$f":"VLOOKUP($N$2,$M$6:$AR$12,27)","v":6.01},6,804.07600000000002,2.9598110033145155,0.70115323495726256,null,null,null,250,3237,2940,2616,2292,1967,1645,1368,948,207,0,2E-3,3.1059999999999999,5.9690000000000003,8.4209999999999994,10.529,12.401,13.647,14.856,15.111000000000001,15.731,9.968,9.3629999999999995,8.641,7.8570000000000002,6.9980000000000002,6.01,5.2389999999999999,4.2130000000000001,3.4430000000000001,2.8490000000000002]
[null,7,{"$f":"VLOOKUP($N$2,$M$6:$AR$12,8)","v":1368},{"$f":"VLOOKUP($N$2,$M$6:$AR$12,18)","v":13.647},{"$f":"VLOOKUP($N$2,$M$6:$AR$12,28)","v":5.2389999999999999},7,668.67840000000001,3.2572002872537045,0.6112049580600829]
[null,8,{"$f":"VLOOKUP($N$2,$M$6:$AR$12,9)","v":948},{"$f":"VLOOKUP($N$2,$M$6:$AR$12,19)","v":14.856},{"$f":"VLOOKUP($N$2,$M$6:$AR$12,29)","v":4.2130000000000001},8,463.38240000000002,3.5457585892460641,0.49150725106072329,null,null,null,null,"T","T","A","OA"]
[null,9,{"$f":"VLOOKUP($N$2,$M$6:$AR$12,10)","v":207},{"$f":"VLOOKUP($N$2,$M$6:$AR$12,20)","v":15.111000000000001},{"$f":"VLOOKUP($N$2,$M$6:$AR$12,30)","v":3.4430000000000001},9,101.1816,3.6066207621228643,0.40167563859531691,null,null,1,63,2500,20.5,20.5,3.5000000000000003E-2,null,"AMCA TEST 02/25/06 - 22638-A1",null,null,null,null,{"$f":"'Optimize Size'!G13","v":0},{"$f":"X14/100","v":0},null,"M=",28.965]
[null,10,{"$f":"VLOOKUP($N$2,$M$6:$AR$12,11)","v":0},{"$f":"VLOOKUP($N$2,$M$6:$AR$12,21)","v":15.731},{"$f":"VLOOKUP($N$2,$M$6:$AR$12,31)","v":2.8490000000000002},10,0,3.7545993785292029,0.33237696612200346,null,null,2,90,2400,20.5,20.5,5.7000000000000002E-2,null,"AMCA TEST 11/09/22 - 39029-A1",null,null,null,null,{"$f":"'Optimize Size'!G12","v":70},{"$f":"X15+459.67","v":529.67000000000007},null,"R=",21.84]
[null,"Operating Point",null,null,"vp",null,null,null,{"$f":"MAX(I6:I15)","v":1.1629110559158058},null,null,3,125,2600,20.5,20.5,0.11,null,"AMCA TEST 03/06/2026 - 44759-A1"]
[null,"SP",{"$f":"'Optimize Size'!G10","v":807},{"$f":"'Optimize Size'!G11","v":2.944},{"$f":"(C17/D3/4005)^2","v":0.17695832620089225},"BHP",807,0.70329457521438599,"vp",null,null,4,160,2500,20.5,20.5,0.188,null,"AMCA TEST 02/27/06 - 22641-A1",null,null,null,null,null,{"$f":"29.922-0.1084*Y14+1.635*10^(-4)*Y14^2-1.348*10^(-7)*Y14^3","v":29.922000000000001},null,null,{"$f":"AB14*Y17/AB15/Y15","v":7.4921444453181177E-2}]
[null,{"$f":"C17/D3","v":1684.7599164926933},{"$f":"D17","v":2.944},{"$f":"(C17*C18)/(6343.3*H17)","v":0.53254807777000079},{"$f":"(C17*C18+C17*E17)/(6343.3*H17)","v":0.56455854531880567},null,null,{"$f":"D17","v":2.944},{"$f":"(G19/D3/4005)^2","v":3.271770874047137E-2},null,null,5,200,2500,20.5,20.5,0.307,null,"AMCA -22642 -A1 02/27/2006"]
[null,null,null,{"$f":"H3*I3*0.261799387","v":6558.3364437370001},null,{"$f":"G19/D3","v":724.42588726513577},347,{"$f":"(G19*H18)/(6343.3*H17)","v":0.22898907433232993},{"$f":"(G19*H18+G19*I18)/(6343.3*H17)","v":0.23153391055473321},null,null,6,250,2500,20.5,20.5,0.47899999999999998,null,"AMCA - 22637-A1 02/27/2006",null,null,null,null,null,null,null,"SRO=",7.4999999999999997E-2]
["CFM","SP","CFM+10","SP1"]
[{"$f":"C17","v":807},{"$f":"D17","v":2.944},{"$f":"A21*1.05","v":847.35},9.9582023620605469,null,null,null,null,null,null,null,null,null,null,null,null,null,null,null,null,null,null,null,null,null,null,"CORR.=",{"$f":"AB19/AB17","v":1.0010485055032263}]
["Belt drive loss",null,null,null,null,null,null,null,null,null,null,null,{"$f":"VLOOKUP(N22,G23:H28,2)","v":3},125]
[0,0.25,null,0.25,null,null,63,1]
[0.3,0.23,null,0.33,null,null,90,{"$f":"H23+1","v":2}]
[0.4,0.2,null,0.5,null,null,125,{"$f":"H24+1","v":3}]
[0.6,0.17,null,0.75,null,null,160,{"$f":"H25+1","v":4}]
[0.8,0.15,null,1,null,null,200,{"$f":"H26+1","v":5}]
[1,0.13800000000000001,null,1.5,null,null,250,6]
[2,0.12,null,2]
[3,0.1,null,3,null,null,null,null,null,null,"OB1","OB2","OB3","OB4","OB5","OB6","OB7","OB8","LwA","dBA","SONES",null,null,null,null,"FAN SIZES","T.E"]
[4,9.1999999999999998E-2,null,5,null,null,null,null,null,null,{"$f":"'Sound calculation-1'!D37","v":90.380880952797398},{"$f":"'Sound calculation-1'!E37","v":93.14017651410343},{"$f":"'Sound calculation-1'!F37","v":96.470753660576548},{"$f":"'Sound calculation-1'!G37","v":90.429185171745175},{"$f":"'Sound calculation-1'!H37","v":82.843438907973834},{"$f":"'Sound calculation-1'!I37","v":77.835144180668749},{"$f":"'Sound calculation-1'!J37","v":73.4551896754528},{"$f":"'Sound calculation-1'!K37","v":69.37242654387245},{"$f":"'Sound calculation-1'!L37","v":91.764264959317018},{"$f":"S31-20*LOG(5)+2.5","v":80.284864872596643},{"$f":"'loudness index'!K13","v":32.94},null,null,null,null,{"$f":"'Optimize Size'!A25","v":125},0.27244656577926013]
[6,8.5000000000000006E-2,null,7.5,null,null,null,null,null,null,null,null,null,null,null,null,null,null,null,null,null,null,null,null,null,{"$f":"'Optimize Size'!A26","v":160},0.39085649998610522]
[8,0.08,null,10,null,null,null,null,null,null,null,null,null,null,null,null,null,null,null,null,null,null,null,null,null,{"$f":"'Optimize Size'!A27","v":200},0.49282999027694335]
[10,7.4999999999999997E-2,null,15,null,null,null,null,null,null,null,null,null,null,null,null,null,null,null,null,null,null,null,null,null,{"$f":"'Optimize Size'!A28","v":250},0.56455854531880567]
[20,7.0000000000000007E-2,null,20,null,null,null,null,null,null,null,null,null,null,null,null,null,null,null,null,null,null,null,null,null,{"$f":"'Optimize Size'!A29","v":" "}," "]
[30,6.6000000000000003E-2,null,25,null,null,null,null,null,null,null,null,null,null,null,null,null,null,null,null,null,null,null,null,null,{"$f":"'Optimize Size'!A30","v":" "}," "]
[40,6.4000000000000001E-2,null,30,null,null,null,null,null,null,null,null,null,null,null,null,null,null,null,null,null,null,null,null,null,{"$f":"'Optimize Size'!A31","v":" "}," "]
[60,6.0999999999999999E-2,null,40,null,null,null,null,null,null,null,null,null,null,null,null,null,null,null,null,null,null,null,null,null,{"$f":"'Optimize Size'!A32","v":" "}," "]
[80,0.06,null,50,null,null,null,null,null,null,null,null,null,null,null,null,null,null,null,null,null,null,null,null,null,{"$f":"'Optimize Size'!A33","v":" "}," "]
[100,0.06,null,60,null,null,null,null,null,null,null,null,null,null,null,null,null,null,null,null,null,null,null,null,null,{"$f":"'Optimize Size'!A34","v":" "}," "]
[200,0.06,null,75]
[600,0.06,null,100]
[null,null,null,125]
[null,null,null,150]
[4.5427355766296387,5.9321578592061996E-2,{"$f":"A45*(1+B45)","v":4.8122178221616299},200]
[null,null,null,250]
[null,null,null,300]
[null,null,null,350]
[null,null,null,400]
[null,null,null,450]
[null,null,null,500]
[]
[]
[]
[]
[]
[]
[]
[]
[]
[]
[]
[]
[]
[null,null,null,null,null,null,null,null,null,null,null,null,"Min","Max","min","max","min","max "]
[null,{"$f":"'Optimize Size'!E19","v":0.85},null,null,null,null,null,null,null,null,null,null,"cfm","cfm","sp","sp","rpm","rpm"]
[null,{"$f":"'Optimize Size'!G19","v":1.1499999999999999},null,null,null,null,null,null,null,null,null,null,1,{"$f":"M67+1","v":2},{"$f":"N67+1","v":3},{"$f":"O67+1","v":4},{"$f":"P67+1","v":5},{"$f":"Q67+1","v":6}]
[null,null,null,null,null,null,null,null,null,null,null,"SIZE",{"$f":"M73","v":"A"},"B","D","E","F","G"]
[null,null,null,null,null,null,null,null,null,null,null,{"$f":"N2","v":250},{"$f":"VLOOKUP(N2,$L$74:$R$79,2)","v":10},{"$f":"VLOOKUP($N$2,$L$74:$R$79,3)","v":5800},{"$f":"VLOOKUP($N$2,$L$74:$R$79,4)","v":0.1},{"$f":"VLOOKUP($N$2,$L$74:$R$79,5)","v":24},{"$f":"VLOOKUP($N$2,$L$74:$R$79,6)","v":10},{"$f":"VLOOKUP($N$2,$L$74:$R$79,7)","v":3540}]
[]
[null,"Fan Weight",null,null,null,"Motor Weight"]
[null,null,null,"[Lb]",null,1,{"$f":"VLOOKUP(F72,F73:G91,2)","v":0.25},"[Lb]",null,null,null,null,1,{"$f":"M72+1","v":2},{"$f":"N72+1","v":3},{"$f":"O72+1","v":4},{"$f":"P72+1","v":5},{"$f":"Q72+1","v":6}]
[null,null,63,225,null,1,0.25,18,1,{"$f":"VLOOKUP(K73,G73:I91,3)","v":9},5,"Size","A","B","D","E","F","G"]
[null,null,90,225,null,2,0.33,20,2,null,null,63,10,320,0.1,24,10,3540]
[null,null,125,230,null,3,0.5,22,3,null,null,90,10,690,0.1,24,10,3540]
[null,null,160,240,null,4,0.75,26,4,null,null,125,10,1300,0.1,26,10,3540]
[null,null,200,245,null,5,1,38,5,null,null,160,10,2500,0.1,27,10,3540]
[null,null,250,255,null,6,1.5,35,6,null,null,200,10,2900,0.1,27,10,3540]
[null,null,null,null,null,7,2,42,7,null,null,250,10,5800,0.1,24,10,3540]
[null,null,null,null,null,8,3,96,8]
[null,null,null,null,null,9,5,110,9]
[null,null,null,null,null,10,7.5,158,10]
[null,null,null,null,null,11,10,196,11]
[null,null,null,null,null,12,15,266,12]
[null,null,null,null,null,13,20,290,13]
[null,null,null,null,null,14,25,380,14]
[null,null,null,null,null,15,30,422,15]
[null,null,null,null,null,16,40,462,16]
[null,null,null,null,null,17,50,588,17]
[null,null,null,null,null,18,60,834,18]
[null,null,null,null,null,19,75,912,19]
[]
[]
[]
[]
[]
[]
[]
[]
[]
[]
[]
[]
[]
[]
[]
[]
[]
[]
[]
[]
[]
[]
[]
[]
[21,"UNKNOWN"]
[1,690,860]
[2,850,1170]
[3,870,1760]
[4,1140,3500]
[5,1150,3450]
[6,1160]
[7,1165," "]
[8,1170]
[9,1175]
[10,1180]
[11,1725]
[12,1735]
[13,1740]
[14,1745]
[15,1750]
[16,1755]
[17,1760]
[18,1765]
[19,1770]
[20,3450]
[21,"UNKNOWN"]

{"sheet":"AMCA 207 Tables","index":9,"n_rows":481,"n_cols":13,"rows_kept":481,"cut":false,"hidden":true,"merged":[[339,1,339,4],[447,0,447,3],[448,1,448,3],[362,0,362,4],[363,1,363,4],[387,0,387,4],[388,1,388,4],[417,0,417,4],[418,1,418,4],[306,0,307,2],[308,0,308,2],[309,1,309,2],[337,0,337,4],[338,0,338,4],[273,0,273,12],[274,0,275,0],[274,1,274,3],[274,4,274,5],[274,6,274,8],[274,9,274,11],[183,0,183,3],[211,0,211,3],[244,0,244,12],[245,0,246,0],[245,1,245,3],[245,4,245,6],[245,7,245,9],[245,10,245,12],[149,0,149,12],[150,0,151,0],[150,1,150,3],[150,4,150,6],[150,7,150,9],[150,10,150,12],[121,0,122,0],[121,1,121,3],[121,4,121,6],[121,7,121,9],[121,10,121,12],[91,0,92,0],[91,1,91,3],[91,4,91,6],[91,7,91,9],[120,0,120,12],[59,0,61,0],[59,1,59,3],[59,4,59,6],[59,7,59,9],[90,0,90,9],[0,0,0,4],[1,1,1,4],[29,0,29,4],[30,1,30,4],[58,0,58,9]]}
["Table A1.  EISA 2007 Nominal Motor Effciency"]
["Motor Power (hp)","ODP"]
[null,2,4,6,8]
[1,0.77,0.85499999999999998,0.82499999999999996,0.755]
[1.5,0.84,0.86499999999999999,0.86499999999999999,0.77]
[2,0.85499999999999998,0.86499999999999999,0.875,0.86499999999999999]
[3,0.85499999999999998,0.89500000000000002,0.88500000000000001,0.875]
[5,0.86499999999999999,0.89500000000000002,0.89500000000000002,0.88500000000000001]
[7.5,0.88500000000000001,0.91,0.90200000000000002,0.89500000000000002]
[10,0.89500000000000002,0.91700000000000004,0.91700000000000004,0.90200000000000002]
[15,0.90200000000000002,0.93,0.91700000000000004,0.90200000000000002]
[20,0.91,0.93,0.92400000000000004,0.91]
[25,0.91700000000000004,0.93600000000000005,0.93,0.91]
[30,0.91700000000000004,0.94099999999999995,0.93600000000000005,0.91700000000000004]
[40,0.92400000000000004,0.94099999999999995,0.94099999999999995,0.91700000000000004]
[50,0.93,0.94499999999999995,0.94099999999999995,0.92400000000000004]
[60,0.93600000000000005,0.95,0.94499999999999995,0.93]
[75,0.93600000000000005,0.95,0.94499999999999995,0.94099999999999995]
[100,0.93600000000000005,0.95399999999999996,0.95,0.94099999999999995]
[125,0.94099999999999995,0.95399999999999996,0.95,0.94099999999999995]
[150,0.94099999999999995,0.95799999999999996,0.95399999999999996,0.94099999999999995]
[200,0.95,0.95799999999999996,0.95399999999999996,0.94099999999999995]
[250,0.95,0.95799999999999996,0.95399999999999996,0.95]
[300,0.95399999999999996,0.95799999999999996]
[350,0.95399999999999996,0.95799999999999996]
[400,0.95799999999999996,0.95799999999999996]
[450,0.95799999999999996,0.96199999999999997]
[500,0.95799999999999996,0.96199999999999997]
[]
["Table A1.  EISA 2007 Nominal Motor Effciency"]
["Motor Power (hp)","TEFC"]
[null,2,4,6,8]
[1,0.77,0.85499999999999998,0.82499999999999996,0.72]
[1.5,0.84,0.86499999999999999,0.875,0.755]
[2,0.85499999999999998,0.86499999999999999,0.88500000000000001,0.81499999999999995]
[3,0.86499999999999999,0.89500000000000002,0.89500000000000002,0.82499999999999996]
[5,0.88500000000000001,0.89500000000000002,0.89500000000000002,0.84]
[7.5,0.89500000000000002,0.91700000000000004,0.91,0.84]
[10,0.90200000000000002,0.91700000000000004,0.91,0.875]
[15,0.91,0.92400000000000004,0.91700000000000004,0.875]
[20,0.91,0.93,0.91700000000000004,0.88500000000000001]
[25,0.91700000000000004,0.93600000000000005,0.93,0.88500000000000001]
[30,0.91700000000000004,0.93600000000000005,0.93,0.90200000000000002]
[40,0.92400000000000004,0.94099999999999995,0.94099999999999995,0.90200000000000002]
[50,0.93,0.94499999999999995,0.94099999999999995,0.91]
[60,0.93600000000000005,0.95,0.94499999999999995,0.91]
[75,0.93600000000000005,0.95399999999999996,0.94499999999999995,0.92400000000000004]
[100,0.94099999999999995,0.95399999999999996,0.95,0.92400000000000004]
[125,0.95,0.95399999999999996,0.95,0.93]
[150,0.95,0.95799999999999996,0.95799999999999996,0.93]
[200,0.95399999999999996,0.96199999999999997,0.95799999999999996,0.93600000000000005]
[250,0.95799999999999996,0.96199999999999997,0.95799999999999996,0.94099999999999995]
[300,0.95799999999999996,0.96199999999999997]
[350,0.95799999999999996,0.96199999999999997]
[400,0.95799999999999996,0.96199999999999997]
[450,0.95799999999999996,0.96199999999999997]
[500,0.95799999999999996,0.96199999999999997]
[]
["Table A2.  IEC60034-30 Nominal Motor Efficiency"]
["Motor Power (kW)","IE1",null,null,"IE2",null,null,"IE3"]
[null,"2 Pole","4 Pole","6 Pole","2 Pole","4 Pole","6 Pole","2 Pole","4 Pole","6 Pole"]
[null,"50 Hz","50 Hz","50 Hz","50 Hz","50 Hz","50 Hz","50 Hz","50 Hz","50 Hz"]
[1,72.099999999999994,72.099999999999994,70,77.400000000000006,79.599999999999994,75.900000000000006,80.7,82.5,78.900000000000006]
[1.1000000000000001,75,75,72.900000000000006,79.599999999999994,81.400000000000006,78.099999999999994,82.7,84.1,81]
[1.5,77.2,77.2,75.2,81.3,82.8,79.8,84.2,85.3,82.5]
[2.2000000000000002,79.7,79.7,77.7,83.2,84.3,81.8,85.9,86.7,84.3]
[3,81.5,81.5,79.7,84.6,85.5,83.3,87.1,87.7,85.6]
[4,83.1,83.1,81.400000000000006,85.8,86.6,84.6,88.1,88.6,86.8]
[5.5,84.7,84.7,83.1,87,87.7,86,89.2,89.6,88]
[7.5,86,86,84.7,88.1,88.7,87.2,90.1,90.4,89.1]
[11,87.6,87.6,86.4,89.4,89.8,88.7,91.2,91.4,90.3]
[15,88.7,88.7,87.7,90.3,90.6,89.7,91.9,92.1,91.2]
[18.5,89.3,89.3,88.6,90.9,91.2,90.4,92.4,92.6,91.7]
[22,89.9,89.9,89.2,91.3,91.6,90.9,92.7,93,92.2]
[30,90.7,90.7,90.2,92,92.3,91.7,93.3,93.6,92.9]
[37,91.2,91.2,90.8,92.5,92.7,92.2,93.7,93.9,93.3]
[45,91.7,91.7,91.4,92.9,93.1,92.7,94,94.2,93.7]
[55,92.1,92.1,91.9,93.2,93.5,93.1,94.3,94.6,94.1]
[75,92.7,92.7,92.6,93.8,94,93.7,94.7,95,94.6]
[90,93,93,92.9,94.1,94.2,94,95,95.2,94.9]
[110,93.3,93.3,93.3,94.3,94.5,94.3,95.2,95.4,95.1]
[132,93.5,93.5,93.5,94.6,94.7,94.6,95.4,95.6,95.4]
[160,93.8,93.8,93.8,94.8,94.9,94.8,95.6,95.8,95.6]
[200,94,94,94,95,95.1,95,95.8,96,95.8]
[220,94,94,94,95,95.1,95,95.8,96,95.8]
[250,94,94,94,95,95.1,95,95.8,96,95.8]
[300,94,94,94,95,95.1,95,95.8,96,95.8]
[330,94,94,94,95,95.1,95,95.8,96,95.8]
[375,94,94,94,95,95.1,95,95.8,96,95.8]
[]
["Table A3.  GB 18613-2012 Nominal Motor Efficiency"]
["Motor Power (kW)","Grade 1",null,null,"Grade 2",null,null,"Grade 3"]
[null,"2 Pole","4 Pole","6 Pole","2 Pole","4 Pole","6 Pole","2 Pole","4 Pole","6 Pole"]
[1,84.9,85.6,83.1,80.7,82.5,78.900000000000006,77.400000000000006,79.599999999999994,75.900000000000006]
[1.1000000000000001,86.7,87.4,84.1,82.7,84.1,81,79.599999999999994,81.400000000000006,78.099999999999994]
[1.5,87.5,88.1,86.2,84.2,85.3,82.5,81.3,82.8,79.8]
[2.2000000000000002,89.1,89.7,87.1,85.9,86.7,84.3,83.2,84.3,81.8]
[3,89.7,90.3,88.7,87.1,87.7,85.6,84.6,85.5,83.3]
[4,90.3,90.9,89.7,88.1,88.6,86.8,85.8,86.6,84.6]
[5.5,91.5,92.1,89.5,89.2,89.6,88,87,87.7,86]
[7.5,92.1,92.6,90.2,90.1,90.4,89.1,88.1,88.7,87.2]
[11,93,93.6,91.5,91.2,91.4,90.3,89.4,89.8,88.7]
[15,93.4,94,92.5,91.9,92.1,91.2,90.3,90.6,89.7]
[18.5,93.8,94.3,93.1,92.4,92.6,91.7,90.9,91.2,90.4]
[22,94.4,94.7,93.9,92.7,93,92.2,91.3,91.6,90.9]
[30,94.5,95,94.3,93.3,93.6,92.9,92,92.3,91.7]
[37,94.8,95.3,94.6,93.7,93.9,93.3,92.5,92.7,92.2]
[45,95.1,95.6,94.9,94,94.2,93.7,92.9,93.1,92.7]
[55,95.4,95.8,95.2,94.3,94.6,94.1,93.2,93.5,93.1]
[75,95.6,96,95.4,94.7,95,94.6,93.8,94,93.7]
[90,95.8,96.2,95.6,95,95.2,94.9,94.1,94.2,94]
[110,96,96.4,95.6,95.2,95.4,95.1,94.6,94.5,94.3]
[132,95,96.5,95.8,95.4,95.6,95.4,94.6,94.7,94.6]
[160,96.2,96.5,96,95.6,95.8,95.6,94.8,94.9,94.8]
[200,96.3,96.6,96.1,95.8,96,95.8,95,95.1,95]
[250,96.4,96.7,96.1,95.8,96,95.8,95,95.1,95]
[315,96.5,96.8,96.1,95.8,96,95.8,95,95.1,95]
[355,96.6,96.8,96.1,95.8,96,95.8,95,95.1,95]
[375,96.6,96.8,96.1,95.8,96,95.8,95,95.1,95]
[]
["Table B1. Polyphase Induction Motor Coefficients, VFD Driven (hp)"]
["HP","2 POLE",null,null,"4 POLE",null,null,"6 POLE",null,null,"8 POLE"]
[null,"a","b","c","a","b","c","a","b","c","a","b","c"]
[1,1.0290587089821184,1.7010581577560906E-2,{"$f":"1-(B124/(C124+1))","v":-1.1846609684108333E-2},1.0374399999999999,3.3369999999999997E-2,{"$f":"1-(E124/(F124+1))","v":-3.938569921712487E-3},1.0905912997124119,6.4569252594785076E-2,{"$f":"1-(H124/(I124+1))","v":-2.4443733514001531E-2},1.0905912997124119,6.4569252594785076E-2,{"$f":"1-(K124/(L124+1))","v":-2.4443733514001531E-2}]
[1.5,1.0299771331744125,1.6103178471842214E-2,{"$f":"1-(B125/(C125+1))","v":-1.3654080605707719E-2},1.0381199999999999,3.1196707536618764E-2,{"$f":"1-(E125/(F125+1))","v":-6.7138426769417503E-3},1.0848438439543235,5.9027745017881786E-2,{"$f":"1-(H125/(I125+1))","v":-2.437716958586944E-2},1.0848438439543235,5.9027745017881786E-2,{"$f":"1-(K125/(L125+1))","v":-2.437716958586944E-2}]
[2,1.0308955573667065,1.5195775366123527E-2,-1.5464782637536922E-2,1.0387999999999999,2.9020489849636892E-2,-9.5037078919508744E-3,1.0790963881962352,5.3486237440978489E-2,-2.4309905383734565E-2,1.0790963881962352,5.3486237440978489E-2,-2.4309905383734565E-2]
[3,1.0327324057512945,1.3380969154686151E-2,-1.9095914750353327E-2,1.04016,2.4668054475673148E-2,-1.5118989468500654E-2,1.0676014766800588,4.2403222287171902E-2,-2.4173231484835966E-2,1.0676014766800588,4.2403222287171902E-2,-2.4173231484835966E-2]
[5,1.0364061025204707,9.7513567318113972E-3,-2.6397335949050582E-2,1.04288,1.5963183727745658E-2,-2.6493889447343877E-2,1.0446116536477055,2.0237191979558734E-2,-2.3890975412152127E-2,1.0446116536477055,2.0237191979558734E-2,-2.3890975412152127E-2]
[7.5,1.0348922416940116,8.9161676043317383E-3,-2.5746513856904629E-2,1.04077,1.4463467280912556E-2,-2.5931473697714758E-2,1.042429389884002,1.7980813687747493E-2,-2.4016735745428175E-2,1.042429389884002,1.7980813687747493E-2,-2.4016735745428175E-2]
[10,1.0333783808675525,8.0809784768520795E-3,-2.5094613360251428E-2,1.0386599999999999,1.2963750834079454E-2,-2.5367392608829364E-2,1.0402471261202986,1.5724435395936251E-2,-2.4143054818606569E-2,1.0402471261202986,1.5724435395936251E-2,-2.4143054818606569E-2]
[15,1.0303506592146343,6.4106002218927618E-3,-2.3787566414208428E-2,1.03443,9.9643179404132511E-3,-2.4224303398637792E-2,1.0358825985928914,1.1211678812313771E-2,-2.4397384145675716E-2,1.0358825985928914,1.1211678812313771E-2,-2.4397384145675716E-2]
[20,1.0273229375617161,4.7402219669334441E-3,-2.2476173543220401E-2,1.0302100000000001,6.964885046747046E-3,-2.3084335212120166E-2,1.0315180710654845,6.6989222286912885E-3,-2.4653993650700645E-2,1.0315180710654845,6.6989222286912885E-3,-2.4653993650700645E-2]
[25,1.0265367998200667,4.7580121918819607E-3,-2.1675654599334182E-2,1.0288200000000001,6.4211833827768228E-3,-2.2255907354748361E-2,1.0297743857954778,6.2231264190406544E-3,-2.3405603347889326E-2,1.0297743857954778,6.2231264190406544E-3,-2.3405603347889326E-2]
[30,1.0257506620784176,4.7758024168304781E-3,-2.0875164002890356E-2,1.02742,5.8774817188066006E-3,-2.1416642357260374E-2,1.028030700525471,5.7473306093900204E-3,-2.2156031875897986E-2,1.028030700525471,5.7473306093900204E-3,-2.2156031875897986E-2]
[40,1.0241783865951188,4.8113828667275113E-3,-1.9274267846306925E-2,1.02464,4.7900783908661551E-3,-1.9755292210809738E-2,1.0245433299854576,4.7957389900887522E-3,-1.9653338712619206E-2,1.0245433299854576,4.7957389900887522E-3,-1.9653338712619206E-2]
[50,1.0226061111118203,4.8469633166245453E-3,-1.7673485061425964E-2,1.0218499999999999,3.7026750629257088E-3,-1.8080379168000649E-2,1.021055959445444,3.8441473707874836E-3,-1.7145900705539452E-2,1.021055959445444,3.8441473707874836E-3,-1.7145900705539452E-2]
[60,1.0222592723783495,4.4887785628977151E-3,-1.7691082463733965E-2,1.0209999999999999,3.4998956071213604E-3,-1.7439069470247537E-2,1.0205727134858866,3.98605499083111E-3,-1.6520805655221071E-2,1.0205727134858866,3.98605499083111E-3,-1.6520805655221071E-2]
[75,1.0217390142781433,3.9515014323074698E-3,-1.7717502110867756E-2,1.01972,3.1957264234148373E-3,-1.6471634738215446E-2,1.0198478445465504,4.1989164208965498E-3,-1.5583494335393855E-2,1.0198478445465504,4.1989164208965498E-3,-1.5583494335393855E-2]
[100,1.0208719174444665,3.0560395479903944E-3,-1.7761597751312586E-2,1.0175799999999999,2.6887777839039663E-3,-1.4851290396415751E-2,1.018639729647657,4.5536854710056156E-3,-1.4022191526824157E-2,1.018639729647657,4.5536854710056156E-3,-1.4022191526824157E-2]
[125,1.019970936000357,2.9929661760623523E-3,-1.6927306967090328E-2,1.01725,2.8575602516980924E-3,-1.4351429673312488E-2,1.019555448387369,4.5855543449009138E-3,-1.4901562119544964E-2,1.019555448387369,4.5855543449009138E-3,-1.4901562119544964E-2]
[150,1.0190699545562476,2.9298928041343103E-3,-1.6092911247252317E-2,1.01692,3.0263427194922184E-3,-1.3851737176551193E-2,1.0204711671270807,4.6174232187962119E-3,-1.5780876920777676E-2,1.0204711671270807,4.6174232187962119E-3,-1.5780876920777676E-2]
[200,1.0172679916680287,2.8037460602782262E-3,-1.4423804921527505E-2,1.0162599999999999,3.3600000000000001E-3,-1.285680114814225E-2,1.0223026046065045,4.6811609665868082E-3,-1.7539339170015156E-2,1.0223026046065045,4.6811609665868082E-3,-1.7539339170015156E-2]
[250,1.0172679916680287,2.8037460602782262E-3,-1.4423804921527505E-2,1.0162599999999999,3.3600000000000001E-3,-1.285680114814225E-2,1.0223026046065045,4.6811609665868082E-3,-1.7539339170015156E-2,1.0223026046065045,4.6811609665868082E-3,-1.7539339170015156E-2]
[300,1.0172679916680287,2.8037460602782262E-3,-1.4423804921527505E-2,1.0162599999999999,3.3600000000000001E-3,-1.285680114814225E-2,1.0223026046065045,4.6811609665868082E-3,-1.7539339170015156E-2,1.0223026046065045,4.6811609665868082E-3,-1.7539339170015156E-2]
[350,1.0172679916680287,2.8037460602782262E-3,-1.4423804921527505E-2,1.0162599999999999,3.3600000000000001E-3,-1.285680114814225E-2,1.0223026046065045,4.6811609665868082E-3,-1.7539339170015156E-2,1.0223026046065045,4.6811609665868082E-3,-1.7539339170015156E-2]
[400,1.0172679916680287,2.8037460602782262E-3,-1.4423804921527505E-2,1.0162599999999999,3.3600000000000001E-3,-1.285680114814225E-2,1.0223026046065045,4.6811609665868082E-3,-1.7539339170015156E-2,1.0223026046065045,4.6811609665868082E-3,-1.7539339170015156E-2]
[450,1.0172679916680287,2.8037460602782262E-3,-1.4423804921527505E-2,1.0162599999999999,3.3600000000000001E-3,-1.285680114814225E-2,1.0223026046065045,4.6811609665868082E-3,-1.7539339170015156E-2,1.0223026046065045,4.6811609665868082E-3,-1.7539339170015156E-2]
[500,1.0172679916680287,2.8037460602782262E-3,-1.4423804921527505E-2,1.0162599999999999,3.3600000000000001E-3,-1.285680114814225E-2,1.0223026046065045,4.6811609665868082E-3,-1.7539339170015156E-2,1.0223026046065045,4.6811609665868082E-3,-1.7539339170015156E-2]
[]
["Table B2. Polyphase Induction Motor Coefficients, VFD Driven (kW)"]
["kW","2 POLE",null,null,"4 POLE",null,null,"6 POLE",null,null,"8 POLE"]
[null,"a","b","c","a","b","c","a","b","c","a","b","c"]
[1,1.0296841238476484,1.6392671687875792E-2,{"$f":"1-(B153/(C153+1))","v":-1.3077083818107571E-2},1.0379070376490189,3.1890996825495017E-2,{"$f":"1-(E153/(F153+1))","v":-5.8301127173623346E-3},1.0866774826546253,6.0795679070566752E-2,{"$f":"1-(H153/(I153+1))","v":-2.439848134254774E-2},1.0866774826546253,6.0795679070566752E-2,{"$f":"1-(K153/(L153+1))","v":-2.439848134254774E-2}]
[1.1000000000000001,1.0299303501726602,1.614940007776354E-2,{"$f":"1-(B154/(C154+1))","v":-1.3561933012844474E-2},1.0380892170512896,3.1307560448288078E-2,{"$f":"1-(E154/(F154+1))","v":-6.5757848221861259E-3},1.0851366097972288,5.9310020202764255E-2,{"$f":"1-(H154/(I154+1))","v":-2.4380577075558074E-2},1.0851366097972288,5.9310020202764255E-2,{"$f":"1-(K154/(L154+1))","v":-2.4380577075558074E-2}]
[1.5,1.0309152554727075,1.5176313637314547E-2,-1.5503653526943717E-2,1.0388179346603734,2.8973814939460336E-2,-9.5669292823474805E-3,1.0789731183676434,5.3367384731554286E-2,-2.4308454967603366E-2,1.0789731183676434,5.3367384731554286E-2,-2.4308454967603366E-2]
[2.2000000000000002,1.0326388397477901,1.3473412366528804E-2,-1.8910636576551898E-2,1.0400931904762694,2.4889760299011784E-2,-1.4834210240155077E-2,1.0681870083658693,4.2967772656936846E-2,-2.4180263638143851E-2,1.0681870083658693,4.2967772656936846E-2,-2.4180263638143851E-2]
[3,1.0346086503478846,1.1527239485630815E-2,-2.2818377954894276E-2,1.0415506256944365,2.0222269281356293E-2,-2.0905597785180419E-2,1.0558600255066988,3.1082501714516916E-2,-2.4030592848759413E-2,1.0558600255066988,3.1082501714516916E-2,-2.4030592848759413E-2]
[3.7,1.0363322346229671,9.8243382148450707E-3,-2.62500074567249E-2,1.0428258815103326,1.6138214640907738E-2,-2.6263815773188037E-2,1.0450739155049245,2.068288963989948E-2,-2.3896771575773412E-2,1.0450739155049245,2.068288963989948E-2,-2.3896771575773412E-2]
[4,1.0361869376823238,9.6304446329269419E-3,-2.6303181714228296E-2,1.0425747616043206,1.5746066601394486E-2,-2.6412797336929694E-2,1.0442957227006813,1.9910531315328689E-2,-2.3909147554250776E-2,1.0442957227006813,1.9910531315328689E-2,-2.3909147554250776E-2]
[5.5,1.0349693552481745,8.9587107502355282E-3,-2.5779691696796947E-2,1.040876018678246,1.4539860343887968E-2,-2.5958722139740376E-2,1.0425405507727699,1.8095749847383991E-2,-2.4010316248791241E-2,1.0425405507727699,1.8095749847383991E-2,-2.4010316248791241E-2]
[7.5,1.0333459120026418,8.0630655733136426E-3,-2.5080619747683386E-2,1.0386110281101464,1.2931585333879281E-2,-2.5351606315842989E-2,1.0402003215355542,1.5676041223457726E-2,-2.4145770222713026E-2,1.0402003215355542,1.5676041223457726E-2,-2.4145770222713026E-2]
[11,1.03050488632296,6.4956865137003406E-3,-2.3854250078728878E-2,1.0346472946159726,1.0117104066364076E-2,-2.4284501718522478E-2,1.0361049203704269,1.1441551131586767E-2,-2.4384374174906132E-2,1.0361049203704269,1.1441551131586767E-2,-2.4384374174906132E-2]
[15,1.0273060766986244,4.7406035267178624E-3,-2.2459003938628541E-2,1.0301780444544386,6.9532238850533151E-3,-2.306444829659382E-2,1.0314806729899884,6.6887174928274683E-3,-2.462723090699348E-2,1.0314806729899884,6.6887174928274683E-3,-2.462723090699348E-2]
[18.5,1.0265684139383637,4.7572967672861758E-3,-2.1707846503083772E-2,1.0288712911018636,6.4430480609525692E-3,-2.2284661893310354E-2,1.029844507187033,6.242260298785318E-3,-2.3455829495016012E-2,1.029844507187033,6.242260298785318E-3,-2.3455829495016012E-2]
[22,1.0258307511781031,4.7739900078544902E-3,-2.0956714026886702E-2,1.0275645377492888,5.9328722368518242E-3,-2.1504084526371425E-2,1.0282083413840775,5.7958031047431677E-3,-2.2283388149115568E-2,1.0282083413840775,5.7958031047431677E-3,-2.2283388149115568E-2]
[30,1.0241446648689354,4.8121459862963487E-3,-1.923993351380382E-2,1.0245776729434031,4.7667560674786924E-3,-1.9716931075090205E-2,1.0244685338344655,4.775329518361111E-3,-1.9599609721254074E-2,1.0244685338344655,4.775329518361111E-3,-1.9599609721254074E-2]
[37,1.0226693393484141,4.8455324674329756E-3,-1.7737857516482158E-2,1.0219641662382533,3.7464044192772007E-3,-1.814976545745739E-2,1.0211962022285546,3.8824151302768103E-3,-1.7246827753259364E-2,1.0211962022285546,3.8824151302768103E-3,-1.7246827753259364E-2]
[45,1.0222481140276749,4.4772551928046267E-3,-1.7691648808373595E-2,1.0209706961051401,3.493371871277789E-3,-1.741648198559731E-2,1.0205571666989839,3.9906203834330495E-3,-1.6500698292603477E-2,1.0205571666989839,3.9906203834330495E-3,-1.6500698292603477E-2]
[55,1.0217831827495638,3.9971147722592778E-3,-1.771525805762808E-2,1.019825939348137,3.2215495444623079E-3,-1.6551069712581912E-2,1.0199093839113733,4.1808450751805388E-3,-1.5663054033872914E-2,1.0199093839113733,4.1808450751805388E-3,-1.5663054033872914E-2]
[75,1.0208525934456651,3.0546867678954231E-3,-1.7743705216232364E-2,1.0175751148553083,2.6923977832132239E-3,-1.4842754472855546E-2,1.0186593697278654,4.5543689857272304E-3,-1.4041052607615123E-2,1.0186593697278654,4.5543689857272304E-3,-1.4041052607615123E-2]
[90,1.0201279434906174,3.0039575143339949E-3,-1.7072700309897604E-2,1.0173088180139649,2.8281477573103759E-3,-1.4439832277383324E-2,1.0193958727356767,4.5800007877877923E-3,-1.474832460955855E-2,1.0193958727356767,4.5800007877877923E-3,-1.474832460955855E-2]
[110,1.0191617435505536,2.9363185095854245E-3,-1.6177921510589943E-2,1.0169537555588406,3.009147722773246E-3,-1.390277234033932E-2,1.0203778767460914,4.6141765238685408E-3,-1.5691297804265369E-2,1.0203778767460914,4.6141765238685408E-3,-1.5691297804265369E-2]
[132,1.0180989236164835,2.8619156043619967E-3,-1.51935254246236E-2,1.0165631868582039,3.2082476847824027E-3,-1.33122302415698E-2,1.0214580811575478,4.6517698335573647E-3,-1.6728494219220735E-2,1.0214580811575478,4.6517698335573647E-3,-1.6728494219220735E-2]
[150,1.0172679916680287,2.8037460602782262E-3,-1.4423804921527505E-2,1.0162578331467969,3.3639076550804705E-3,-1.2850696933927264E-2,1.0223026046065045,4.6811609665868082E-3,-1.7539339170015156E-2,1.0223026046065045,4.6811609665868082E-3,-1.7539339170015156E-2]
[160,1.0172679916680287,2.8037460602782262E-3,-1.4423804921527505E-2,1.0162578331467969,3.3639076550804705E-3,-1.2850696933927264E-2,1.0223026046065045,4.6811609665868082E-3,-1.7539339170015156E-2,1.0223026046065045,4.6811609665868082E-3,-1.7539339170015156E-2]
[185,1.0172679916680287,2.8037460602782262E-3,-1.4423804921527505E-2,1.0162578331467969,3.3639076550804705E-3,-1.2850696933927264E-2,1.0223026046065045,4.6811609665868082E-3,-1.7539339170015156E-2,1.0223026046065045,4.6811609665868082E-3,-1.7539339170015156E-2]
[200,1.0172679916680287,2.8037460602782262E-3,-1.4423804921527505E-2,1.0162578331467969,3.3639076550804705E-3,-1.2850696933927264E-2,1.0223026046065045,4.6811609665868082E-3,-1.7539339170015156E-2,1.0223026046065045,4.6811609665868082E-3,-1.7539339170015156E-2]
[220,1.0172679916680287,2.8037460602782262E-3,-1.4423804921527505E-2,1.0162578331467969,3.3639076550804705E-3,-1.2850696933927264E-2,1.0223026046065045,4.6811609665868082E-3,-1.7539339170015156E-2,1.0223026046065045,4.6811609665868082E-3,-1.7539339170015156E-2]
[250,1.0172679916680287,2.8037460602782262E-3,-1.4423804921527505E-2,1.0162578331467969,3.3639076550804705E-3,-1.2850696933927264E-2,1.0223026046065045,4.6811609665868082E-3,-1.7539339170015156E-2,1.0223026046065045,4.6811609665868082E-3,-1.7539339170015156E-2]
[300,1.0172679916680287,2.8037460602782262E-3,-1.4423804921527505E-2,1.0162578331467969,3.3639076550804705E-3,-1.2850696933927264E-2,1.0223026046065045,4.6811609665868082E-3,-1.7539339170015156E-2,1.0223026046065045,4.6811609665868082E-3,-1.7539339170015156E-2]
[330,1.0172679916680287,2.8037460602782262E-3,-1.4423804921527505E-2,1.0162578331467969,3.3639076550804705E-3,-1.2850696933927264E-2,1.0223026046065045,4.6811609665868082E-3,-1.7539339170015156E-2,1.0223026046065045,4.6811609665868082E-3,-1.7539339170015156E-2]
[375,1.0172679916680287,2.8037460602782262E-3,-1.4423804921527505E-2,1.0162578331467969,3.3639076550804705E-3,-1.2850696933927264E-2,1.0223026046065045,4.6811609665868082E-3,-1.7539339170015156E-2,1.0223026046065045,4.6811609665868082E-3,-1.7539339170015156E-2]
[]
["Table C1. VFD Performance Coefficienct (hp capacity)"]
["HP","d","e","f"]
[1,0.98029999999999995,0.04,-1.3100000000000001E-2]
[1.5,0.97994999999999999,3.8550000000000001E-2,-1.1800000000000001E-2]
[2,0.97960000000000003,3.7100000000000001E-2,-1.0500000000000001E-2]
[3,0.97889999999999999,3.4200000000000001E-2,-7.9000000000000008E-3]
[5,0.97750000000000004,2.8400000000000002E-2,-2.7000000000000001E-3]
[7.5,0.97809999999999997,2.5300000000000003E-2,-4.0000000000000007E-4]
[10,0.97870000000000001,2.2200000000000001E-2,1.9E-3]
[15,0.98185,1.985E-2,6.9999999999999999E-4]
[20,0.98499999999999999,1.7500000000000002E-2,-5.0000000000000001E-4]
[25,0.98619999999999997,1.6500000000000001E-2,-3.1999999999999997E-3]
[30,0.98740000000000006,1.55E-2,-5.8999999999999999E-3]
[40,0.98765000000000003,1.695E-2,-3.8E-3]
[50,0.9879,1.84E-2,-1.6999999999999999E-3]
[60,0.97189999999999999,1.4500000000000001E-2,1.18E-2]
[75,0.9919,1.7899999999999999E-2,-1.2999999999999999E-3]
[100,0.98240000000000005,1.26E-2,1.4E-3]
[125,0.98292500000000005,1.1900000000000001E-2,-1.0000000000000005E-4]
[150,0.98345000000000005,1.12E-2,-1.6000000000000001E-3]
[200,0.98450000000000004,9.7999999999999997E-3,-4.5999999999999999E-3]
[250,0.98450000000000004,9.7999999999999997E-3,-4.5999999999999999E-3]
[300,0.98450000000000004,9.7999999999999997E-3,-4.5999999999999999E-3]
[350,0.98450000000000004,9.7999999999999997E-3,-4.5999999999999999E-3]
[400,0.98450000000000004,9.7999999999999997E-3,-4.5999999999999999E-3]
[450,0.98450000000000004,9.7999999999999997E-3,-4.5999999999999999E-3]
[500,0.98450000000000004,9.7999999999999997E-3,-4.5999999999999999E-3]
[]
["Table C2. VFD Performance Coefficients (kW capacity)"]
["kW","d","e","f"]
[1,0.98006166219839141,3.9012600536193029E-2,-1.2214745308310994E-2]
[1.1000000000000001,0.9799678284182306,3.8623860589812334E-2,-1.1866219839142092E-2]
[1.5,0.97959249329758713,3.7068900804289547E-2,-1.0472117962466488E-2]
[2.2000000000000002,0.97893565683646111,3.4347721179624667E-2,-8.0324396782841829E-3]
[3,0.97818498659517428,3.1237801608579089E-2,-5.2442359249329764E-3]
[3.7,0.97752815013404826,2.8516621983914209E-2,-2.8045576407506696E-3]
[4,0.97758686327077748,2.7951206434316356E-2,-2.3670241286863273E-3]
[5.5,0.97806943699731896,2.545790884718499E-2,-5.1715817694369948E-4]
[7.5,0.97873378016085788,2.2174798927613943E-2,1.8871313672922253E-3]
[11,0.98168954423592492,1.9969705093833778E-2,7.6112600536193007E-4]
[15,0.98502573726541554,1.7478552278820378E-2,-5.5790884718498663E-4]
[18.5,0.98615174262734584,1.6540214477211795E-2,-3.0914209115281508E-3]
[22,0.98727774798927614,1.5601876675603216E-2,-5.6249329758713143E-3]
[30,0.98765536193029491,1.6981099195710454E-2,-3.7549597855227883E-3]
[37,0.98788994638069705,1.8341689008042894E-2,-1.784450402144771E-3]
[45,0.97232895442359246,1.4572922252010725E-2,1.1519034852546914E-2]
[55,0.9902020554066131,1.7611349419124216E-2,-1.8784629133154415E-4]
[75,0.98241126005361934,1.2584986595174263E-2,1.3678284182305626E-3]
[90,0.98283351206434322,1.2021983914209116E-2,1.6139410187667553E-4]
[110,0.98339651474530831,1.1271313672922252E-2,-1.4471849865951741E-3]
[132,0.98401581769436997,1.0445576407506702E-2,-3.2166219839142095E-3]
[150,0.98450000000000004,9.7999999999999997E-3,-4.5999999999999999E-3]
[160,0.98450000000000004,9.7999999999999997E-3,-4.5999999999999999E-3]
[185,0.98450000000000004,9.7999999999999997E-3,-4.5999999999999999E-3]
[200,0.98450000000000004,9.7999999999999997E-3,-4.5999999999999999E-3]
[220,0.98450000000000004,9.7999999999999997E-3,-4.5999999999999999E-3]
[250,0.98450000000000004,9.7999999999999997E-3,-4.5999999999999999E-3]
[300,0.98450000000000004,9.7999999999999997E-3,-4.5999999999999999E-3]
[330,0.98450000000000004,9.7999999999999997E-3,-4.5999999999999999E-3]
[375,0.98450000000000004,9.7999999999999997E-3,-4.5999999999999999E-3]
[]
["Table D1. Polyphase Induction Motor Coefficients, DOL (hp)"]
["HP","2 POLE",null,null,"4 POLE",null,null,"6 POLE",null,null,"8 POLE"]
[null,"a","b","c","a","b","c","a","b","c","a","b","c"]
[1,1.1346000000000001,8.6738167906186978E-2,{"$f":"1-(B248/(C248+1))","v":-4.4041732872995842E-2},1.12541,9.1318214383920848E-2,{"$f":"1-(E248/(F248+1))","v":-3.1239087890899908E-2},1.1687285620318451,0.11466243314166571,{"$f":"1-(H248/(I248+1))","v":-4.8504486454965967E-2},1.1687285620318451,0.11466243314166571,{"$f":"1-(K248/(L248+1))","v":-4.8504486454965967E-2}]
[1.5,1.2931999999999999,8.1142483629434187E-2,{"$f":"1-(B249/(C249+1))","v":-0.19614206229199427},1.1206700000000001,8.4915245233653375E-2,{"$f":"1-(E249/(F249+1))","v":-3.2956265407300345E-2},1.158950925043136,0.10606458738136698,{"$f":"1-(H249/(I249+1))","v":-4.7814872897231631E-2},1.158950925043136,0.10606458738136698,{"$f":"1-(K249/(L249+1))","v":-4.7814872897231631E-2}]
[2,1.1240499704558535,7.5546799352681396E-2,-4.50962906796466E-2,1.11592,7.8512276083385901E-2,-3.4684560153974475E-2,1.149173288054427,9.7466741621068248E-2,-4.711445410817916E-2,1.149173288054427,9.7466741621068248E-2,-4.711445410817916E-2]
[3,1.1135030046530503,6.4355430799175814E-2,-4.6175903680006458E-2,1.10643,6.570633778285094E-2,-3.8212836663684246E-2,1.1296180140770089,8.0271050100470781E-2,-4.568016885387105E-2,1.1296180140770089,8.0271050100470781E-2,-4.568016885387105E-2]
[5,1.0924090730474438,4.197269369216465E-2,-4.8404703559515427E-2,1.08745,4.009446118178104E-2,-4.5530036535732066E-2,1.0905074661221728,4.5879667059275833E-2,-4.2670108683131813E-2,1.0905074661221728,4.5879667059275833E-2,-4.2670108683131813E-2]
[7.5,1.0888348126879779,3.989909103363961E-2,-4.7058144464475982E-2,1.0833999999999999,3.7453687604279112E-2,-4.4287579238184271E-2,1.0857869917956742,4.2170186849640849E-2,-4.1851902401738972E-2,1.0857869917956742,4.2170186849640849E-2,-4.1851902401738972E-2]
[10,1.0852605523285119,3.7825488375114562E-2,-4.5706204448365151E-2,1.0712699999999999,3.4812914026777178E-2,-3.5230605918278535E-2,1.0810665174691756,3.8460706640005858E-2,-4.1027850699351998E-2,1.0810665174691756,3.8460706640005858E-2,-4.1027850699351998E-2]
[15,1.0781120316095798,3.367828305806448E-2,-4.2986052120647544E-2,1.06318,2.953136687177332E-2,-3.2683446285340256E-2,1.0716255688161782,3.104174622073589E-2,-3.9361958663848062E-2,1.0716255688161782,3.104174622073589E-2,-3.9361958663848062E-2]
[20,1.0709635108906479,2.9531077741014392E-2,-4.0243984902858854E-2,1.06033,2.4249819716769459E-2,-3.522595717244803E-2,1.062184620163181,2.3622785801465915E-2,-3.7671918695637796E-2,1.062184620163181,2.3622785801465915E-2,-3.7671918695637796E-2]
[25,1.0694923844806872,2.9225034973615917E-2,-3.9123950680138186E-2,1.05749,2.2909351548753371E-2,-3.3806170995396068E-2,1.0596586949335201,2.2571605445197398E-2,-3.6268452293055864E-2,1.0596586949335201,2.2571605445197398E-2,-3.6268452293055864E-2]
[30,1.0680212580707267,2.891899220621744E-2,-3.8003250169059255E-2,1.0518000000000001,2.1568883380737286E-2,-2.9592832271101654E-2,1.0571327697038591,2.1520425088928884E-2,-3.4862097458139285E-2,1.0571327697038591,2.1520425088928884E-2,-3.4862097458139285E-2]
[40,1.0650790052508055,2.8306906671420492E-2,-3.57598479022323E-2,1.0461199999999999,1.8887947044705113E-2,-2.6727230442053607E-2,1.0520809192445368,1.9418064376391854E-2,-3.2040686750166358E-2,1.0520809192445368,1.9418064376391854E-2,-3.2040686750166358E-2]
[50,1.0621367524308842,2.769482113662354E-2,-3.3513773336103947E-2,1.04436,1.6207010708672941E-2,-2.7703990421886537E-2,1.0470290687852148,1.731570366385482E-2,-2.9207614720138109E-2,1.0470290687852148,1.731570366385482E-2,-2.9207614720138109E-2]
[60,1.0594575801250499,2.5853313010673128E-2,-3.2757380307867789E-2,1.04172,1.5562180379877466E-2,-2.5756984776981184E-2,1.0455305615221844,1.6912207553272079E-2,-2.8142403794885196E-2,1.0455305615221844,1.6912207553272079E-2,-2.8142403794885196E-2]
[75,1.0554388216662982,2.3091050821747512E-2,-3.161768526718034E-2,1.03732,1.4594934886684254E-2,-2.2398165348473498E-2,1.0432828006276385,1.6306963387397969E-2,-2.6543001486803552E-2,1.0432828006276385,1.6306963387397969E-2,-2.6543001486803552E-2]
[100,1.048740890901712,1.8487280506871488E-2,-2.9704455788376771E-2,1.03731,1.2982859064695568E-2,-2.4015352992019956E-2,1.0395365324700621,1.5298223110941117E-2,-2.3873093449186866E-2,1.0395365324700621,1.5298223110941117E-2,-2.3873093449186866E-2]
[125,1.0471342740742975,1.8133773438124362E-2,-2.8483978621239192E-2,1.03729,1.3317880069511831E-2,-2.3657058068336623E-2,1.0394796360934762,1.4627796595180455E-2,-2.4493552790187501E-2,1.0394796360934762,1.4627796595180455E-2,-2.4493552790187501E-2]
[150,1.045527657246883,1.7780266369377233E-2,-2.7262653633957967E-2,1.0372600000000001,1.3652901074328096E-2,-2.3289134673863066E-2,1.0394227397168905,1.3957370079419794E-2,-2.5114832624054007E-2,1.0394227397168905,1.3957370079419794E-2,-2.5114832624054007E-2]
[200,1.0423144235920543,1.7073252231882982E-2,-2.4817456662813209E-2,1.0372600000000001,1.4322943083960624E-2,-2.2613169772440767E-2,1.0393089469637187,1.2616517047898472E-2,-2.6359860289102421E-2,1.0393089469637187,1.2616517047898472E-2,-2.6359860289102421E-2]
[250,1.0423144235920543,1.7073252231882982E-2,-2.4817456662813209E-2,1.0372600000000001,1.4322943083960624E-2,-2.2613169772440767E-2,1.0393089469637187,1.2616517047898472E-2,-2.6359860289102421E-2,1.0393089469637187,1.2616517047898472E-2,-2.6359860289102421E-2]
[300,1.0423144235920543,1.7073252231882982E-2,-2.4817456662813209E-2,1.0372600000000001,1.4322943083960624E-2,-2.2613169772440767E-2,1.0393089469637187,1.2616517047898472E-2,-2.6359860289102421E-2,1.0393089469637187,1.2616517047898472E-2,-2.6359860289102421E-2]
[350,1.0423144235920543,1.7073252231882982E-2,-2.4817456662813209E-2,1.0372600000000001,1.4322943083960624E-2,-2.2613169772440767E-2,1.0393089469637187,1.2616517047898472E-2,-2.6359860289102421E-2,1.0393089469637187,1.2616517047898472E-2,-2.6359860289102421E-2]
[400,1.0423144235920543,1.7073252231882982E-2,-2.4817456662813209E-2,1.0372600000000001,1.4322943083960624E-2,-2.2613169772440767E-2,1.0393089469637187,1.2616517047898472E-2,-2.6359860289102421E-2,1.0393089469637187,1.2616517047898472E-2,-2.6359860289102421E-2]
[450,1.0423144235920543,1.7073252231882982E-2,-2.4817456662813209E-2,1.0372600000000001,1.4322943083960624E-2,-2.2613169772440767E-2,1.0393089469637187,1.2616517047898472E-2,-2.6359860289102421E-2,1.0393089469637187,1.2616517047898472E-2,-2.6359860289102421E-2]
[500,1.0423144235920543,1.7073252231882982E-2,-2.4817456662813209E-2,1.0372600000000001,1.4322943083960624E-2,-2.2613169772440767E-2,1.0393089469637187,1.2616517047898472E-2,-2.6359860289102421E-2,1.0393089469637187,1.2616517047898472E-2,-2.6359860289102421E-2]
[]
["Table D2. Polyphase Induction Motor Coefficients, DOL (kW)"]
["kW","2 POLE",null,null,null,null,"6 POLE",null,null,"8 POLE"]
[null,"a","b","c","b","c","a","b","c","a","b","c"]
[1,1.1310058781971124,8.2927701937567114E-2,{"$f":"1-(B277/(C277+1))","v":-4.4396478336941714E-2},8.6958015552371412E-2,{"$f":"1-(#REF!/(E277+1))","v":{"$error":"#REF!"}},1.1620703320180861,0.10880759983572502,{"$f":"1-(G277/(H277+1))","v":-4.803604537906514E-2},1.1620703320180861,0.10880759983572502,{"$f":"1-(J277/(K277+1))","v":-4.803604537906514E-2}]
[1.1000000000000001,1.1295920758106777,8.1427518485354566E-2,{"$f":"1-(B278/(C278+1))","v":-4.4537943137217706E-2},8.5241401839162984E-2,{"$f":"1-(#REF!/(E278+1))","v":{"$error":"#REF!"}},1.1594489816189684,0.1065025473530712,{"$f":"1-(G278/(H278+1))","v":-4.7850259714768306E-2},1.1594489816189684,0.1065025473530712,{"$f":"1-(J278/(K278+1))","v":-4.7850259714768306E-2}]
[1.5,1.1239368662649387,7.5426784676504391E-2,-4.5107749109137618E-2,7.8374946986329228E-2,{"$f":"1-(#REF!/(E279+1))","v":{"$error":"#REF!"}},1.1489635800224975,9.7282337422455942E-2,-4.7099311487545092E-2,1.1489635800224975,9.7282337422455942E-2,-4.7099311487545092E-2]
[2.2000000000000002,1.1140402495598956,6.4925500511016573E-2,-4.6120361495062934E-2,6.6358650993870144E-2,{"$f":"1-(#REF!/(E280+1))","v":{"$error":"#REF!"}},1.1306141272286736,8.1146970043879219E-2,-4.5754331793379288E-2,1.1306141272286736,8.1146970043879219E-2,-4.5754331793379288E-2]
[3,1.1027298304684174,5.2924032893316222E-2,-4.7302365621041398E-2,5.2625741288202639E-2,{"$f":"1-(#REF!/(E281+1))","v":{"$error":"#REF!"}},1.109643324035732,6.2706550182648702E-2,-4.4167201044367443E-2,1.109643324035732,6.2706550182648702E-2,-4.4167201044367443E-2]
[3.7,1.0928332137633743,4.2422748727828412E-2,-4.8358945636083561E-2,4.0609445295743563E-2,{"$f":"1-(#REF!/(E282+1))","v":{"$error":"#REF!"}},1.091293871241908,4.6571182804071971E-2,-4.2732581569856265E-2,1.091293871241908,4.6571182804071971E-2,-4.2732581569856265E-2]
[4,1.0918916198050546,4.1672493843477376E-2,-4.8210091231537522E-2,3.9712150797906763E-2,{"$f":"1-(#REF!/(E283+1))","v":{"$error":"#REF!"}},1.0898240730561382,4.5342637752787122E-2,-4.2552014714500208E-2,1.0898240730561382,4.5342637752787122E-2,-4.2552014714500208E-2]
[5.5,1.0890168795695592,4.0004716906325871E-2,-4.7126865740598323E-2,3.7588204220827467E-2,{"$f":"1-(#REF!/(E284+1))","v":{"$error":"#REF!"}},1.0860274449115013,4.235914160562762E-2,-4.1893721235665371E-2,1.0860274449115013,4.235914160562762E-2,-4.1893721235665371E-2]
[7.5,1.0851838925888988,3.7781014323457186E-2,-4.5677149235905157E-2,3.4756275451388395E-2,{"$f":"1-(#REF!/(E285+1))","v":{"$error":"#REF!"}},1.0809652740519853,3.8381146742748271E-2,-4.1010112175878133E-2,1.0809652740519853,3.8381146742748271E-2,-4.1010112175878133E-2]
[11,1.0784761653727426,3.3889534803437003E-2,-4.3125139648291899E-2,2.9800400104870031E-2,{"$f":"1-(#REF!/(E286+1))","v":{"$error":"#REF!"}},1.0721064750478322,3.1419655732709426E-2,-3.9447395721986078E-2,1.0721064750478322,3.1419655732709426E-2,-3.9447395721986078E-2]
[15,1.0709319585815871,2.952451382107019E-2,-4.0219969708961578E-2,2.4221069729251688E-2,{"$f":"1-(#REF!/(E287+1))","v":{"$error":"#REF!"}},1.0621304448231348,2.360024037827517E-2,-3.7641847788762339E-2,1.0621304448231348,2.360024037827517E-2,-3.7641847788762339E-2]
[18.5,1.0695515450601762,2.9237342323511297E-2,-3.9169005125343936E-2,2.2963257775349192E-2,{"$f":"1-(#REF!/(E288+1))","v":{"$error":"#REF!"}},1.0597602736961069,2.2613878113680045E-2,-3.6324947643921579E-2,1.0597602736961069,2.2613878113680045E-2,-3.6324947643921579E-2]
[22,1.0681711315387656,2.8950170825952404E-2,-3.811745391064969E-2,2.1705445821446699E-2,{"$f":"1-(#REF!/(E289+1))","v":{"$error":"#REF!"}},1.0573901025690793,2.1627515849084927E-2,-3.5005504614146865E-2,1.0573901025690793,2.1627515849084927E-2,-3.5005504614146865E-2]
[30,1.0650159006326838,2.8293778831532085E-2,-3.571170278096969E-2,1.8830447069669572E-2,{"$f":"1-(#REF!/(E290+1))","v":{"$error":"#REF!"}},1.0519725685644441,1.9372973530010364E-2,-3.1980046441239196E-2,1.0519725685644441,1.9372973530010364E-2,-3.1980046441239196E-2]
[37,1.0622550735898624,2.7719435836414303E-2,-3.3604149682487039E-2,1.6314823161864583E-2,{"$f":"1-(#REF!/(E291+1))","v":{"$error":"#REF!"}},1.0472322263103886,1.7400249000820114E-2,-2.9321771189722234E-2,1.0472322263103886,1.7400249000820114E-2,-2.9321771189722234E-2]
[45,1.0593713869141383,2.5794068781420033E-2,-3.2733000857185779E-2,1.5541435168227209E-2,{"$f":"1-(#REF!/(E292+1))","v":{"$error":"#REF!"}},1.0454823521732397,1.6899226445156817E-2,-2.8108120239212608E-2,1.0454823521732397,1.6899226445156817E-2,-2.8108120239212608E-2]
[55,1.0557800031261564,2.3325559229207687E-2,-3.1714681221677088E-2,1.467705134946652E-2,{"$f":"1-(#REF!/(E293+1))","v":{"$error":"#REF!"}},1.0434736293005444,1.6358346940354217E-2,-2.6678860307309815E-2,1.0434736293005444,1.6358346940354217E-2,-2.6678860307309815E-2]
[75,1.0487064326319551,1.8479698585825974E-2,-2.9678288225184479E-2,1.2990044501796185E-2,{"$f":"1-(#REF!/(E294+1))","v":{"$error":"#REF!"}},1.0395353121724409,1.5283843989959654E-2,-2.3886392289249381E-2,1.0395353121724409,1.5283843989959654E-2,-2.3886392289249381E-2]
[90,1.0474142475160721,1.8195376546619169E-2,-2.8696723283652803E-2,1.3259498393069318E-2,{"$f":"1-(#REF!/(E295+1))","v":{"$error":"#REF!"}},1.039489551011648,1.4744626953154833E-2,-2.4385370862018307E-2,1.039489551011648,1.4744626953154833E-2,-2.4385370862018307E-2]
[110,1.0456913340282281,1.7816280494343428E-2,-2.7387116975910564E-2,1.3618770248100166E-2,{"$f":"1-(#REF!/(E296+1))","v":{"$error":"#REF!"}},1.0394285361305908,1.4025670904081739E-2,-2.5051501116200026E-2,1.0394285361305908,1.4025670904081739E-2,-2.5051501116200026E-2]
[132,1.0437961291916,1.7399274836840117E-2,-2.5945422812487351E-2,1.4013969288634097E-2,{"$f":"1-(#REF!/(E297+1))","v":{"$error":"#REF!"}},1.0393614197614278,1.3234819250101334E-2,-2.5785336246797019E-2,1.0393614197614278,1.3234819250101334E-2,-2.5785336246797019E-2]
[150,1.0423144235920543,1.7073252231882982E-2,-2.4817456662813209E-2,1.4322943083960624E-2,{"$f":"1-(#REF!/(E298+1))","v":{"$error":"#REF!"}},1.0393089469637187,1.2616517047898472E-2,-2.6359860289102421E-2,1.0393089469637187,1.2616517047898472E-2,-2.6359860289102421E-2]
[160,1.0423144235920543,1.7073252231882982E-2,-2.4817456662813209E-2,1.4322943083960624E-2,{"$f":"1-(#REF!/(E299+1))","v":{"$error":"#REF!"}},1.0393089469637187,1.2616517047898472E-2,-2.6359860289102421E-2,1.0393089469637187,1.2616517047898472E-2,-2.6359860289102421E-2]
[185,1.0423144235920543,1.7073252231882982E-2,-2.4817456662813209E-2,1.4322943083960624E-2,{"$f":"1-(#REF!/(E300+1))","v":{"$error":"#REF!"}},1.0393089469637187,1.2616517047898472E-2,-2.6359860289102421E-2,1.0393089469637187,1.2616517047898472E-2,-2.6359860289102421E-2]
[200,1.0423144235920543,1.7073252231882982E-2,-2.4817456662813209E-2,1.4322943083960624E-2,{"$f":"1-(#REF!/(E301+1))","v":{"$error":"#REF!"}},1.0393089469637187,1.2616517047898472E-2,-2.6359860289102421E-2,1.0393089469637187,1.2616517047898472E-2,-2.6359860289102421E-2]
[220,1.0423144235920543,1.7073252231882982E-2,-2.4817456662813209E-2,1.4322943083960624E-2,{"$f":"1-(#REF!/(E302+1))","v":{"$error":"#REF!"}},1.0393089469637187,1.2616517047898472E-2,-2.6359860289102421E-2,1.0393089469637187,1.2616517047898472E-2,-2.6359860289102421E-2]
[250,1.0423144235920543,1.7073252231882982E-2,-2.4817456662813209E-2,1.4322943083960624E-2,{"$f":"1-(#REF!/(E303+1))","v":{"$error":"#REF!"}},1.0393089469637187,1.2616517047898472E-2,-2.6359860289102421E-2,1.0393089469637187,1.2616517047898472E-2,-2.6359860289102421E-2]
[300,1.0423144235920543,1.7073252231882982E-2,-2.4817456662813209E-2,1.4322943083960624E-2,{"$f":"1-(#REF!/(E304+1))","v":{"$error":"#REF!"}},1.0393089469637187,1.2616517047898472E-2,-2.6359860289102421E-2,1.0393089469637187,1.2616517047898472E-2,-2.6359860289102421E-2]
[]
[]
["10 CFR 431.25 TABLE 5 – NOMINAL FULL-LOAD EFFICIENCIES OF NEMA DESIGN A, NEMA DESIGN B AND IEC DESIGN N MOTORS (EXCLUDING FIRE PUMP ELECTRIC MOTORS) AT 60 HZ"]
[]
["Nominal Full Load Motor Effciency"]
["Motor Horsepower","4 pole"]
[null,"Enclosed","Open"]
[1,0.85499999999999998,0.85499999999999998]
[1.5,0.86499999999999999,0.86499999999999999]
[2,0.86499999999999999,0.86499999999999999]
[3,0.89500000000000002,0.89500000000000002]
[5,0.89500000000000002,0.89500000000000002]
[7.5,0.91700000000000004,0.91]
[10,0.91700000000000004,0.91700000000000004]
[15,0.92400000000000004,0.93]
[20,0.93,0.93]
[25,0.93599999999999994,0.93599999999999994]
[30,0.93599999999999994,0.94099999999999995]
[40,0.94099999999999995,0.94099999999999995]
[50,0.94499999999999995,0.94499999999999995]
[60,0.95,0.95]
[75,0.95400000000000007,0.95]
[100,0.95400000000000007,0.95400000000000007]
[125,0.95400000000000007,0.95400000000000007]
[150,0.95799999999999996,0.95799999999999996]
[200,0.96200000000000008,0.95799999999999996]
[250,0.96200000000000008,0.95799999999999996]
[300,0.96200000000000008,0.95799999999999996]
[350,0.96200000000000008,0.95799999999999996]
[400,0.96200000000000008,0.95799999999999996]
[450,0.96200000000000008,0.96200000000000008]
[500,0.96200000000000008,0.96200000000000008]
[]
["DOE Term Sheet: Appendix E—Air Over Motor (AO) Full Load efficiency "]
["Default Open AO Full Load Efficiency"]
["Motor Horsepower","Pole configurations"]
[null,2,4,6,8]
[1,0.72,0.755,0.7,0.7]
[1.5,0.8,0.77,0.77,0.72]
[2,0.81499999999999995,0.77,0.78500000000000003,0.82499999999999996]
[3,0.81499999999999995,0.81499999999999995,0.8,0.84]
[5,0.82499999999999996,0.81499999999999995,0.81499999999999995,0.85499999999999998]
[7.5,0.85499999999999998,0.86499999999999999,0.88500000000000001,0.88500000000000001]
[10,0.86499999999999999,0.875,0.90200000000000002,0.89500000000000002]
[15,0.875,0.89500000000000002,0.90200000000000002,0.89500000000000002]
[20,0.88500000000000001,0.89500000000000002,0.91,0.90200000000000002]
[25,0.89500000000000002,0.90200000000000002,0.91700000000000004,0.90200000000000002]
[30,0.89500000000000002,0.92400000000000004,0.92400000000000004,0.89500000000000002]
[40,0.90200000000000002,0.92400000000000004,0.93,0.89500000000000002]
[50,0.91,0.93,0.93,0.90200000000000002]
[60,0.91700000000000004,0.93599999999999994,0.93599999999999994,0.91]
[75,0.91700000000000004,0.93599999999999994,0.93599999999999994,0.92400000000000004]
[100,0.91700000000000004,0.94099999999999995,0.94099999999999995,0.92400000000000004]
[125,0.92400000000000004,0.94099999999999995,0.94099999999999995,0.92400000000000004]
[150,0.92400000000000004,0.94499999999999995,0.94499999999999995,0.92400000000000004]
[200,0.93599999999999994,0.94499999999999995,0.94499999999999995,0.92400000000000004]
[250,0.93599999999999994,0.94499999999999995,0.95,0.93599999999999994]
[]
["Default TEAO Full Load Efficiency"]
["Motor Horsepower","Pole configurations"]
[null,2,4,6,8]
[1,0.72,0.755,0.72,0.7]
[1.5,0.8,0.77,0.78500000000000003,0.74]
[2,0.81499999999999995,0.77,0.8,0.8]
[3,0.82499999999999996,0.81499999999999995,0.81499999999999995,0.81499999999999995]
[5,0.85499999999999998,0.81499999999999995,0.81499999999999995,0.82499999999999996]
[7.5,0.86499999999999999,0.875,0.89500000000000002,0.85499999999999998]
[10,0.875,0.875,0.89500000000000002,0.88500000000000001]
[15,0.88500000000000001,0.88500000000000001,0.90200000000000002,0.88500000000000001]
[20,0.88500000000000001,0.89500000000000002,0.90200000000000002,0.89500000000000002]
[25,0.89500000000000002,0.90200000000000002,0.91700000000000004,0.89500000000000002]
[30,0.89500000000000002,0.91700000000000004,0.91700000000000004,0.89500000000000002]
[40,0.90200000000000002,0.92400000000000004,0.93,0.89500000000000002]
[50,0.91,0.93,0.93,0.90200000000000002]
[60,0.91700000000000004,0.93599999999999994,0.93599999999999994,0.90200000000000002]
[75,0.91700000000000004,0.94099999999999995,0.93599999999999994,0.91700000000000004]
[100,0.92400000000000004,0.94099999999999995,0.94099999999999995,0.91700000000000004]
[125,0.93599999999999994,0.94099999999999995,0.94099999999999995,0.92400000000000004]
[150,0.93599999999999994,0.94499999999999995,0.95,0.92400000000000004]
[200,0.94099999999999995,0.95,0.95,0.93]
[250,0.94499999999999995,0.95,0.95,0.93599999999999994]
[]
[]
[" EISA 2007 Nominal ODP Motor Effciency"]
["Motor Horsepower","Pole Configuration"]
[null,2,4,6,8]
[1,0.77,0.85499999999999998,0.82499999999999996,0.755]
[1.5,0.84,0.86499999999999999,0.86499999999999999,0.77]
[2,0.85499999999999998,0.86499999999999999,0.875,0.86499999999999999]
[3,0.85499999999999998,0.89500000000000002,0.88500000000000001,0.875]
[5,0.86499999999999999,0.89500000000000002,0.89500000000000002,0.88500000000000001]
[7.5,0.88500000000000001,0.91,0.90200000000000002,0.89500000000000002]
[10,0.89500000000000002,0.91700000000000004,0.91700000000000004,0.90200000000000002]
[15,0.90200000000000002,0.93,0.91700000000000004,0.90200000000000002]
[20,0.91,0.93,0.92400000000000004,0.91]
[25,0.91700000000000004,0.93599999999999994,0.93,0.91]
[30,0.91700000000000004,0.94099999999999995,0.93599999999999994,0.91700000000000004]
[40,0.92400000000000004,0.94099999999999995,0.94099999999999995,0.91700000000000004]
[50,0.93,0.94499999999999995,0.94099999999999995,0.92400000000000004]
[60,0.93599999999999994,0.95,0.94499999999999995,0.93]
[75,0.93599999999999994,0.95,0.94499999999999995,0.94099999999999995]
[100,0.93599999999999994,0.95400000000000007,0.95,0.94099999999999995]
[125,0.94099999999999995,0.95400000000000007,0.95,0.94099999999999995]
[150,0.94099999999999995,0.95799999999999996,0.95400000000000007,0.94099999999999995]
[200,0.95,0.95799999999999996,0.95400000000000007,0.94099999999999995]
[250,0.95,0.95799999999999996,0.95400000000000007,0.95]
[300,0.95400000000000007,0.95799999999999996]
[350,0.95400000000000007,0.95799999999999996]
[400,0.95799999999999996,0.95799999999999996]
[450,0.95799999999999996,0.96200000000000008]
[500,0.95799999999999996,0.96200000000000008]
[]
[]
["EISA 2007 Nominal TEFC Motor Effciency"]
["Motor Horsepower","Pole Configuration"]
[null,2,4,6,8]
[1,0.77,0.85499999999999998,0.82499999999999996,0.72]
[1.5,0.84,0.86499999999999999,0.875,0.755]
[2,0.85499999999999998,0.86499999999999999,0.88500000000000001,0.81499999999999995]
[3,0.86499999999999999,0.89500000000000002,0.89500000000000002,0.82499999999999996]
[5,0.88500000000000001,0.89500000000000002,0.89500000000000002,0.84]
[7.5,0.89500000000000002,0.91700000000000004,0.91,0.84]
[10,0.90200000000000002,0.91700000000000004,0.91,0.875]
[15,0.91,0.92400000000000004,0.91700000000000004,0.875]
[20,0.91,0.93,0.91700000000000004,0.88500000000000001]
[25,0.91700000000000004,0.93599999999999994,0.93,0.88500000000000001]
[30,0.91700000000000004,0.93599999999999994,0.93,0.90200000000000002]
[40,0.92400000000000004,0.94099999999999995,0.94099999999999995,0.90200000000000002]
[50,0.93,0.94499999999999995,0.94099999999999995,0.91]
[60,0.93599999999999994,0.95,0.94499999999999995,0.91]
[75,0.93599999999999994,0.95400000000000007,0.94499999999999995,0.92400000000000004]
[100,0.94099999999999995,0.95400000000000007,0.95,0.92400000000000004]
[125,0.95,0.95400000000000007,0.95,0.93]
[150,0.95,0.95799999999999996,0.95799999999999996,0.93]
[200,0.95400000000000007,0.96200000000000008,0.95799999999999996,0.93599999999999994]
[250,0.95799999999999996,0.96200000000000008,0.95799999999999996,0.94099999999999995]
[300,0.95799999999999996,0.96200000000000008]
[350,0.95799999999999996,0.96200000000000008]
[400,0.95799999999999996,0.96200000000000008]
[450,0.95799999999999996,0.96200000000000008]
[500,0.95799999999999996,0.96200000000000008]
[]
[]
["DOE Term Sheet: Default Control Losses Determination: Recommendation 15"]
["Motor Horsepower (hp)","Coefficients for Motor and Control Part Load Loss Factor (zi) "]
[null,"a","b","c"]
["≤5 ",-0.46579999999999999,1.4964999999999999,0.53029999999999999]
[">5 and ≤20 ",-1.3198000000000001,2.9550999999999998,0.1052]
[">20 and ≤50 ",-1.5122,3.0777000000000001,0.1847]
[">50 ",-0.89139999999999997,2.8845999999999998,0.26250000000000001]
[]
["Motor Horsepower","a","b","c"]
[1,-0.46579999999999999,1.4964999999999999,0.53029999999999999]
[1.5,-0.46579999999999999,1.4964999999999999,0.53029999999999999]
[2,-0.46579999999999999,1.4964999999999999,0.53029999999999999]
[3,-0.46579999999999999,1.4964999999999999,0.53029999999999999]
[5,-0.46579999999999999,1.4964999999999999,0.53029999999999999]
[7.5,-1.3198000000000001,2.9550999999999998,0.1052]
[10,-1.3198000000000001,2.9550999999999998,0.1052]
[15,-1.3198000000000001,2.9550999999999998,0.1052]
[20,-1.3198000000000001,2.9550999999999998,0.1052]
[25,-1.5122,3.0777000000000001,0.1847]
[30,-1.5122,3.0777000000000001,0.1847]
[40,-1.5122,3.0777000000000001,0.1847]
[50,-1.5122,3.0777000000000001,0.1847]
[60,-0.89139999999999997,2.8845999999999998,0.26250000000000001]
[75,-0.89139999999999997,2.8845999999999998,0.26250000000000001]
[100,-0.89139999999999997,2.8845999999999998,0.26250000000000001]
[125,-0.89139999999999997,2.8845999999999998,0.26250000000000001]
[150,-0.89139999999999997,2.8845999999999998,0.26250000000000001]
[200,-0.89139999999999997,2.8845999999999998,0.26250000000000001]
[250,-0.89139999999999997,2.8845999999999998,0.26250000000000001]
[300,-0.89139999999999997,2.8845999999999998,0.26250000000000001]
[350,-0.89139999999999997,2.8845999999999998,0.26250000000000001]
[400,-0.89139999999999997,2.8845999999999998,0.26250000000000001]
[450,-0.89139999999999997,2.8845999999999998,0.26250000000000001]
[500,-0.89139999999999997,2.8845999999999998,0.26250000000000001]

{"sheet":"FEI REG","index":10,"n_rows":33,"n_cols":27,"rows_kept":33,"cut":false,"hidden":true,"merged":[[21,11,21,12],[27,11,27,12],[8,16,8,26],[9,3,10,5],[9,6,10,11],[9,12,9,15],[9,18,9,26],[10,12,10,15],[10,18,10,26]]}
["FEI Calculations per AMCA 208"]
[]
[" "]
[" "]
[]
["Only TEFC motors are considered."]
[" "]
["Assumption: VFD capacity is same as motor capacity"]
[null,null,null,null,null,null,null,null,null,null,null,null,null,null,null,null,"Hi Measured"]
[null,null,null,"AMCA 208 Annex A",null,null,"Duty Point",null,null,null,null,null,"FEPref Calculation",null,null,null,null,null,"Fan paired with regulated motor (US Regulation only)"]
[null,null,null,null,null,null,null,null,null,null,null,null,"Section 5.2",null,null,null,null,null,"Section 5.3.3  (uses AMCA 207)"]
["Qty\nSold","Model","Size","Fan Category","Test\nConfig","FEI Pressure Basis","Impeller Dia\n(in.)","Outlet Area \n(ft²)","Air Density\n(lb/ft³)","Airflow\n(cfm)","Fan\nStatic\nPressure\n(in. wg)","Fan\nTotal\nPressure\n(in. wg)","Hi,ref\n(bhp)","ηtrans,ref","ηmtr,ref","FEPref\n(kW)","Hi,act\n(bhp)","Drive Type","Motor Size\n(hp)","Motor Encl.","No.\nPoles","Include VFD?","VFD Capacity (hp)","ηtrans,act","ηmtr,act","FEPact\n(kW)","FEI"]
[null,null,null,"Centrifugal Inline"," ","Total",30,8.3550000000000004,9.3299999999999994E-2,20000,4,{"$f":"IF(F13=\"Total\",K13+(J13/(1097.8*H13))^2*I13,\"-\")","v":4.4436109664257355},{"$f":"IF(F13=\"Total\",($J13+$M$23)*($L13+$M$24*(IF($I13=0,0.075,$I13)/0.075))/(6343*$M$25),($J13+$M$23)*($K13+$M$24*(IF($I13=0,0.075,$I13)/0.075))/(6343*$M$26))","v":23.901203920838803},{"$f":"0.96*(M13/(M13+2.2))^0.05","v":0.95578276501600845},{"$f":"$M$29*(LOG(M13/N13*0.746))^4+$M$30*(LOG(M13/N13*0.746))^3+$M$31*(LOG(M13/N13*0.746))^2+$M$32*LOG(M13/N13*0.746)+$M$33","v":0.9357036578294009},{"$f":"M13*(1/N13)*(1/O13)*0.746","v":19.937058471381317},30,"V-Belt",30,"TEFC",4,"Yes",30,{"$f":"IF($R13=\"Direct\",1,IF($R13=\"Coupling\",0.98,IF($R13=\"V-Belt\",0.96*(Q13/(Q13+2.2))^0.05,IF($R13=\"Synch Belt\",IF(Q13<=1.34,0.94,IF(Q13<=6.7,(0.00746*Q13+0.93),0.98)),\"Missing Transmission Type\"))))","v":0.95660908742870543},{"$f":"IF(Q13/X13>1.5*S13, \"Overload\", IF(AND(V13=\"Yes\",ISNUMBER(W13)),EtaMtrAct(Q13/X13,S13,W13,T13,U13,V13),EtaMtrAct(Q13/X13,S13,S13,T13,U13,V13)))","v":0.90383421434982403},{"$f":"IF(Q13/X13>1.5*S13, \"Overload\",Q13*(1/X13)*(1/Y13)*0.746)","v":25.88432252616321},{"$f":"IF(Q13/X13>1.5*S13, \"Overload\",P13/Z13)","v":0.77023682776435232}]
[null,null,null,null," ","Total"," ",0.47899999999999998,7.4921444453181177E-2,1500,3,{"$f":"IF(F14=\"Total\",K14+(J14/(1097.8*H14))^2*I14,\"-\")","v":3.6096368075705048},{"$f":"IF(F14=\"Total\",($J14+$M$23)*($L14+$M$24*(IF($I14=0,0.075,$I14)/0.075))/(6343*$M$25),($J14+$M$23)*($K14+$M$24*(IF($I14=0,0.075,$I14)/0.075))/(6343*$M$26))","v":1.6759422766554257},{"$f":"0.96*(M14/(M14+2.2))^0.05","v":0.92058802401511475},{"$f":"$M$29*(LOG(M14/N14*0.746))^4+$M$30*(LOG(M14/N14*0.746))^3+$M$31*(LOG(M14/N14*0.746))^2+$M$32*LOG(M14/N14*0.746)+$M$33","v":0.86574186196659098},{"$f":"M14*(1/N14)*(1/O14)*0.746","v":1.5687153466217028},2.007556676864624,"V-Belt",3,"TEFC",4,"Yes",{"$f":"S14","v":3},{"$f":"IF($R14=\"Direct\",1,IF($R14=\"Coupling\",0.98,IF($R14=\"V-Belt\",0.96*(Q14/(Q14+2.2))^0.05,IF($R14=\"Synch Belt\",IF(Q14<=1.34,0.94,IF(Q14<=6.7,(0.00746*Q14+0.93),0.98)),\"Missing Transmission Type\"))))","v":0.92513076819345785},{"$f":"IF(Q14/X14>1.5*S14, \"Overload\", IF(AND(V14=\"Yes\",ISNUMBER(W14)),EtaMtrAct(Q14/X14,S14,W14,T14,U14,V14),EtaMtrAct(Q14/X14,S14,S14,T14,U14,V14)))","v":0.83317649300196495},{"$f":"IF(Q14/X14>1.5*S14, \"Overload\",Q14*(1/X14)*(1/Y14)*0.746)","v":1.9429718522999937},{"$f":"IF(Q14/X14>1.5*S14, \"Overload\",P14/Z14)","v":0.80737934765484909}]
[]
[]
[]
[]
[]
[]
[]
[null,null,null,null,null,null,null,null,null,null,null,"FEPref Constants, section 5.2"]
[null,null,null,null,null,null,null,null,null,null,null,"Q0",250]
[null,null,null,null,null,null,null,null,null,null,null,"P0",0.4]
[null,null,null,null,null,null,null,null,null,null,null,"η0,Total",0.66]
[null,null,null,null,null,null,null,null,null,null,null,"η0,Static",0.6]
[null,null,null," "]
[null,null,null,null,null,null,null,null,null,null,null,"Ref Mtr Constants, section 5.2"]
[null,null,null,null,null,null,null,null,null,null,null,"A",-3.8119999999999999E-3]
[null,null,null,null,null,null,null,null,null,null,null,"B",2.5833999999999999E-2]
[null,null,null,null,null,null,null,null,null,null,null,"C",-7.2577000000000003E-2]
[null,null,null,null,null,null,null,null,null,null,null,"D",0.125559]
[null,null,null,null,null,null,null,null,null,null,null,"E",0.85027399999999997]

{"sheet":"FEI","index":11,"n_rows":27,"n_cols":20,"rows_kept":27,"cut":false,"hidden":true,"merged":[[1,11,1,12],[7,11,7,12],[14,6,14,7],[14,8,14,9]]}
[]
[null,null,null,null,null,null,null,null,null,null,null,"FEPref Constants, section 5.2"]
[null,null,null,null,null,null,null,null,null,null,null,"Q0",250]
[null,null,null,null,null,null,null,null,null,null,null,"P0",0.4]
[null,null,null,null,null,null,null,null,null,null,null,"η0,Total",0.66]
[null,null,null,null,null,null,null,null,null,null,null,"η0,Static",0.6]
[]
[null,null,null,null," ",null,null,null,null,null,null,"Ref Mtr Constants, section 5.2"]
[null,null,null,null,null,null,null,null,null,null,null,"A",-3.8119999999999999E-3]
[null,null,null,null,null," ",null,null,null,null,null,"B",2.5833999999999999E-2]
[null,null,null,null,null,null,null,null,null,null,null,"C",-7.2577000000000003E-2]
[null,null,null,null,null,null,null,null,null,null,null,"D",0.125559]
[null,null,null,null,null,null," ",null,null,null,null,"E",0.85027399999999997]
[]
[]
[]
[]
[]
[]
[]
[]
[]
["Fan Data",null,null,null,"Fan Duty Point",null,null,null,null,"FEPref Calculation",null,null,null,"Fan with unregulated or w/o motor"]
[]
[null,null,null,null,null,null,null,null,null,"Section 5.2",null,null,null,"Section 5.3.4  (default motor efficiency)"]
["FEI Pressure Basis","Drive Type","Impeller Dia\n(in.)","Outlet Area \n(ft²)","Air Density\n(lb/ft³)","Airflow\n(cfm)","Fan\nStatic\nPressure\n(in. wg)","Hi,act\n(BHP)","Fan\nTotal\nPressure\n(in. wg)","Hi,ref\n(BHP)","ηtrans,ref","ηmtr,ref","FEPref\n(kW)","ηtrans,def","ηmtr,def","FEPact\n(kW)","FEI"]
["Total","V-Belt"," ",0.47899999999999998,7.4921444453181177E-2,807,2.944,0.70329457521438599,{"$f":"IF(A27=\"Total\",G27+(F27/(1097.8*D27))^2*E27,\"-\")","v":3.1204557161304369},{"$f":"($F27+M3)*($I27+M4*(IF($E27=0,0.075,$E27)/0.075))/(6343*M5)","v":0.88875803155644539},{"$f":"0.96*(J27/(J27+2.2))^0.05","v":0.90203048578865119},{"$f":"M9*(LOG(J27/K27*0.7457))^4+M10*(LOG(J27/K27*0.7457))^3+M11*(LOG(J27/K27*0.7457))^2+M12*LOG(J27/K27*0.7457)+M13","v":0.83210103111635703},{"$f":"J27*(1/K27)*(1/L27)*0.7457","v":0.88297906286569661},{"$f":"IF($B27=\"Direct\",1,IF($B27=\"Coupling\",0.98,IF($B27=\"V-Belt\",0.96*(H27/(H27+2.2))^0.05,IF($B27=\"Synch Belt\",IF(H27<=1.34,0.94,IF(H27<=6.7,(0.00746*H27+0.93),0.98)),\"Missing Transmission Type\"))))","v":0.89430063945080884},{"$f":"M9*(LOG(H27/N27*0.7457))^4+M10*(LOG(H27/N27*0.7457))^3+M11*(LOG(H27/N27*0.7457))^2+M12*LOG(H27/N27*0.7457)+M13","v":0.81693992893034573},{"$f":"H27*(1/N27)*(1/O27)*0.7457","v":0.71784015100366316},{"$f":"M27/P27","v":1.2300497006626629},null," "," "]

{"sheet":"loudness index","index":12,"n_rows":114,"n_cols":18,"rows_kept":114,"cut":false,"hidden":true,"merged":[]}
[]
[null,null,"Loudness Index s (ANSI S3.4-1980)"]
[null,1,2,3,4,5,6,7,8,null,1,2,3,4,5,6,7,8]
["Lp",63,125,250,500,1000,2000,4000,8000,null,63,125,250,500,1000,2000,4000,8000]
[11,0,0,0,0,0,0,0,0.18,"Lwmo",{"$f":"Data1!K31","v":90.380880952797398},{"$f":"Data1!L31","v":93.14017651410343},{"$f":"Data1!M31","v":96.470753660576548},{"$f":"Data1!N31","v":90.429185171745175},{"$f":"Data1!O31","v":82.843438907973834},{"$f":"Data1!P31","v":77.835144180668749},{"$f":"Data1!Q31","v":73.4551896754528},{"$f":"Data1!R31","v":69.37242654387245}]
[{"$f":"A5+1","v":12},0,0,0,0,0,0,0.1,0.22,"Lp",{"$f":"(K5-K$16-11.5)","v":78.880880952797398},{"$f":"(L5-L$16-11.5)","v":81.64017651410343},84.970753660576548,78.929185171745175,71.343438907973834,66.335144180668749,61.9551896754528,57.87242654387245]
[13,0,0,0,0,0,0,0.14000000000000001,0.26,"Lp-0.5",{"$f":"K6-0.4","v":78.480880952797392},81.240176514103425,84.570753660576543,78.529185171745169,70.943438907973828,65.935144180668743,61.555189675452802,57.472426543872452]
[14,0,0,0,0,0,0,0.18,0.3,"S1-8(1)",{"$f":"VLOOKUP(K7,A5:I114,2)","v":5.8},{"$f":"VLOOKUP(L7,A3:I114,3)","v":9.9},{"$f":"VLOOKUP(M7,A5:I114,4)","v":14.4},{"$f":"VLOOKUP(N7,A5:I114,5)","v":11.8},{"$f":"VLOOKUP(O7,A5:I114,6)","v":8.8000000000000007},{"$f":"VLOOKUP(P7,A5:I114,7)","v":7.8},{"$f":"VLOOKUP(Q7,A5:I114,8)","v":7.4},{"$f":"VLOOKUP(R7,A5:I114,9)","v":7}]
[15,0,0,0,0,0,0.1,0.22,0.35,"Lp+0.5",{"$f":"K6+0.6","v":79.480880952797392},82.240176514103425,85.570753660576543,79.529185171745169,71.943438907973828,66.935144180668743,62.555189675452802,58.472426543872452]
[16,0,0,0,0,0,0.14000000000000001,0.26,0.4,"S1-8(1)",{"$f":"VLOOKUP(K9,A5:I114,2)","v":6.2},{"$f":"VLOOKUP(L9,A5:I114,3)","v":10.5},{"$f":"VLOOKUP(M9,A5:I114,4)","v":15.3},{"$f":"VLOOKUP(N9,A5:I114,5)","v":12.6},{"$f":"VLOOKUP(O9,A5:I114,6)","v":9.3000000000000007},{"$f":"VLOOKUP(P9,A5:I114,7)","v":8.3000000000000007},{"$f":"VLOOKUP(Q9,A5:I114,8)","v":7.8},{"$f":"VLOOKUP(R9,A5:I114,9)","v":7.4}]
[17,0,0,0,0,0,0.18,0.3,0.45,"S1-8",{"$f":"(K8+K10)/2","v":6},10.199999999999999,14.850000000000001,12.2,9.0500000000000007,8.0500000000000007,7.6,7.2]
[18,0,0,0,0,0.1,0.22,0.35,0.5,"Sm",{"$f":"MAX(K11:R11)","v":14.850000000000001}]
[19,0,0,0,0,0.14000000000000001,0.26,0.4,0.55000000000000004,"S",{"$f":"0.3*SUM(K11:R11)+0.7*K12","v":32.94}]
[20,0,0,0,0,0.18,0.3,0.45,0.61]
[21,0,0,0,0,0.22,0.35,0.5,0.67]
[22,0,0,0,0,0.26,0.4,0.55000000000000004,0.73,"E (dB)",{"$f":"_xlfn.XLOOKUP('Sound calculation-1'!A37,'Sound calculation-1'!Y26:Y31,'Sound calculation-1'!Z26:AG31,0,0,1)","v":0},0,0,0,0,0,0,0]
[23,0,0,0,0.12,0.3,0.45,0.61,0.8]
[24,0,0,0,0.16,0.35,0.5,0.67,0.87]
[25,0,0,0,0.21,0.4,0.55000000000000004,0.73,0.94]
[26,0,0,0,0.26,0.45,0.61,0.8,1.02]
[27,0,0,0,0.31,0.5,0.67,0.87,1.1000000000000001]
[28,0,0,0,0.37,0.55000000000000004,0.73,0.94,1.18]
[29,0,0,0.12,0.43,0.61,0.8,1.02,1.27]
[30,0,0,0.16,0.49,0.67,0.87,1.1000000000000001,1.35]
[31,0,0,0.21,0.55000000000000004,0.73,0.94,1.18,1.44]
[32,0,0,0.26,0.61,0.8,1.02,1.27,1.54]
[33,0,0,0.31,0.67,0.87,1.1000000000000001,1.35,1.64]
[34,0,0,0.37,0.73,0.94,1.18,1.44,1.75]
[35,0,0.12,0.43,0.8,1.02,1.27,1.54,1.87]
[36,0,0.16,0.49,0.87,1.1000000000000001,1.35,1.64,1.99]
[37,0,0.21,0.55000000000000004,0.94,1.18,1.44,1.75,2.11]
[38,0,0.26,0.62,1.02,1.27,1.54,1.87,2.2400000000000002]
[39,0,0.31,0.69,1.1000000000000001,1.35,1.64,1.99,2.38]
[40,0,0.37,0.77,1.18,1.44,1.75,2.11,2.5299999999999998]
[41,0.12,0.43,0.85,1.27,1.54,1.87,2.2400000000000002,2.68]
[42,0.16,0.49,0.94,1.35,1.64,1.99,2.38,2.84]
[43,0.21,0.55000000000000004,1.04,1.44,1.75,2.11,2.5299999999999998,3]
[{"$f":"A37+1","v":44},0.26,0.62,1.1299999999999999,1.54,1.87,2.2400000000000002,2.68,3.2]
[45,0.31,0.69,1.23,1.64,1.99,2.38,2.84,3.4]
[46,0.37,0.77,1.33,1.75,2.11,2.5299999999999998,3,3.6]
[47,0.43,0.85,1.44,1.87,2.2400000000000002,2.68,3.2,3.8]
[48,0.49,0.94,1.56,1.99,2.38,2.84,3.4,4.0999999999999996]
[49,0.55000000000000004,1.04,1.68,2.11,2.5299999999999998,3,3.6,4.3]
[50,0.62,1.1299999999999999,1.82,2.2400000000000002,2.68,3.2,3.8,4.5999999999999996]
[51,0.69,1.23,1.96,2.38,2.84,3.4,4.0999999999999996,4.9000000000000004]
[52,0.77,1.33,2.11,2.5299999999999998,3,3.6,4.3,5.2]
[53,0.85,1.44,2.2400000000000002,2.68,3.2,3.8,4.5999999999999996,5.5]
[54,0.94,1.56,2.38,2.84,3.4,4.0999999999999996,4.9000000000000004,5.8]
[55,1.04,1.68,2.5299999999999998,3,3.6,4.3,5.2,6.2]
[56,1.1299999999999999,1.82,2.68,3.2,3.8,4.5999999999999996,5.5,6.6]
[57,1.23,1.96,2.84,3.4,4.0999999999999996,4.9000000000000004,5.8,7]
[58,1.33,2.11,3,3.6,4.3,5.2,6.2,7.4]
[59,1.44,2.27,3.2,3.8,4.5999999999999996,5.5,6.6,7.8]
[60,1.56,2.44,3.4,4.0999999999999996,4.9000000000000004,5.8,7,8.3000000000000007]
[61,1.68,2.61,3.6,4.3,5.2,6.2,7.4,8.8000000000000007]
[62,1.82,2.81,3.8,4.5999999999999996,5.5,6.6,7.8,9.3000000000000007]
[63,1.96,3,4.0999999999999996,4.9000000000000004,5.8,7,8.3000000000000007,9.9]
[64,2.11,3.2,4.3,5.2,6.2,7.4,8.8000000000000007,10.5]
[65,2.27,3.5,4.5999999999999996,5.5,6.6,7.8,9.3000000000000007,11.1]
[66,2.44,3.7,4.9000000000000004,5.8,7,8.3000000000000007,9.9,11.8]
[67,2.61,4,5.2,6.2,7.4,8.8000000000000007,10.5,12.6]
[68,2.81,4.3,5.5,6.6,7.8,9.3000000000000007,11.1,13.5]
[69,3,4.7,5.8,7,8.3000000000000007,9.9,11.8,14.4]
[70,3.2,5,6.2,7.4,8.8000000000000007,10.5,12.6,15.3]
[71,3.5,5.4,6.6,7.8,9.3000000000000007,11.1,13.5,16.399999999999999]
[72,3.7,5.8,7,8.3000000000000007,9.9,11.8,14.4,17.5]
[73,4,6.2,7.4,8.8000000000000007,10.5,12.6,15.3,18.7]
[74,4.3,6.6,7.8,9.3000000000000007,11.1,13.5,16.399999999999999,20]
[75,4.7,7,8.3000000000000007,9.9,11.8,14.4,17.5,21.4]
[{"$f":"A69+1","v":76},5,7.4,8.8000000000000007,10.5,12.6,15.3,18.7,23]
[77,5.4,7.8,9.3000000000000007,11.1,13.5,16.399999999999999,20,24.7]
[78,5.8,8.3000000000000007,9.9,11.8,14.4,17.5,21.4,26.5]
[79,6.2,8.8000000000000007,10.5,12.6,15.3,18.7,23,28.5]
[80,6.7,9.3000000000000007,11.1,13.5,16.399999999999999,20,24.7,30.5]
[81,7.2,9.9,11.8,14.4,17.5,21.4,26.5,33]
[82,7.7,10.5,12.6,15.3,18.7,23,28.5,35.299999999999997]
[83,8.1999999999999993,11.1,13.5,16.399999999999999,20,24.7,30.5,38]
[84,8.8000000000000007,11.8,14.4,17.5,21.4,26.5,33,41]
[85,9.4,12.6,15.3,18.7,23,28.5,35.299999999999997,44]
[86,10,13.5,16.399999999999999,20,24.7,30.5,38,48]
[87,10.8,14.4,17.5,21.4,26.5,33,41,52]
[88,11.7,15.3,18.7,23,28.5,35.299999999999997,44,56]
[89,12.6,16.399999999999999,20,24.7,30.5,38,48,61]
[90,13.6,17.5,21.4,26.5,33,41,52,66]
[91,14.7,18.7,23,28.5,35.299999999999997,44,56,71]
[92,16,20,24.7,30.5,38,48,61,77]
[93,17.3,21.4,26.5,33,41,52,66,83]
[94,18.7,23,28.5,35.299999999999997,44,56,71,90]
[95,20,24.7,30.5,38,48,61,77,97]
[96,21.4,26.5,33,41,52,66,83,105]
[97,23,28.5,35.299999999999997,44,56,71,90,113]
[98,24.7,30.5,38,48,61,77,97,121]
[99,26.5,33,41,52,66,83,105,130]
[100,28.5,35.299999999999997,44,56,71,90,113,139]
[101,30.5,38,48,61,77,97,121,149]
[102,33,41,52,66,83,105,130,160]
[103,35.299999999999997,44,56,71,90,113,139,171]
[104,38,48,61,77,97,121,149,184]
[105,41,52,66,83,105,130,160,197]
[106,44,56,71,90,113,139,171,211]
[107,48,61,77,97,121,149,184,226]
[{"$f":"A101+1","v":108},52,66,83,105,130,160,197,242]
[109,56,71,90,113,139,171,211,260]
[110,61,77,97,121,149,184,226,278]
[111,66,83,105,130,160,197,242,298]
[112,71,90,113,139,171,211,260,320]
[113,77,97,121,149,184,226,278,0]
[114,83,105,130,160,197,242,298,0]
[115,90,113,139,171,211,260,320,0]
[116,97,121,149,184,226,278,0,0]
[117,105,130,160,197,242,298,0,0]
[118,113,139,171,211,260,320,0,0]
[119,121,149,184,226,278,0,0,0]
[120,130,160,197,242,298,0,0,0]

{"sheet":"Sound calculation","index":13,"n_rows":57,"n_cols":225,"rows_kept":57,"cut":false,"hidden":true,"merged":[[22,25,22,32]]}
[]
[null,null,"RPM",null,null,"SP",null,null,"SP"]
["Size",{"$f":"Performance!G10","v":125},{"$f":"VLOOKUP($B$3,$A$52:$I$71,2)","v":1600},{"$f":"IF(C3-$B$4<=0,C3-$B$4,-10000)","v":-903},{"$f":"IF(C3-$B$4>0,C3-$B$4,10000)","v":10000},{"$f":"VLOOKUP($D$12,$E$15:$H$22,2)","v":0.25},{"$f":"IF(F3-$B$5<=0,F3-$B$5,-10000)","v":-2.694},{"$f":"IF(F3-$B$5>0,F3-$B$5,10000)","v":10000},{"$f":"VLOOKUP($E$12,$E$15:$H$22,2)","v":0.25},{"$f":"IF(I3-$B$5<=0,I3-$B$5,-10000)","v":-2.694},{"$f":"IF(I3-$B$5>0,I3-$B$5,10000)","v":10000},null,{"$f":"G8","v":7},{"$f":"G7","v":0.25},{"$f":"VLOOKUP($M$3,$N$14:$V$37,2)","v":118.95388637030739},{"$f":"VLOOKUP($M$3,$N$14:$V$37,3)","v":95.803585911469227},{"$f":"VLOOKUP($M$3,$N$14:$V$37,4)","v":92.273094515800267},{"$f":"VLOOKUP($M$3,$N$14:$V$37,5)","v":103.73489129233052},{"$f":"VLOOKUP($M$3,$N$14:$V$37,6)","v":88.720774741250708},{"$f":"VLOOKUP($M$3,$N$14:$V$37,7)","v":81.314265741203656},{"$f":"VLOOKUP($M$3,$N$14:$V$37,8)","v":77.486523885017732},{"$f":"VLOOKUP($M$3,$N$14:$V$37,9)","v":72.786523885017729}]
["RPM",{"$f":"Performance!G15","v":2503},{"$f":"VLOOKUP($B$3,$A$52:$I$71,3)","v":2000},-503,10000,{"$f":"VLOOKUP($D$12,$E$15:$H$22,3)","v":6.5},{"$f":"IF(F4-$B$5<=0,F4-$B$5,-10000)","v":-10000},{"$f":"IF(F4-$B$5>0,F4-$B$5,10000)","v":3.556},{"$f":"VLOOKUP($E$12,$E$15:$H$22,3)","v":7.5},{"$f":"IF(I4-$B$5<=0,I4-$B$5,-10000)","v":-10000},{"$f":"IF(I4-$B$5>0,I4-$B$5,10000)","v":4.556},null,{"$f":"H8","v":8},{"$f":"H7","v":6.5},{"$f":"VLOOKUP($M$4,$N$14:$V$37,2)","v":118.20683734350366},{"$f":"VLOOKUP($M$4,$N$14:$V$37,3)","v":94.8189368873294},{"$f":"VLOOKUP($M$4,$N$14:$V$37,4)","v":91.26720194848896},{"$f":"VLOOKUP($M$4,$N$14:$V$37,5)","v":111.57595994967956},{"$f":"VLOOKUP($M$4,$N$14:$V$37,6)","v":86.758847611416996},{"$f":"VLOOKUP($M$4,$N$14:$V$37,7)","v":79.461047827146302},{"$f":"VLOOKUP($M$4,$N$14:$V$37,8)","v":75.313471305798231},{"$f":"VLOOKUP($M$4,$N$14:$V$37,9)","v":70.41347130579824}]
["SP",{"$f":"Performance!G13","v":2.944},{"$f":"VLOOKUP($B$3,$A$52:$I$71,4)","v":2400},-103,10000,{"$f":"VLOOKUP($D$12,$E$15:$H$22,4)","v":9},{"$f":"IF(F5-$B$5<=0,F5-$B$5,-10000)","v":-10000},{"$f":"IF(F5-$B$5>0,F5-$B$5,10000)","v":6.056},{"$f":"VLOOKUP($E$12,$E$15:$H$22,4)","v":12},{"$f":"IF(I5-$B$5<=0,I5-$B$5,-10000)","v":-10000},{"$f":"IF(I5-$B$5>0,I5-$B$5,10000)","v":9.0560000000000009},null,null,{"$f":"IF(B5<=F3,F3,IF(B5>G29,G29,B5))","v":2.944},{"$f":"IF((O3-O4)<=0,O3+($N$5-$N$3)*(O4-O3)/($N$4-$N$3),O4+($N$4-$N$5)*(O3-O4)/($N$4-$N$3))","v":118.63187835779391},95.379162796103998,91.839514583586407,107.11470552639425,87.87510567120718,80.515454691528376,76.549851301270962,71.76364330127096]
[null,null,{"$f":"VLOOKUP($B$3,$A$52:$I$71,5)","v":2600},-10000,97,null,{"$f":"MAX(G3:G5)","v":-2.694},{"$f":"MIN(H3:H5)","v":3.556},null,{"$f":"MAX(J3:J5)","v":-2.694},{"$f":"MIN(K3:K5)","v":4.556},null,{"$f":"J8","v":10},{"$f":"J7","v":0.25},{"$f":"VLOOKUP($M$6,$N$14:$V$37,2)","v":122.15166696493901},{"$f":"VLOOKUP($M$6,$N$14:$V$37,3)","v":99.164191219196425},{"$f":"VLOOKUP($M$6,$N$14:$V$37,4)","v":93.579539704734515},{"$f":"VLOOKUP($M$6,$N$14:$V$37,5)","v":105.50103419411056},{"$f":"VLOOKUP($M$6,$N$14:$V$37,6)","v":91.745434295627533},{"$f":"VLOOKUP($M$6,$N$14:$V$37,7)","v":83.735126699114048},{"$f":"VLOOKUP($M$6,$N$14:$V$37,8)","v":79.738960842332389},{"$f":"VLOOKUP($M$6,$N$14:$V$37,9)","v":75.09156076571557}]
[null,null,{"$f":"VLOOKUP($B$3,$A$52:$I$71,6)","v":2800},-10000,297,null,{"$f":"IF(B5<=F3,F3,IF(B5>=G29,G30,$B$5+G6))","v":0.25},{"$f":"IF($B$5+H6<=F3,F4,IF($B$5+H6>=G29,G29,$B$5+H6))","v":6.5},null,{"$f":"IF(B5<=I3,I3,IF(B5>=J29,J30,$B$5+J6))","v":0.25},{"$f":"IF($B$5+K6<=I3,I4,IF($B$5+K6>=J29,J29,$B$5+K6))","v":7.5},null,{"$f":"K8","v":11},{"$f":"K7","v":7.5},{"$f":"VLOOKUP($M$7,$N$14:$V$37,2)","v":121.44298281201577},{"$f":"VLOOKUP($M$7,$N$14:$V$37,3)","v":98.291372528933564},{"$f":"VLOOKUP($M$7,$N$14:$V$37,4)","v":92.389411701249102},{"$f":"VLOOKUP($M$7,$N$14:$V$37,5)","v":113.11579754806581},{"$f":"VLOOKUP($M$7,$N$14:$V$37,6)","v":89.934299025522549},{"$f":"VLOOKUP($M$7,$N$14:$V$37,7)","v":81.863032055027119},{"$f":"VLOOKUP($M$7,$N$14:$V$37,8)","v":77.572609731528644},{"$f":"VLOOKUP($M$7,$N$14:$V$37,9)","v":72.717414984116516}]
[null,null,{"$f":"VLOOKUP($B$3,$A$52:$I$71,7)","v":3000},-10000,497,null,{"$f":"VLOOKUP($G$7,$G$10:$H$12,2)","v":7},{"$f":"VLOOKUP($H$7,$G$10:$H$12,2)","v":8},null,{"$f":"VLOOKUP($J$7,$J$10:$K$12,2)","v":10},{"$f":"VLOOKUP($K$7,$J$10:$K$12,2)","v":11},null,null,{"$f":"IF(B5<=I3,I3,IF(B5>J29,J29,B5))","v":2.944},{"$f":"IF((O6-O7)<=0,O6+($N$8-$N$6)*(O7-O6)/($N$7-$N$6),O7+($N$7-$N$8)*(O6-O7)/($N$7-$N$6))","v":121.88832970866657},98.839863832773233,93.13730455419801,108.33057522522165,91.07244141043266,83.039482151366443,78.933974650262698,74.209360940111722]
[null,null,{"$f":"VLOOKUP($B$3,$A$52:$I$71,8)","v":3200},-10000,697]
[null,null,{"$f":"VLOOKUP($B$3,$A$52:$I$71,9)","v":3450},-10000,947,null,{"$f":"VLOOKUP($D$12,$E$15:$K$22,2)","v":0.25},{"$f":"VLOOKUP($D$12,$E$15:$K$22,5)","v":7},null,{"$f":"VLOOKUP($E$12,$E$15:$K$22,2)","v":0.25},{"$f":"VLOOKUP($E$12,$E$15:$K$22,5)","v":10},null,null,{"$f":"D12","v":2400},{"$f":"O5","v":118.63187835779391},95.379162796103998,91.839514583586407,107.11470552639425,87.87510567120718,80.515454691528376,76.549851301270962,71.76364330127096]
[null,null,null,{"$f":"MAX(D3:D10)","v":-103},{"$f":"MIN(E3:E10)","v":97},null,{"$f":"VLOOKUP($D$12,$E$15:$K$22,3)","v":6.5},{"$f":"VLOOKUP($D$12,$E$15:$K$22,6)","v":8},null,{"$f":"VLOOKUP($E$12,$E$15:$K$22,3)","v":7.5},{"$f":"VLOOKUP($E$12,$E$15:$K$22,6)","v":11},null,null,{"$f":"E12","v":2600},{"$f":"O8","v":121.88832970866657},98.839863832773233,93.13730455419801,108.33057522522165,91.07244141043266,83.039482151366443,78.933974650262698,74.209360940111722]
[null,null,null,{"$f":"IF(B4<=C3,C3,IF(B4>=D29,D30,B4+D11))","v":2400},{"$f":"IF($B$4+E11<=C3,C4,IF($B$4+E11>=D29,D29,$B$4+E11))","v":2600},null,{"$f":"VLOOKUP($D$12,$E$15:$K$22,4)","v":9},{"$f":"VLOOKUP($D$12,$E$15:$K$22,7)","v":9},null,{"$f":"VLOOKUP($E$12,$E$15:$K$22,4)","v":12},{"$f":"VLOOKUP($E$12,$E$15:$K$22,7)","v":12},null,null,{"$f":"IF(B4<C3,C3,IF(B4>C27,C27,B4))","v":2503},{"$f":"IF((O10-O11)<=0,O10+($N$12-$N$10)*(O11-O10)/($N$11-$N$10),O11+($N$11-$N$12)*(O10-O11)/($N$11-$N$10))","v":120.30895080349333},97.161423829988649,92.507876418451389,107.74087842129036,89.521733576908304,81.815328833344978,77.7776748260017,73.023187885273956]
[]
[null,null,null,null,null,null,null,null,null,null,null,null,null,1,{"$f":"VLOOKUP($B$3,$A$52:$HQ$71,34)","v":95.651075528339618},{"$f":"VLOOKUP($B$3,$A$52:$HQ$71,35)","v":84.206616655832491},{"$f":"VLOOKUP($B$3,$A$52:$HQ$71,36)","v":94.69341071402215},{"$f":"VLOOKUP($B$3,$A$52:$HQ$71,37)","v":85.424861071832652},{"$f":"VLOOKUP($B$3,$A$52:$HQ$71,38)","v":75.272834306645592},{"$f":"VLOOKUP($B$3,$A$52:$HQ$71,39)","v":70.086183673207216},{"$f":"VLOOKUP($B$3,$A$52:$HQ$71,40)","v":65.728243121297282},{"$f":"VLOOKUP($B$3,$A$52:$HQ$71,41)","v":61.02824312129728}]
[null,1,{"$f":"IF(VLOOKUP($B$3,$A$52:$I$71,2)<>0,VLOOKUP($B$3,$A$52:$I$71,2),8000)","v":1600},1,{"$f":"IF(VLOOKUP($B$3,$A$52:$I$71,2)<>0,VLOOKUP($B$3,$A$52:$I$71,2),8000)","v":1600},{"$f":"VLOOKUP($B$3,$A$52:$AG$71,10)","v":0.25},{"$f":"VLOOKUP($B$3,$A$52:$AG$71,11)","v":2.5},{"$f":"VLOOKUP($B$3,$A$52:$AG$71,12)","v":4.5},1,2,3,null,null,{"$f":"N14+1","v":2},{"$f":"VLOOKUP($B$3,$A$52:$HQ$71,42)","v":94.758231676661694},{"$f":"VLOOKUP($B$3,$A$52:$HQ$71,43)","v":83.164808675683631},{"$f":"VLOOKUP($B$3,$A$52:$HQ$71,44)","v":101.18659492702099},{"$f":"VLOOKUP($B$3,$A$52:$HQ$71,45)","v":84.693847748680554},{"$f":"VLOOKUP($B$3,$A$52:$HQ$71,46)","v":73.567065903224261},{"$f":"VLOOKUP($B$3,$A$52:$HQ$71,47)","v":68.258138621405507},{"$f":"VLOOKUP($B$3,$A$52:$HQ$71,48)","v":63.64259209948051},{"$f":"VLOOKUP($B$3,$A$52:$HQ$71,49)","v":58.742592099480504}]
[null,{"$f":"B15+1","v":2},{"$f":"IF(VLOOKUP($B$3,$A$52:$I$71,3)<>0,VLOOKUP($B$3,$A$52:$I$71,3),8000)","v":2000},{"$f":"D15+1","v":2},{"$f":"IF(VLOOKUP($B$3,$A$52:$I$71,3)<>0,VLOOKUP($B$3,$A$52:$I$71,3),8000)","v":2000},{"$f":"VLOOKUP($B$3,$A$52:$AG$71,13)","v":0.25},{"$f":"VLOOKUP($B$3,$A$52:$AG$71,14)","v":4.5},{"$f":"VLOOKUP($B$3,$A$52:$AG$71,15)","v":6.5},4,5,6,null,null,3,{"$f":"VLOOKUP($B$3,$A$52:$HQ$71,50)","v":94.903910654453171},{"$f":"VLOOKUP($B$3,$A$52:$HQ$71,51)","v":83.164808675683631},{"$f":"VLOOKUP($B$3,$A$52:$HQ$71,52)","v":109.33700557208981},{"$f":"VLOOKUP($B$3,$A$52:$HQ$71,53)","v":84.693847748680554},{"$f":"VLOOKUP($B$3,$A$52:$HQ$71,54)","v":73.567065903224261},{"$f":"VLOOKUP($B$3,$A$52:$HQ$71,55)","v":68.258138621405507},{"$f":"VLOOKUP($B$3,$A$52:$HQ$71,56)","v":63.64259209948051},{"$f":"VLOOKUP($B$3,$A$52:$HQ$71,57)","v":58.742592099480504}]
[null,3,{"$f":"IF(VLOOKUP($B$3,$A$52:$I$71,4)<>0,VLOOKUP($B$3,$A$52:$I$71,4),8000)","v":2400},3,{"$f":"IF(VLOOKUP($B$3,$A$52:$I$71,4)<>0,VLOOKUP($B$3,$A$52:$I$71,4),8000)","v":2400},{"$f":"VLOOKUP($B$3,$A$52:$AG$71,16)","v":0.25},{"$f":"VLOOKUP($B$3,$A$52:$AG$71,17)","v":6.5},{"$f":"VLOOKUP($B$3,$A$52:$AG$71,18)","v":9},7,8,9,null,null,4,{"$f":"VLOOKUP($B$3,$A$52:$HQ$71,58)","v":108.47553776416981},{"$f":"VLOOKUP($B$3,$A$52:$HQ$71,59)","v":90.61934711322769},{"$f":"VLOOKUP($B$3,$A$52:$HQ$71,60)","v":99.692433985764723},{"$f":"VLOOKUP($B$3,$A$52:$HQ$71,61)","v":95.026830212433751},{"$f":"VLOOKUP($B$3,$A$52:$HQ$71,62)","v":82.710176507538378},{"$f":"VLOOKUP($B$3,$A$52:$HQ$71,63)","v":76.282761812239954},{"$f":"VLOOKUP($B$3,$A$52:$HQ$71,64)","v":72.219253166961124},{"$f":"VLOOKUP($B$3,$A$52:$HQ$71,65)","v":67.519253166961121}]
[null,4,{"$f":"IF(VLOOKUP($B$3,$A$52:$I$71,5)<>0,VLOOKUP($B$3,$A$52:$I$71,5),8000)","v":2600},4,{"$f":"IF(VLOOKUP($B$3,$A$52:$I$71,5)<>0,VLOOKUP($B$3,$A$52:$I$71,5),8000)","v":2600},{"$f":"VLOOKUP($B$3,$A$52:$AG$71,19)","v":0.25},{"$f":"VLOOKUP($B$3,$A$52:$AG$71,20)","v":7.5},{"$f":"VLOOKUP($B$3,$A$52:$AG$71,21)","v":12},10,11,12,null,null,5,{"$f":"VLOOKUP($B$3,$A$52:$HQ$71,66)","v":107.62205140995782},{"$f":"VLOOKUP($B$3,$A$52:$HQ$71,67)","v":89.426792943590854},{"$f":"VLOOKUP($B$3,$A$52:$HQ$71,68)","v":107.58067359998689},{"$f":"VLOOKUP($B$3,$A$52:$HQ$71,69)","v":98.096259862508347},{"$f":"VLOOKUP($B$3,$A$52:$HQ$71,70)","v":80.827027265282311},{"$f":"VLOOKUP($B$3,$A$52:$HQ$71,71)","v":74.423544460846514},{"$f":"VLOOKUP($B$3,$A$52:$HQ$71,72)","v":70.065540414831403},{"$f":"VLOOKUP($B$3,$A$52:$HQ$71,73)","v":65.165540414831398}]
[null,5,{"$f":"IF(VLOOKUP($B$3,$A$52:$I$71,6)<>0,VLOOKUP($B$3,$A$52:$I$71,6),8000)","v":2800},5,{"$f":"IF(VLOOKUP($B$3,$A$52:$I$71,6)<>0,VLOOKUP($B$3,$A$52:$I$71,6),8000)","v":2800},{"$f":"VLOOKUP($B$3,$A$52:$AG$71,22)","v":0.25},{"$f":"VLOOKUP($B$3,$A$52:$AG$71,23)","v":8.5},{"$f":"VLOOKUP($B$3,$A$52:$AG$71,24)","v":14},13,14,15,null,null,6,{"$f":"VLOOKUP($B$3,$A$52:$HQ$71,74)","v":107.62205140995782},{"$f":"VLOOKUP($B$3,$A$52:$HQ$71,75)","v":89.426792943590854},{"$f":"VLOOKUP($B$3,$A$52:$HQ$71,76)","v":112.79693641283095},{"$f":"VLOOKUP($B$3,$A$52:$HQ$71,77)","v":100.34380890154671},{"$f":"VLOOKUP($B$3,$A$52:$HQ$71,78)","v":80.827027265282311},{"$f":"VLOOKUP($B$3,$A$52:$HQ$71,79)","v":74.423544460846514},{"$f":"VLOOKUP($B$3,$A$52:$HQ$71,80)","v":70.065540414831403},{"$f":"VLOOKUP($B$3,$A$52:$HQ$71,81)","v":65.165540414831398}]
[null,6,{"$f":"IF(VLOOKUP($B$3,$A$52:$I$71,7)<>0,VLOOKUP($B$3,$A$52:$I$71,7),8000)","v":3000},6,{"$f":"IF(VLOOKUP($B$3,$A$52:$I$71,7)<>0,VLOOKUP($B$3,$A$52:$I$71,7),8000)","v":3000},{"$f":"VLOOKUP($B$3,$A$52:$AG$71,25)","v":0.25},{"$f":"VLOOKUP($B$3,$A$52:$AG$71,26)","v":9.5},{"$f":"VLOOKUP($B$3,$A$52:$AG$71,27)","v":16},16,17,18,null,null,7,{"$f":"VLOOKUP($B$3,$A$52:$HQ$71,82)","v":118.95388637030739},{"$f":"VLOOKUP($B$3,$A$52:$HQ$71,83)","v":95.803585911469227},{"$f":"VLOOKUP($B$3,$A$52:$HQ$71,84)","v":92.273094515800267},{"$f":"VLOOKUP($B$3,$A$52:$HQ$71,85)","v":103.73489129233052},{"$f":"VLOOKUP($B$3,$A$52:$HQ$71,86)","v":88.720774741250708},{"$f":"VLOOKUP($B$3,$A$52:$HQ$71,87)","v":81.314265741203656},{"$f":"VLOOKUP($B$3,$A$52:$HQ$71,88)","v":77.486523885017732},{"$f":"VLOOKUP($B$3,$A$52:$HQ$71,89)","v":72.786523885017729}]
[null,7,{"$f":"IF(VLOOKUP($B$3,$A$52:$I$71,8)<>0,VLOOKUP($B$3,$A$52:$I$71,8),8000)","v":3200},7,{"$f":"IF(VLOOKUP($B$3,$A$52:$I$71,8)<>0,VLOOKUP($B$3,$A$52:$I$71,8),8000)","v":3200},{"$f":"VLOOKUP($B$3,$A$52:$AG$71,28)","v":0.25},{"$f":"VLOOKUP($B$3,$A$52:$AG$71,29)","v":11},{"$f":"VLOOKUP($B$3,$A$52:$AG$71,30)","v":18},19,20,21,null,null,8,{"$f":"VLOOKUP($B$3,$A$52:$HQ$71,90)","v":118.20683734350366},{"$f":"VLOOKUP($B$3,$A$52:$HQ$71,91)","v":94.8189368873294},{"$f":"VLOOKUP($B$3,$A$52:$HQ$71,92)","v":91.26720194848896},{"$f":"VLOOKUP($B$3,$A$52:$HQ$71,93)","v":111.57595994967956},{"$f":"VLOOKUP($B$3,$A$52:$HQ$71,94)","v":86.758847611416996},{"$f":"VLOOKUP($B$3,$A$52:$HQ$71,95)","v":79.461047827146302},{"$f":"VLOOKUP($B$3,$A$52:$HQ$71,96)","v":75.313471305798231},{"$f":"VLOOKUP($B$3,$A$52:$HQ$71,97)","v":70.41347130579824}]
[null,8,{"$f":"IF(VLOOKUP($B$3,$A$52:$I$71,9)<>0,VLOOKUP($B$3,$A$52:$I$71,9),8000)","v":3450},8,{"$f":"IF(VLOOKUP($B$3,$A$52:$I$71,9)<>0,VLOOKUP($B$3,$A$52:$I$71,9),8000)","v":3450},{"$f":"VLOOKUP($B$3,$A$52:$AG$71,31)","v":0.25},{"$f":"VLOOKUP($B$3,$A$52:$AG$71,32)","v":13},{"$f":"VLOOKUP($B$3,$A$52:$AG$71,33)","v":21},22,23,24,null,null,9,{"$f":"VLOOKUP($B$3,$A$52:$HQ$71,98)","v":118.20683734350366},{"$f":"VLOOKUP($B$3,$A$52:$HQ$71,99)","v":95.006089157991241},{"$f":"VLOOKUP($B$3,$A$52:$HQ$71,100)","v":91.26720194848896},{"$f":"VLOOKUP($B$3,$A$52:$HQ$71,101)","v":116.10396586360667},{"$f":"VLOOKUP($B$3,$A$52:$HQ$71,102)","v":86.758847611416996},{"$f":"VLOOKUP($B$3,$A$52:$HQ$71,103)","v":79.461047827146302},{"$f":"VLOOKUP($B$3,$A$52:$HQ$71,104)","v":75.313471305798231},{"$f":"VLOOKUP($B$3,$A$52:$HQ$71,105)","v":70.41347130579824}]
[null,null,null,null,null,null,null,null,null,null,null,null,null,10,{"$f":"VLOOKUP($B$3,$A$52:$HQ$71,106)","v":122.15166696493901},{"$f":"VLOOKUP($B$3,$A$52:$HQ$71,107)","v":99.164191219196425},{"$f":"VLOOKUP($B$3,$A$52:$HQ$71,108)","v":93.579539704734515},{"$f":"VLOOKUP($B$3,$A$52:$HQ$71,109)","v":105.50103419411056},{"$f":"VLOOKUP($B$3,$A$52:$HQ$71,110)","v":91.745434295627533},{"$f":"VLOOKUP($B$3,$A$52:$HQ$71,111)","v":83.735126699114048},{"$f":"VLOOKUP($B$3,$A$52:$HQ$71,112)","v":79.738960842332389},{"$f":"VLOOKUP($B$3,$A$52:$HQ$71,113)","v":75.09156076571557},null,null,null,"E (dB) - End Reflection Correction Values"]
[null,null,null,null,1,{"$f":"VLOOKUP($D$12,$E$15:$H$22,2)","v":0.25},1,1,{"$f":"VLOOKUP($E$12,$E$15:$H$22,2)","v":0.25},1,null,null,null,11,{"$f":"VLOOKUP($B$3,$A$52:$HQ$71,114)","v":121.44298281201577},{"$f":"VLOOKUP($B$3,$A$52:$HQ$71,115)","v":98.291372528933564},{"$f":"VLOOKUP($B$3,$A$52:$HQ$71,116)","v":92.389411701249102},{"$f":"VLOOKUP($B$3,$A$52:$HQ$71,117)","v":113.11579754806581},{"$f":"VLOOKUP($B$3,$A$52:$HQ$71,118)","v":89.934299025522549},{"$f":"VLOOKUP($B$3,$A$52:$HQ$71,119)","v":81.863032055027119},{"$f":"VLOOKUP($B$3,$A$52:$HQ$71,120)","v":77.572609731528644},{"$f":"VLOOKUP($B$3,$A$52:$HQ$71,121)","v":72.717414984116516},null,null,"Size",63,125,250,500,1000,2000,4000,8000]
[null,null,null,null,{"$f":"E24+1","v":2},{"$f":"VLOOKUP($D$12,$E$15:$H$22,3)","v":6.5},{"$f":"G24+1","v":2},{"$f":"H24+1","v":2},{"$f":"VLOOKUP($E$12,$E$15:$H$22,3)","v":7.5},{"$f":"J24+1","v":2},null,null,null,12,{"$f":"VLOOKUP($B$3,$A$52:$HQ$71,122)","v":121.44298281201577},{"$f":"VLOOKUP($B$3,$A$52:$HQ$71,123)","v":98.653594960589786},{"$f":"VLOOKUP($B$3,$A$52:$HQ$71,124)","v":92.389411701249102},{"$f":"VLOOKUP($B$3,$A$52:$HQ$71,125)","v":120.06052614504753},{"$f":"VLOOKUP($B$3,$A$52:$HQ$71,126)","v":89.934299025522549},{"$f":"VLOOKUP($B$3,$A$52:$HQ$71,127)","v":81.863032055027119},{"$f":"VLOOKUP($B$3,$A$52:$HQ$71,128)","v":77.572609731528644},{"$f":"VLOOKUP($B$3,$A$52:$HQ$71,129)","v":72.717414984116516},null,null,63,0,0,0,0,0,0,0,0]
[null,null,null,null,{"$f":"E25+1","v":3},{"$f":"VLOOKUP($D$12,$E$15:$H$22,4)","v":9},{"$f":"G25+1","v":3},{"$f":"H25+1","v":3},{"$f":"VLOOKUP($E$12,$E$15:$H$22,4)","v":12},{"$f":"J25+1","v":3},null,null,null,13,{"$f":"VLOOKUP($B$3,$A$52:$HQ$71,130)","v":123.76090113350907},{"$f":"VLOOKUP($B$3,$A$52:$HQ$71,131)","v":103.31320388331291},{"$f":"VLOOKUP($B$3,$A$52:$HQ$71,132)","v":95.685949540980076},{"$f":"VLOOKUP($B$3,$A$52:$HQ$71,133)","v":107.1325153311153},{"$f":"VLOOKUP($B$3,$A$52:$HQ$71,134)","v":94.923687819590683},{"$f":"VLOOKUP($B$3,$A$52:$HQ$71,135)","v":86.178059329181636},{"$f":"VLOOKUP($B$3,$A$52:$HQ$71,136)","v":81.771759114550633},{"$f":"VLOOKUP($B$3,$A$52:$HQ$71,137)","v":77.222489342717211},null,null,90,0,0,0,0,0,0,0,0]
[null,null,{"$f":"MAX(C3:C10)","v":3450},null,null,{"$f":"MAX(F24:F26)","v":9},null,null,{"$f":"MAX(I24:I26)","v":12},null,null,null,null,14,{"$f":"VLOOKUP($B$3,$A$52:$HQ$71,138)","v":123.05221698058583},{"$f":"VLOOKUP($B$3,$A$52:$HQ$71,139)","v":102.50098968485683},{"$f":"VLOOKUP($B$3,$A$52:$HQ$71,140)","v":94.469072767051813},{"$f":"VLOOKUP($B$3,$A$52:$HQ$71,141)","v":114.46125801142172},{"$f":"VLOOKUP($B$3,$A$52:$HQ$71,142)","v":93.435932303414873},{"$f":"VLOOKUP($B$3,$A$52:$HQ$71,143)","v":84.27413025297102},{"$f":"VLOOKUP($B$3,$A$52:$HQ$71,144)","v":79.620196236156403},{"$f":"VLOOKUP($B$3,$A$52:$HQ$71,145)","v":74.850533651877484},null,null,125,23.6,17.8,12,6.8,2.8,0.5,0,0]
[null,null,null,null,null,null,null,null,null,null,null,null,null,15,{"$f":"VLOOKUP($B$3,$A$52:$HQ$71,146)","v":123.05221698058583},{"$f":"VLOOKUP($B$3,$A$52:$HQ$71,147)","v":102.78959203988667},{"$f":"VLOOKUP($B$3,$A$52:$HQ$71,148)","v":94.469072767051813},{"$f":"VLOOKUP($B$3,$A$52:$HQ$71,149)","v":121.77999410087128},{"$f":"VLOOKUP($B$3,$A$52:$HQ$71,150)","v":93.435932303414873},{"$f":"VLOOKUP($B$3,$A$52:$HQ$71,151)","v":84.27413025297102},{"$f":"VLOOKUP($B$3,$A$52:$HQ$71,152)","v":79.620196236156403},{"$f":"VLOOKUP($B$3,$A$52:$HQ$71,153)","v":74.850533651877484},null,null,160,0,0,0,0,0,0,0,0]
[null,null,{"$f":"VLOOKUP(C27,C15:D22,2)","v":8},{"$f":"VLOOKUP(C29,B15:C22,2)","v":3450},null,{"$f":"VLOOKUP(F27,F24:G26,2)","v":3},{"$f":"VLOOKUP(F29,E24:F26,2)","v":9},null,{"$f":"VLOOKUP(I27,I24:J26,2)","v":3},{"$f":"VLOOKUP(I29,H24:I26,2)","v":12},null,null,null,16,{"$f":"VLOOKUP($B$3,$A$52:$HQ$71,154)","v":125.25906230238122},{"$f":"VLOOKUP($B$3,$A$52:$HQ$71,155)","v":107.27834860613758},{"$f":"VLOOKUP($B$3,$A$52:$HQ$71,156)","v":97.64258343563462},{"$f":"VLOOKUP($B$3,$A$52:$HQ$71,157)","v":108.64862421888434},{"$f":"VLOOKUP($B$3,$A$52:$HQ$71,158)","v":97.88422802426426},{"$f":"VLOOKUP($B$3,$A$52:$HQ$71,159)","v":88.447090718953589},{"$f":"VLOOKUP($B$3,$A$52:$HQ$71,160)","v":83.662367516082782},{"$f":"VLOOKUP($B$3,$A$52:$HQ$71,161)","v":79.203952069964672},null,null,200,0,0,0,0,0,0,0,0]
[null,null,{"$f":"C29-1","v":7},{"$f":"VLOOKUP(C30,B15:C22,2)","v":3200},null,{"$f":"F29-1","v":2},{"$f":"VLOOKUP(F30,E25:F27,2)","v":6.5},null,{"$f":"I29-1","v":2},{"$f":"VLOOKUP(I30,H25:I27,2)","v":7.5},null,null,null,17,{"$f":"VLOOKUP($B$3,$A$52:$HQ$71,162)","v":124.55037814945798},{"$f":"VLOOKUP($B$3,$A$52:$HQ$71,163)","v":106.42461851649885},{"$f":"VLOOKUP($B$3,$A$52:$HQ$71,164)","v":96.405190899548003},{"$f":"VLOOKUP($B$3,$A$52:$HQ$71,165)","v":115.66075560654262},{"$f":"VLOOKUP($B$3,$A$52:$HQ$71,166)","v":96.695874894138214},{"$f":"VLOOKUP($B$3,$A$52:$HQ$71,167)","v":86.518808973475032},{"$f":"VLOOKUP($B$3,$A$52:$HQ$71,168)","v":81.526453666587315},{"$f":"VLOOKUP($B$3,$A$52:$HQ$71,169)","v":76.836419621149133},null,null,250,0,0,0,0,0,0,0,0]
[null,null,null,null,null,null,null,null,null,null,null,null,null,18,{"$f":"VLOOKUP($B$3,$A$52:$HQ$71,170)","v":124.55037814945798},{"$f":"VLOOKUP($B$3,$A$52:$HQ$71,171)","v":106.6324763343063},{"$f":"VLOOKUP($B$3,$A$52:$HQ$71,172)","v":96.405190899548003},{"$f":"VLOOKUP($B$3,$A$52:$HQ$71,173)","v":123.19535744731733},{"$f":"VLOOKUP($B$3,$A$52:$HQ$71,174)","v":96.695874894138214},{"$f":"VLOOKUP($B$3,$A$52:$HQ$71,175)","v":86.518808973475032},{"$f":"VLOOKUP($B$3,$A$52:$HQ$71,176)","v":81.526453666587315},{"$f":"VLOOKUP($B$3,$A$52:$HQ$71,177)","v":76.836419621149133}]
[null,null,null,null,null,null,null,null,null,null,null,null,null,19,{"$f":"VLOOKUP($B$3,$A$52:$HQ$71,178)","v":126.66049848239341},{"$f":"VLOOKUP($B$3,$A$52:$HQ$71,179)","v":110.98749378291063},{"$f":"VLOOKUP($B$3,$A$52:$HQ$71,180)","v":99.469677566053434},{"$f":"VLOOKUP($B$3,$A$52:$HQ$71,181)","v":110.06474929167902},{"$f":"VLOOKUP($B$3,$A$52:$HQ$71,182)","v":100.65473909670024},{"$f":"VLOOKUP($B$3,$A$52:$HQ$71,183)","v":90.56576071106943},{"$f":"VLOOKUP($B$3,$A$52:$HQ$71,184)","v":85.429454165129854},{"$f":"VLOOKUP($B$3,$A$52:$HQ$71,185)","v":81.055674882184732}]
[null,null,null,null,null,null,null,null,null,null,null,null,null,20,{"$f":"VLOOKUP($B$3,$A$52:$HQ$71,186)","v":125.95181432947017},{"$f":"VLOOKUP($B$3,$A$52:$HQ$71,187)","v":110.10915882988573},{"$f":"VLOOKUP($B$3,$A$52:$HQ$71,188)","v":98.216308458882693},{"$f":"VLOOKUP($B$3,$A$52:$HQ$71,189)","v":117.25689604085366},{"$f":"VLOOKUP($B$3,$A$52:$HQ$71,190)","v":99.745347531879617},{"$f":"VLOOKUP($B$3,$A$52:$HQ$71,191)","v":88.618565686423324},{"$f":"VLOOKUP($B$3,$A$52:$HQ$71,192)","v":83.30963840460457},{"$f":"VLOOKUP($B$3,$A$52:$HQ$71,193)","v":78.694091882679572}]
[null,null,null,null,null,null,null,null,null,null,null,null,null,21,{"$f":"VLOOKUP($B$3,$A$52:$HQ$71,194)","v":125.95181432947017},{"$f":"VLOOKUP($B$3,$A$52:$HQ$71,195)","v":110.22687078191527},{"$f":"VLOOKUP($B$3,$A$52:$HQ$71,196)","v":98.216308458882693},{"$f":"VLOOKUP($B$3,$A$52:$HQ$71,197)","v":124.38850535528887},{"$f":"VLOOKUP($B$3,$A$52:$HQ$71,198)","v":99.745347531879617},{"$f":"VLOOKUP($B$3,$A$52:$HQ$71,199)","v":88.618565686423324},{"$f":"VLOOKUP($B$3,$A$52:$HQ$71,200)","v":83.30963840460457},{"$f":"VLOOKUP($B$3,$A$52:$HQ$71,201)","v":78.694091882679572}]
[null,null,null,null,null,null,null,null,null,null,null,null,null,22,{"$f":"VLOOKUP($B$3,$A$52:$HQ$71,202)","v":128.2939543200618},{"$f":"VLOOKUP($B$3,$A$52:$HQ$71,203)","v":115.31071943397589},{"$f":"VLOOKUP($B$3,$A$52:$HQ$71,204)","v":101.59597605374977},{"$f":"VLOOKUP($B$3,$A$52:$HQ$71,205)","v":111.71309645458123},{"$f":"VLOOKUP($B$3,$A$52:$HQ$71,206)","v":103.88495328633212},{"$f":"VLOOKUP($B$3,$A$52:$HQ$71,207)","v":93.031246767287087},{"$f":"VLOOKUP($B$3,$A$52:$HQ$71,208)","v":87.487516196544533},{"$f":"VLOOKUP($B$3,$A$52:$HQ$71,209)","v":83.212042741216095}]
[{"$f":"A3","v":"Size"},{"$f":"A4","v":"RPM"},{"$f":"A5","v":"SP"},63,125,250,500,1000,2000,4000,8000,"LWA",null,23,{"$f":"VLOOKUP($B$3,$A$52:$HQ$71,210)","v":127.58527016713857},{"$f":"VLOOKUP($B$3,$A$52:$HQ$71,211)","v":114.39811913384152},{"$f":"VLOOKUP($B$3,$A$52:$HQ$71,212)","v":100.32727190637505},{"$f":"VLOOKUP($B$3,$A$52:$HQ$71,213)","v":119.07802017656148},{"$f":"VLOOKUP($B$3,$A$52:$HQ$71,214)","v":103.64124900018555},{"$f":"VLOOKUP($B$3,$A$52:$HQ$71,215)","v":91.065954949927999},{"$f":"VLOOKUP($B$3,$A$52:$HQ$71,216)","v":85.38804451506347},{"$f":"VLOOKUP($B$3,$A$52:$HQ$71,217)","v":80.859317558561017},null,null,null,"Size","RPM","AMCA Test No."]
[{"$f":"B3","v":125},{"$f":"B4","v":2503},{"$f":"B5","v":2.944},{"$f":"O12","v":120.30895080349333},{"$f":"P12","v":97.161423829988649},92.507876418451389,107.74087842129036,89.521733576908304,81.815328833344978,77.7776748260017,73.023187885273956,{"$f":"10*LOG10(10^((D37-26.2)/10) +10^((E37-16.1)/10)+10^((F37-8.6)/10)+10^((G37-3.2)/10)+10^((H37)/10)+10^((I37+1.2)/10)+10^((J37+1)/10)+10^((K37-1.1)/10))","v":105.13039847677911},null,24,{"$f":"VLOOKUP($B$3,$A$52:$HQ$71,218)","v":127.58527016713857},{"$f":"VLOOKUP($B$3,$A$52:$HQ$71,219)","v":114.42328939349635},{"$f":"VLOOKUP($B$3,$A$52:$HQ$71,220)","v":100.32727190637505},{"$f":"VLOOKUP($B$3,$A$52:$HQ$71,221)","v":126.09000967502858},{"$f":"VLOOKUP($B$3,$A$52:$HQ$71,222)","v":104.02185118239154},{"$f":"VLOOKUP($B$3,$A$52:$HQ$71,223)","v":91.065954949927999},{"$f":"VLOOKUP($B$3,$A$52:$HQ$71,224)","v":85.38804451506347},{"$f":"VLOOKUP($B$3,$A$52:$HQ$71,225)","v":80.859317558561017},null,null,1,63,2500,"AMCA Test - 02/27/2006 - 22638-S1"]
[null,null,null,null,null,null,null,null,null,null,null,null,null,null,null,null,null,null,null,null,null,null,null,null,2,90,2500,"AMCA Test - 02/28/2026 - 22639-S1"]
[null,null,null,null,null,null,null,null,null,null,null,null,null,null,null,null,null,null,null,null,null,null,null,null,3,125,2500,"AMCA Test - 03/06/2026 - 44759-S1"]
[null,null,null,null,null,null,null,null,null,null,null,null,null,null,null,null,null,null,null,null,null,null,null,null,4,160,2500,"AMCA Test - 02/28/2006 - 22641-S1"]
[null,null,null,null,null,null,null,null,null,null,null,null,null,null,null,null,null,null,null,null,null,null,null,null,5,200,2500,"AMCA Test - 02/25/2006 - 22642-S1"]
[null,null,null,null,null,null,null,null,null,null,null,null,null,null,null,null,null,null,null,null,null,null,null,null,6,250,2500,"AMCA Test - 02/25/2026 - 22637-S1"]
[]
[]
[]
[]
[]
[]
[1,{"$f":"A49+1","v":2},3,4,5,6,7,8,9,10,11,12,13,14,15,16,17,18,19,20,21,22,23,24,25,26,27,28,29,30,31,32,33,34,35,36,37,38,39,40,41,42,43,44,45,46,47,48,49,50,51,52,53,54,55,56,57,58,59,60,61,62,63,64,65,{"$f":"BM49+1","v":66},67,68,69,70,71,72,73,74,75,76,77,78,79,80,81,82,83,84,85,86,87,88,89,90,91,92,93,94,95,96,97,98,99,100,101,102,103,104,105,106,107,108,109,110,111,112,113,114,115,116,117,118,119,120,121,122,123,124,125,126,127,128,129,{"$f":"DY49+1","v":130},131,132,133,134,135,136,137,138,139,140,141,142,143,144,145,146,147,148,149,150,151,152,153,154,155,156,157,158,159,160,161,162,163,164,165,166,167,168,169,170,171,172,173,174,175,176,177,178,179,180,181,182,183,184,185,186,187,188,189,190,191,192,193,{"$f":"GK49+1","v":194},195,196,197,198,199,200,201,202,203,204,205,206,207,208,209,210,211,212,213,214,215,216,217,218,219,220,221,222,223,224,225]
["Size","RPM1","RPM2","RPM3","RPM4","RPM5","RPM6","RPM7","RPM8","SP11","SP12","SP13","SP21","SP22","SP23","SP31","SP32","SP33","SP41","SP42","SP43","SP51","SP52","SP53","SP61","SP62","SP63","SP71","SP72","SP73","SP81","SP82","SP83",63,125,250,500,1000,2000,4000,8000,63,125,250,500,1000,2000,4000,8000,63,125,250,500,1000,2000,4000,8000,63,125,250,500,1000,2000,4000,8000,63,125,250,500,1000,2000,4000,8000,63,125,250,500,1000,2000,4000,8000,63,125,250,500,1000,2000,4000,8000,63,125,250,500,1000,2000,4000,8000,63,125,250,500,1000,2000,4000,8000,63,125,250,500,1000,2000,4000,8000,63,125,250,500,1000,2000,4000,8000,63,125,250,500,1000,2000,4000,8000,63,125,250,500,1000,2000,4000,8000,63,125,250,500,1000,2000,4000,8000,63,125,250,500,1000,2000,4000,8000,63,125,250,500,1000,2000,4000,8000,63,125,250,500,1000,2000,4000,8000,63,125,250,500,1000,2000,4000,8000,63,125,250,500,1000,2000,4000,8000,63,125,250,500,1000,2000,4000,8000,63,125,250,500,1000,2000,4000,8000,63,125,250,500,1000,2000,4000,8000,63,125,250,500,1000,2000,4000,8000,63,125,250,500,1000,2000,4000,8000]
[]
[63,1600,2000,2400,2600,2800,3000,3200,3450,0.25,1.5,2.25,0.25,2.25,3.5,0.25,3.5,5,0.25,4,6,0.25,4.5,7,0.25,5,8,0.25,6,9,0.25,7,11,96.133218108403469,90.649360417329262,97.310657288578867,88.443334774075339,77.761770239275847,70.158147106288226,62.354638560298625,54.659813581337531,95.508533081698204,88.516370103635381,97.773361466524719,88.739309874324391,77.761770239275847,70.158147106288226,62.266925748992506,54.435869911522914,94.99569755672195,89.417583965637277,98.109612248537658,89.280170082075784,78.027660913941418,71.119531243449302,63.651314774151686,55.651313140825678,104.21667499463292,96.77460076118065,98.383181047554075,98.721670871790167,84.880880873123502,77.579074680443483,69.641955336407904,61.837266389346397,105.01039333264562,94.392320083623659,97.354687196130811,99.235520845468756,84.880880873123502,77.579074680443483,69.657045712546591,61.899231810188567,104.26772720734807,94.700932728296053,98.287637722606718,99.636158233698126,85.378841380993222,78.051906466122347,71.047828769163374,63.047827836191928,110.68668214773636,101.66483336567404,99.390200742117173,107.11967556599008,90.69762488617107,83.642412168832848,75.650406066883704,67.786032521417695,113.03364127671223,99.039257826535462,97.07615943802557,107.96560452636639,90.69762488617107,83.642412168832848,75.648373944619408,67.74949515791333,111.87739517419372,99.028027819721459,98.395682919884678,108.10275235033592,91.368325505789159,83.726355433184807,77.067765387123586,69.06775803175168,112.79690548387968,104.15752867883587,100.67432804961746,109.68133291206169,93.806561590152839,86.251284022961102,78.304337199205406,70.413367682577473,115.37956080932348,101.83724374369159,98.023031805752339,110.53044533809719,93.854607262056007,86.251284022961102,78.304337199205406,70.44668731455468,114.13399867914596,101.62369693433148,99.474277164462094,110.68133291206169,94.593036828162852,86.295060828545331,79.764120866143415,71.851674751334528,114.06837252680238,106.8053747040281,102.64873835824456,110.96872024691774,97.22008951949131,88.615609986967542,80.768896241214776,72.852247394738711,116.5560957410881,105.05156299915892,99.96512549339991,111.76240647140753,97.349855570141457,88.615609986967542,80.768896241214776,72.94147230103485,115.38836614925138,104.68623331268266,101.25336263450306,111.96872024691774,98.044573459070861,88.744802543621233,82.090866763618493,74.349247936048641,115.25405778276179,109.25879824199221,104.47840215641506,112.16724918201547,100.3980038305656,90.816736730903159,83.063338109662112,75.127312962860032,117.63947444942848,108.01290391588815,101.78539790588863,112.90336029312658,100.59162668458644,90.816736730903159,83.063338109662112,75.25781721338646,116.61169667165068,107.5457476116347,102.86237621848697,113.16724918201547,101.23423379068929,91.021316402127113,84.209728388796222,76.618895846588913,116.36469511652849,111.5454171559352,106.18364626271259,112.51051111042173,103.37074197745621,92.875759515244937,85.209646889487288,77.258771389018321,118.95051054621599,110.76358826258662,103.44552532266434,112.88646433677198,103.66671707770526,92.875759515244937,85.209646889487288,77.318425532191569,117.79523710871599,110.2392857948828,104.34673918466623,113.22271511878492,104.20757728545665,93.141650189910507,86.171031026648365,78.702814557350749,117.66080331247024,114.2021604462188,108.16469687355655,112.91936215458185,106.83564873743468,95.275667648514428,87.711302535574163,79.74644444500359,120.27086422404342,113.99478340564981,105.40645597287789,112.76104583378876,107.22497067498769,95.275667648514428,87.711302535574163,79.798111096574928,118.81906838283361,113.22640930452421,106.28191095464913,113.36477429982671,107.77571767043246,95.688315718700977,88.662103853718151,81.487404082811167]
[90,1600,2000,2400,2600,2800,3000,3200,3450,0.25,2.5,4.5,0.25,4.5,6.5,0.25,6.5,9,0.25,7.5,12,0.25,8.5,14,0.25,9.5,16,0.25,11,18,0.25,13,21,92.039461430820609,88.368398488440107,94.521082379554926,84.657332707157622,74.198695142929409,68.838884632444234,62.496829554993454,55.496830782690395,92.635454672115827,86.30314033938248,93.9291057211138,83.154743081851194,73.200784059417401,67.294558384796829,60.276126429993454,53.276127657690395,90.666132594185854,84.82968706538577,91.710770582479952,81.018602565823386,72.324721727696215,66.411565075038226,59.055424016989562,52.055424888688449,98.101708155080999,94.297657879238855,95.645828914756834,95.403082525547262,81.038936774650907,75.415764219697195,69.705694293455366,62.70569361380366,98.752447199032034,92.66694946790291,93.081249696130811,94.162293410118338,79.254850398222302,74.492821067209917,67.143194293455366,60.14319361380366,98.201586913273061,91.382880048995744,92.293109220380842,92.677759891565557,78.264010082403516,74.040012180443483,66.361944293455366,59.361944127893722,103.07259826572903,99.063742690661101,96.645209539381938,104.11661531286001,86.624876582343759,80.747282766768237,75.565677688081166,68.565671286383562,104.24166235621274,98.418796190416032,92.77560685379467,103.40257421970261,84.142072490489525,80.4335373794558,72.938073521414509,65.938067119716905,104.11654090347059,96.903683752280358,92.419823537798337,102.06018154743539,83.076381871239391,80.201005918832848,72.259905118636723,65.259898716939119,104.85469024719329,101.2014891859353,97.912002825883761,106.7391176753753,89.75738444398327,83.133646196467595,78.022287117594018,71.132184486951928,106.21425015843589,100.98121416759317,94.040202232160553,106.21424711324511,87.257845954283198,82.788647404036539,75.540640199965907,68.514210215604393,106.45500459630573,98.782616663756116,93.88316620137428,104.13399563395518,85.428974525669361,82.207504960159525,74.530668560152151,67.47408447595943,106.11819714414933,103.23611417735152,99.864329460778976,108.01854486426467,93.308376874223356,85.394137408578231,80.186895733982894,73.505741726344297,107.58064931251668,103.32631007524212,96.503278163773615,107.5806462673259,91.066570621344809,84.755700097318169,77.974810033369991,70.911353971242249,107.75890186353708,101.27075349937938,95.987987020336803,105.38836310406059,89.13022615104822,84.042243344969251,76.978717669786192,69.815212389609599,107.29746056053956,105.13100171126864,101.67484615125505,109.21065195979324,96.608482255591539,87.498882690704306,82.198846358865467,75.713499914921158,108.86864111609513,105.52359479041174,98.820206078008624,108.86863807090435,94.630043772247348,86.59839518166558,80.229542853577243,73.150999295695129,108.94503000498402,103.63015880887319,97.932154237014529,106.6116936264599,92.631548921982684,85.782240847385353,79.285560331884327,72.022526739024613,108.40284208918474,106.90414281362179,103.3634057804903,109.5631202441887,99.691349424288788,89.467882777596316,84.07850881085173,77.777211174130017,109.93146757746599,107.3834349958736,100.77453188653644,108.71775443281652,97.875219140301638,88.358674717400646,82.302156494943432,75.175038322567517,110.03498320246599,105.84846214750293,99.758842284414726,106.82387345272721,95.946009769204252,87.438711003665304,81.463064858237288,74.106923800188625,109.69362204802998,108.9715724278379,105.32647159139908,109.97911484442497,103.28042901585589,91.762930813823914,86.266910067882279,80.181000879248757,111.18201734313605,109.57300165060026,103.07006110421668,108.54596836567627,101.65942494729735,90.396260076303975,84.732037012081477,77.540064101260924,111.35193962837026,108.38432290834395,101.89161021112787,106.98644807049969,99.716105985172945,89.308571996425115,83.954528748554623,76.489864563348732]
[125,1600,2000,2400,2600,2800,3000,3200,3450,0.25,2.5,4.5,0.25,4.5,6.5,0.25,6.5,9,0.25,7.5,12,0.25,8.5,14,0.25,9.5,16,0.25,11,18,0.25,13,21,95.651075528339618,84.206616655832491,94.69341071402215,85.424861071832652,75.272834306645592,70.086183673207216,65.728243121297282,61.02824312129728,94.758231676661694,83.164808675683631,101.18659492702099,84.693847748680554,73.567065903224261,68.258138621405507,63.64259209948051,58.742592099480504,94.903910654453171,83.164808675683631,109.33700557208981,84.693847748680554,73.567065903224261,68.258138621405507,63.64259209948051,58.742592099480504,108.47553776416981,90.61934711322769,99.692433985764723,95.026830212433751,82.710176507538378,76.282761812239954,72.219253166961124,67.519253166961121,107.62205140995782,89.426792943590854,107.58067359998689,98.096259862508347,80.827027265282311,74.423544460846514,70.065540414831403,65.165540414831398,107.62205140995782,89.426792943590854,112.79693641283095,100.34380890154671,80.827027265282311,74.423544460846514,70.065540414831403,65.165540414831398,118.95388637030739,95.803585911469227,92.273094515800267,103.73489129233052,88.720774741250708,81.314265741203656,77.486523885017732,72.786523885017729,118.20683734350366,94.8189368873294,91.26720194848896,111.57595994967956,86.758847611416996,79.461047827146302,75.313471305798231,70.41347130579824,118.20683734350366,95.006089157991241,91.26720194848896,116.10396586360667,86.758847611416996,79.461047827146302,75.313471305798231,70.41347130579824,122.15166696493901,99.164191219196425,93.579539704734515,105.50103419411056,91.745434295627533,83.735126699114048,79.738960842332389,75.09156076571557,121.44298281201577,98.291372528933564,92.389411701249102,113.11579754806581,89.934299025522549,81.863032055027119,77.572609731528644,72.717414984116516,121.44298281201577,98.653594960589786,92.389411701249102,120.06052614504753,89.934299025522549,81.863032055027119,77.572609731528644,72.717414984116516,123.76090113350907,103.31320388331291,95.685949540980076,107.1325153311153,94.923687819590683,86.178059329181636,81.771759114550633,77.222489342717211,123.05221698058583,102.50098968485683,94.469072767051813,114.46125801142172,93.435932303414873,84.27413025297102,79.620196236156403,74.850533651877484,123.05221698058583,102.78959203988667,94.469072767051813,121.77999410087128,93.435932303414873,84.27413025297102,79.620196236156403,74.850533651877484,125.25906230238122,107.27834860613758,97.64258343563462,108.64862421888434,97.88422802426426,88.447090718953589,83.662367516082782,79.203952069964672,124.55037814945798,106.42461851649885,96.405190899548003,115.66075560654262,96.695874894138214,86.518808973475032,81.526453666587315,76.836419621149133,124.55037814945798,106.6324763343063,96.405190899548003,123.19535744731733,96.695874894138214,86.518808973475032,81.526453666587315,76.836419621149133,126.66049848239341,110.98749378291063,99.469677566053434,110.06474929167902,100.65473909670024,90.56576071106943,85.429454165129854,81.055674882184732,125.95181432947017,110.10915882988573,98.216308458882693,117.25689604085366,99.745347531879617,88.618565686423324,83.30963840460457,78.694091882679572,125.95181432947017,110.22687078191527,98.216308458882693,124.38850535528887,99.745347531879617,88.618565686423324,83.30963840460457,78.694091882679572,128.2939543200618,115.31071943397589,101.59597605374977,111.71309645458123,103.88495328633212,93.031246767287087,87.487516196544533,83.212042741216095,127.58527016713857,114.39811913384152,100.32727190637505,119.07802017656148,103.64124900018555,91.065954949927999,85.38804451506347,80.859317558561017,127.58527016713857,114.42328939349635,100.32727190637505,126.09000967502858,104.02185118239154,91.065954949927999,85.38804451506347,80.859317558561017]
[160,1600,2000,2400,2600,2800,3000,3200,3450,0.25,2.75,4.5,0.25,4.75,7,0.25,6.75,10,0.25,8,12,0.25,9,14,0.25,10,16,0.25,11.5,18,0.25,14,21,91.77301921575048,90.122848271333169,96.373834989664672,89.069727138577292,80.842551191513394,75.293273220179827,70.384498226079899,66.079322427814205,90.621449785965467,87.916323698997985,92.729329757092117,85.339502529202292,78.968442847196911,73.572191208942087,66.652094747494715,59.973626964330052,90.370326108026291,86.160496010385941,90.312189481852172,83.843124418480585,78.624906530779754,73.158149013636859,65.321315887007657,57.574731752113749,99.886510800525869,94.096793534403574,98.644194555397092,98.492140537317511,87.360866333762502,82.125274479027468,76.706258049086813,72.510943915760805,97.877309244081701,92.384944306855928,94.754876327629148,94.121046787317511,84.106460328618383,80.672131999965387,73.236597953216318,66.381129201567447,98.784318160221304,91.223094629293215,92.933928442115842,92.691534822996374,83.812452833572721,80.579074680443483,72.664590900615934,64.930215474283969,106.51571285190352,97.289459690496543,100.4691266041977,106.16072340398921,92.683771693427744,87.692381736025766,81.802186237582674,77.666548887002108,104.12157384516962,96.299661439370993,96.876237928153685,101.80319302204477,88.527974346415249,86.662311630251239,79.049151724345919,72.218091588822631,105.60305106105574,95.366119471320062,95.099498969513462,99.954953126674496,88.050987923280445,86.642412168832848,78.659339736460751,70.946659318009324,108.68133595725247,99.426064319654003,101.56596286092852,108.56576338543448,95.521241849902566,90.077062791926579,84.133383829676816,79.911188882400893,106.13399867914596,98.47973981884212,98.137980699192184,104.13399563395518,91.089474098423267,88.937396793628537,81.589036881858704,74.691879057942657,108.00234187441224,97.715052613634711,96.341182811378772,102.13399563395518,90.54925776536129,88.911783595715008,81.304337199205406,73.51786223521799,109.96872329210852,102.12062481124833,102.86704546410692,109.86907101222386,98.629942695686097,92.230639483773544,86.392071959561193,81.981713965348405,107.58766461863912,101.06438789580592,99.819791706999894,105.58766157344834,94.348533256910585,90.735811218233096,84.114059256901498,77.190601927250583,109.33925900639422,100.52242786197071,97.989731443930594,103.38836310406059,93.47120681707257,90.634614808744885,83.768896241214776,75.944406853611923,111.16725222720625,104.62920471070153,104.07380434418633,111.0804436264599,101.52209381334011,94.235847870147666,88.493865690771045,83.903825559202346,108.95891889387291,103.50134379371612,101.38524728892493,106.95891584868212,97.400566035562335,92.446766515211692,86.45229195436832,79.522560170607591,110.50058556053956,103.14708419678551,99.575908560338092,104.6116936264599,96.199737059460986,92.238531622260581,86.063338109662112,78.227110330909653,112.28840117121599,106.97582515129331,105.19937044484149,111.71581969584943,104.22601617789566,96.111738826180286,90.45921392134764,85.697805881727064,110.02411894465349,105.6772038758311,102.72006265455465,107.62318998004915,100.03802789664566,94.000917241707867,88.525446355821572,81.501884321908975,111.52814726496599,105.58459834182146,101.0896512294149,105.42529235209943,98.770531621861451,93.738895806748843,88.209648796835921,80.37281567020672,113.59516584135072,109.71094217738506,106.50796217224089,112.45479553080037,107.37600644453782,98.298262539898133,92.749147252162828,87.784675127569741,111.08161826731164,108.08539124728414,104.18606009566233,108.23612274356611,102.92809634161826,95.713697014078008,90.884911480135926,83.657744439956431,112.86548720240931,108.43697880682451,102.77520601005537,106.28048683466969,101.73834637692404,95.487658004959727,90.711302535574163,82.84151333271538]
[200,1600,2000,2400,2600,2800,3000,3200,3450,0.25,2.75,4.5,0.25,4.75,7,0.25,6.75,10,0.25,8,12,0.25,9,14,0.25,10.5,16,0.25,12,18,0.25,14,21,92.830966206925893,92.370308946758996,96.359900927802144,90.892612590415652,83.744306555193816,78.686296741819234,73.63195566888507,68.631954326597352,90.780846847879673,89.364976642594229,92.334475087632953,87.042050278706739,80.450916896750186,75.088927517054827,69.295950796078699,63.617482979153593,91.079011342215324,88.529112667717527,89.880597864908694,84.066728786526511,78.41497500444666,73.699279079554827,67.699281260926085,61.699279627600063,99.451259892389501,96.642431112175714,99.685218867774068,99.32549058478665,90.329428236404752,85.318106248613077,80.251892370955233,75.251894366061975,96.556057821914877,94.011543708091509,95.273168993110716,94.890827587064024,86.233732219258641,81.511993229027468,75.55852597750831,69.703055869853785,96.900587033436025,94.133498417382967,93.589878988380491,92.45011401754212,84.116373639026975,80.488555729027468,74.488559817747358,68.488558184421336,104.80552941523162,100.10292591283243,102.29845581960176,106.20975914397067,95.679777613086216,90.679465926490451,85.615647255274098,80.615641807250825,101.56828566851385,98.091720477205399,97.924765813382081,101.66188337701784,91.371192289278952,87.098089201303551,81.10804492808127,75.276984792557982,101.64543968567088,98.690601309599359,96.618353157107975,99.335017769766125,88.820228835744373,86.047524965192437,80.047530961260961,74.047525513237673,106.68133595725247,102.03090105268485,103.61600694819178,108.45019385880724,98.344952319001763,93.022547687251844,87.964500446931766,82.961232969664138,103.28488625311046,100.05992042150831,99.328376212422,103.83222048602619,93.902648419524539,89.391846689904895,83.492945250257151,77.635295653401641,103.45500459630573,100.79903802131163,98.215211660557287,101.36032699490192,91.146055245746965,88.220311559116297,82.41750175107012,76.41750202509273,107.96872329210852,104.21046147559413,105.01425457046221,109.76942177752997,101.12315628812537,95.188961087967016,90.137071021603035,85.128921259387965,104.79397839414933,102.099319840147,101.12213965900571,105.17503402242794,96.790574947162852,91.571471823031146,85.854524127928528,80.027102488609557,104.75890186353708,102.75300381518183,100.07260351110959,102.59818453263202,93.868562441680197,90.076548713120218,84.651719512625576,78.651714464804911,109.16725222720625,106.23503038655993,106.31400628101409,110.99363807090435,103.71016028263858,97.203861534234306,92.155441756523288,87.144027496030105,105.87558556053956,103.95503246821902,102.58142904981887,106.3443325153488,99.257890556309206,93.428378018706809,87.891435135215488,82.021941567113174,105.94503000498402,104.54432684883086,101.82130379688323,103.83391584868212,96.486465388589679,91.840692182020774,86.759490690771045,80.759492872142289,110.28840117121599,108.12558915219712,107.52834643828291,111.90185034054005,106.13041651119217,99.087177667100406,94.04036183819548,89.026778205990368,106.96418242121599,105.69729698249581,103.99939795266445,107.25643389474274,101.62038031882345,95.205387137163854,89.83525151900389,83.94403016170817,107.03498320246599,106.20040400871518,103.45826788674648,104.99370073515595,98.994135989907377,93.528964280415749,88.75077886275389,82.750781044125134,111.59516584135072,110.32580184911897,108.94213448526045,112.95431938591236,108.95150578704779,101.28069362954335,96.234091332322521,91.218843688488789,108.24376907596529,107.72532780700173,105.66218650549624,108.31851555010823,104.38340266179266,97.28131078041713,92.106267605029871,86.193075856752529,108.35193962837026,108.1772115088382,105.34829684036734,106.21142062775505,101.77732154751865,95.421591500984249,91.02519220070306,85.025196289422951]
[250,1600,2000,2400,2600,2800,3000,3200,3450,0.25,2.75,4.5,0.25,4.75,7,0.25,6.75,10,0.25,8,12,0.25,9,14,0.25,10,16,0.25,11.5,18,0.25,14,21,93.283975026297355,96.112413446359824,101.65276565372717,95.411785722671326,87.100450506609832,81.784541378138812,77.428397700745421,73.428399882116665,90.437576201471472,93.411060708515834,96.991708305364071,90.821630677169438,83.128594051291202,78.054316768763812,73.698174385443139,69.698175272741665,89.926149989205385,90.967517717682313,92.292375169394134,87.28152946844537,80.556318273943816,76.077244453473241,71.506302001509624,66.759720244282235,97.599264096424307,99.995799886232149,104.30502219211584,104.20221436601472,94.007498304764127,88.349544345970827,83.671478366331343,79.671478640353968,93.785368513271536,97.075333105569612,99.715189245457708,98.427368646677252,89.056336800972318,83.978450595970827,79.300384616331343,75.300383258676817,94.197169613048757,95.630534397607576,96.568267774696409,95.188570803220983,87.055990736404752,82.312524139519411,77.895999973491911,73.161624740875055,101.09502210347686,103.16581154826139,106.4570293514579,111.34232901539961,99.620882502002232,93.683460006831979,88.742359206635854,84.74235375861258,96.836516777298527,100.42740424023259,102.83244318443697,105.46681037220584,94.481242490694967,89.325929624887536,84.384828824691411,80.384823376668123,97.647780009066082,99.441937798058206,100.0901304141001,101.70628742300696,92.390064071419545,87.43571673802424,83.123346284587285,78.410667225452897,102.56576643062526,104.62359751519476,107.61394224259138,113.62354814874809,102.41134469945941,96.07913109179286,91.0190155516065,86.96243253130379,98.133995440039101,101.7928425410101,104.1671637314368,107.58665835584867,97.087686924040426,91.599317668410407,86.587247800127216,82.530666576957458,99.22867237197336,100.98387090461601,101.49812416882773,103.58665835584867,94.832170273631732,89.590779935772559,85.317139633596213,80.574443382541688,103.86907405741464,106.03618095985523,108.89243523152987,114.91889562957078,105.31109306761714,98.352459012771703,93.178749417409563,89.015247856897304,99.587661590966448,103.07959025143403,105.66538157344345,109.20660289997895,100.13181700631581,93.941283523346044,88.897339978634051,84.73383660580609,100.54907963456041,102.40692972790264,103.00175037995157,104.80800596120345,97.400352885509321,91.708253179803748,87.359027524021172,82.66373220021805,105.08044667165068,107.34928392077096,110.08296177663652,116.1238464042377,108.00744426322008,100.46689635479095,95.187428092436619,90.924397277815643,100.95891608583186,104.30822855934112,107.05365658347719,110.75058251534878,103.01417720389391,96.151745722992317,91.065900314658847,86.802867675473465,101.72280693505128,103.74700680081655,104.47664377965776,106.05613807090435,99.855077889946017,93.735111534234306,89.291873232003681,84.66022809146196,106.21210722590349,108.57610591301206,111.19676746064405,116.88030944194318,110.5273177578181,102.44332161851642,97.064922997275374,92.70877931988197,102.02411606546976,105.35377858286235,108.16567734591271,111.67596477863984,105.3895191360332,97.98652986417008,92.876934716025374,88.520792478223839,102.78156426700316,104.99219231107715,105.89667293671127,107.40547803964139,102.20893667182624,95.670307549912891,91.128744236672304,86.557801784708673,107.5295283702312,110.00444319503508,112.49503524688299,117.76121948784626,113.46191972189123,104.74536190346913,99.251660242677303,94.786996057471399,103.08161507117062,106.44452973605367,109.34353183478891,112.45464715001364,107.84693819738111,99.908129862996546,94.803750139757739,90.339084356481337,104.10871248755542,106.4403749546408,107.44074537238529,108.7947945093733,104.8307977958049,97.832783526623786,93.208875157410631,88.690732816569863]

{"sheet":"Sound calculation-1","index":14,"n_rows":65,"n_cols":225,"rows_kept":65,"cut":false,"hidden":true,"merged":[[23,25,23,32]]}
[]
[null,null,"RPM",null,null,"SP",null,null,"SP"]
["Size",{"$f":"Data1!N2","v":250},{"$f":"VLOOKUP($B$3,$A$52:$I$71,2)","v":1600},{"$f":"IF(C3-$B$4<=0,C3-$B$4,-10000)","v":-10000},{"$f":"IF(C3-$B$4>0,C3-$B$4,10000)","v":378},{"$f":"VLOOKUP($D$12,$E$15:$H$22,2)","v":0.25},{"$f":"IF(F3-$B$5<=0,F3-$B$5,-10000)","v":-2.694},{"$f":"IF(F3-$B$5>0,F3-$B$5,10000)","v":10000},{"$f":"VLOOKUP($E$12,$E$15:$H$22,2)","v":0.25},{"$f":"IF(I3-$B$5<=0,I3-$B$5,-10000)","v":-2.694},{"$f":"IF(I3-$B$5>0,I3-$B$5,10000)","v":10000},null,{"$f":"G8","v":2},{"$f":"G7","v":2.75},{"$f":"VLOOKUP($M$3,$N$14:$V$37,2)","v":90.437576201471472},{"$f":"VLOOKUP($M$3,$N$14:$V$37,3)","v":93.411060708515834},{"$f":"VLOOKUP($M$3,$N$14:$V$37,4)","v":96.991708305364071},{"$f":"VLOOKUP($M$3,$N$14:$V$37,5)","v":90.821630677169438},{"$f":"VLOOKUP($M$3,$N$14:$V$37,6)","v":83.128594051291202},{"$f":"VLOOKUP($M$3,$N$14:$V$37,7)","v":78.054316768763812},{"$f":"VLOOKUP($M$3,$N$14:$V$37,8)","v":73.698174385443139},{"$f":"VLOOKUP($M$3,$N$14:$V$37,9)","v":69.698175272741665}]
["RPM",{"$f":"Data1!I3","v":1222},{"$f":"VLOOKUP($B$3,$A$52:$I$71,3)","v":2000},-10000,778,{"$f":"VLOOKUP($D$12,$E$15:$H$22,3)","v":2.75},{"$f":"IF(F4-$B$5<=0,F4-$B$5,-10000)","v":-0.19399999999999995},{"$f":"IF(F4-$B$5>0,F4-$B$5,10000)","v":10000},{"$f":"VLOOKUP($E$12,$E$15:$H$22,3)","v":4.75},{"$f":"IF(I4-$B$5<=0,I4-$B$5,-10000)","v":-10000},{"$f":"IF(I4-$B$5>0,I4-$B$5,10000)","v":1.806},null,{"$f":"H8","v":3},{"$f":"H7","v":4.5},{"$f":"VLOOKUP($M$4,$N$14:$V$37,2)","v":89.926149989205385},{"$f":"VLOOKUP($M$4,$N$14:$V$37,3)","v":90.967517717682313},{"$f":"VLOOKUP($M$4,$N$14:$V$37,4)","v":92.292375169394134},{"$f":"VLOOKUP($M$4,$N$14:$V$37,5)","v":87.28152946844537},{"$f":"VLOOKUP($M$4,$N$14:$V$37,6)","v":80.556318273943816},{"$f":"VLOOKUP($M$4,$N$14:$V$37,7)","v":76.077244453473241},{"$f":"VLOOKUP($M$4,$N$14:$V$37,8)","v":71.506302001509624},{"$f":"VLOOKUP($M$4,$N$14:$V$37,9)","v":66.759720244282235}]
["SP",{"$f":"Data1!D17","v":2.944},{"$f":"VLOOKUP($B$3,$A$52:$I$71,4)","v":2400},-10000,1178,{"$f":"VLOOKUP($D$12,$E$15:$H$22,4)","v":4.5},{"$f":"IF(F5-$B$5<=0,F5-$B$5,-10000)","v":-10000},{"$f":"IF(F5-$B$5>0,F5-$B$5,10000)","v":1.556},{"$f":"VLOOKUP($E$12,$E$15:$H$22,4)","v":7},{"$f":"IF(I5-$B$5<=0,I5-$B$5,-10000)","v":-10000},{"$f":"IF(I5-$B$5>0,I5-$B$5,10000)","v":4.056},null,null,{"$f":"IF(B5<=F3,F3,IF(B5>G29,G29,B5))","v":2.944},{"$f":"IF((O3-O4)<=0,O3+($N$5-$N$3)*(O4-O3)/($N$4-$N$3),O4+($N$4-$N$5)*(O3-O4)/($N$4-$N$3))","v":90.380880952797398},93.14017651410343,96.470753660576548,90.429185171745175,82.843438907973834,77.835144180668749,73.4551896754528,69.37242654387245]
[null,null,{"$f":"VLOOKUP($B$3,$A$52:$I$71,5)","v":2600},-10000,1378,null,{"$f":"MAX(G3:G5)","v":-0.19399999999999995},{"$f":"MIN(H3:H5)","v":1.556},null,{"$f":"MAX(J3:J5)","v":-2.694},{"$f":"MIN(K3:K5)","v":1.806},null,{"$f":"J8","v":4},{"$f":"J7","v":0.25},{"$f":"VLOOKUP($M$6,$N$14:$V$37,2)","v":97.599264096424307},{"$f":"VLOOKUP($M$6,$N$14:$V$37,3)","v":99.995799886232149},{"$f":"VLOOKUP($M$6,$N$14:$V$37,4)","v":104.30502219211584},{"$f":"VLOOKUP($M$6,$N$14:$V$37,5)","v":104.20221436601472},{"$f":"VLOOKUP($M$6,$N$14:$V$37,6)","v":94.007498304764127},{"$f":"VLOOKUP($M$6,$N$14:$V$37,7)","v":88.349544345970827},{"$f":"VLOOKUP($M$6,$N$14:$V$37,8)","v":83.671478366331343},{"$f":"VLOOKUP($M$6,$N$14:$V$37,9)","v":79.671478640353968}]
[null,null,{"$f":"VLOOKUP($B$3,$A$52:$I$71,6)","v":2800},-10000,1578,null,{"$f":"IF(B5<=F3,F3,IF(B5>=G29,G30,$B$5+G6))","v":2.75},{"$f":"IF($B$5+H6<=F3,F4,IF($B$5+H6>=G29,G29,$B$5+H6))","v":4.5},null,{"$f":"IF(B5<=I3,I3,IF(B5>=J29,J30,$B$5+J6))","v":0.25},{"$f":"IF($B$5+K6<=I3,I4,IF($B$5+K6>=J29,J29,$B$5+K6))","v":4.75},null,{"$f":"K8","v":5},{"$f":"K7","v":4.75},{"$f":"VLOOKUP($M$7,$N$14:$V$37,2)","v":93.785368513271536},{"$f":"VLOOKUP($M$7,$N$14:$V$37,3)","v":97.075333105569612},{"$f":"VLOOKUP($M$7,$N$14:$V$37,4)","v":99.715189245457708},{"$f":"VLOOKUP($M$7,$N$14:$V$37,5)","v":98.427368646677252},{"$f":"VLOOKUP($M$7,$N$14:$V$37,6)","v":89.056336800972318},{"$f":"VLOOKUP($M$7,$N$14:$V$37,7)","v":83.978450595970827},{"$f":"VLOOKUP($M$7,$N$14:$V$37,8)","v":79.300384616331343},{"$f":"VLOOKUP($M$7,$N$14:$V$37,9)","v":75.300383258676817}]
[null,null,{"$f":"VLOOKUP($B$3,$A$52:$I$71,7)","v":3000},-10000,1778,null,{"$f":"VLOOKUP($G$7,$G$10:$H$12,2)","v":2},{"$f":"VLOOKUP($H$7,$G$10:$H$12,2)","v":3},null,{"$f":"VLOOKUP($J$7,$J$10:$K$12,2)","v":4},{"$f":"VLOOKUP($K$7,$J$10:$K$12,2)","v":5},null,null,{"$f":"IF(B5<=I3,I3,IF(B5>J29,J29,B5))","v":2.944},{"$f":"IF((O6-O7)<=0,O6+($N$8-$N$6)*(O7-O6)/($N$7-$N$6),O7+($N$7-$N$8)*(O6-O7)/($N$7-$N$6))","v":95.31601194064352},98.247413773542178,101.55724220138318,100.74500672870468,91.043402951160758,85.732716220970829,81.054650241331345,77.05464953852325]
[null,null,{"$f":"VLOOKUP($B$3,$A$52:$I$71,8)","v":3200},-10000,1978]
[null,null,{"$f":"VLOOKUP($B$3,$A$52:$I$71,9)","v":3450},-10000,2228,null,{"$f":"VLOOKUP($D$12,$E$15:$K$22,2)","v":0.25},{"$f":"VLOOKUP($D$12,$E$15:$K$22,5)","v":1},null,{"$f":"VLOOKUP($E$12,$E$15:$K$22,2)","v":0.25},{"$f":"VLOOKUP($E$12,$E$15:$K$22,5)","v":4},null,null,{"$f":"D12","v":1600},{"$f":"O5","v":90.380880952797398},93.14017651410343,96.470753660576548,90.429185171745175,82.843438907973834,77.835144180668749,73.4551896754528,69.37242654387245]
[null,null,null,{"$f":"MAX(D3:D10)","v":-10000},{"$f":"MIN(E3:E10)","v":378},null,{"$f":"VLOOKUP($D$12,$E$15:$K$22,3)","v":2.75},{"$f":"VLOOKUP($D$12,$E$15:$K$22,6)","v":2},null,{"$f":"VLOOKUP($E$12,$E$15:$K$22,3)","v":4.75},{"$f":"VLOOKUP($E$12,$E$15:$K$22,6)","v":5},null,null,{"$f":"E12","v":2000},{"$f":"O8","v":95.31601194064352},98.247413773542178,101.55724220138318,100.74500672870468,91.043402951160758,85.732716220970829,81.054650241331345,77.05464953852325]
[null,null,null,{"$f":"IF(B4<=C3,C3,IF(B4>=D29,D30,B4+D11))","v":1600},{"$f":"IF($B$4+E11<=C3,C4,IF($B$4+E11>=D29,D29,$B$4+E11))","v":2000},null,{"$f":"VLOOKUP($D$12,$E$15:$K$22,4)","v":4.5},{"$f":"VLOOKUP($D$12,$E$15:$K$22,7)","v":3},null,{"$f":"VLOOKUP($E$12,$E$15:$K$22,4)","v":7},{"$f":"VLOOKUP($E$12,$E$15:$K$22,7)","v":6},null,null,{"$f":"IF(B4<C3,C3,IF(B4>C27,C27,B4))","v":1600},{"$f":"IF((O10-O11)<=0,O10+($N$12-$N$10)*(O11-O10)/($N$11-$N$10),O11+($N$11-$N$12)*(O10-O11)/($N$11-$N$10))","v":90.380880952797398},93.14017651410343,96.470753660576548,90.429185171745175,82.843438907973834,77.835144180668749,73.4551896754528,69.37242654387245]
[]
[null,null,null,null,null,null,null,null,null,null,null,null,null,1,{"$f":"VLOOKUP($B$3,$A$52:$HQ$71,34)","v":93.283975026297355},{"$f":"VLOOKUP($B$3,$A$52:$HQ$71,35)","v":96.112413446359824},{"$f":"VLOOKUP($B$3,$A$52:$HQ$71,36)","v":101.65276565372717},{"$f":"VLOOKUP($B$3,$A$52:$HQ$71,37)","v":95.411785722671326},{"$f":"VLOOKUP($B$3,$A$52:$HQ$71,38)","v":87.100450506609832},{"$f":"VLOOKUP($B$3,$A$52:$HQ$71,39)","v":81.784541378138812},{"$f":"VLOOKUP($B$3,$A$52:$HQ$71,40)","v":77.428397700745421},{"$f":"VLOOKUP($B$3,$A$52:$HQ$71,41)","v":73.428399882116665}]
[null,1,{"$f":"IF(VLOOKUP($B$3,$A$52:$I$71,2)<>0,VLOOKUP($B$3,$A$52:$I$71,2),8000)","v":1600},1,{"$f":"IF(VLOOKUP($B$3,$A$52:$I$71,2)<>0,VLOOKUP($B$3,$A$52:$I$71,2),8000)","v":1600},{"$f":"VLOOKUP($B$3,$A$52:$AG$71,10)","v":0.25},{"$f":"VLOOKUP($B$3,$A$52:$AG$71,11)","v":2.75},{"$f":"VLOOKUP($B$3,$A$52:$AG$71,12)","v":4.5},1,2,3,null,null,{"$f":"N14+1","v":2},{"$f":"VLOOKUP($B$3,$A$52:$HQ$71,42)","v":90.437576201471472},{"$f":"VLOOKUP($B$3,$A$52:$HQ$71,43)","v":93.411060708515834},{"$f":"VLOOKUP($B$3,$A$52:$HQ$71,44)","v":96.991708305364071},{"$f":"VLOOKUP($B$3,$A$52:$HQ$71,45)","v":90.821630677169438},{"$f":"VLOOKUP($B$3,$A$52:$HQ$71,46)","v":83.128594051291202},{"$f":"VLOOKUP($B$3,$A$52:$HQ$71,47)","v":78.054316768763812},{"$f":"VLOOKUP($B$3,$A$52:$HQ$71,48)","v":73.698174385443139},{"$f":"VLOOKUP($B$3,$A$52:$HQ$71,49)","v":69.698175272741665}]
[null,{"$f":"B15+1","v":2},{"$f":"IF(VLOOKUP($B$3,$A$52:$I$71,3)<>0,VLOOKUP($B$3,$A$52:$I$71,3),8000)","v":2000},{"$f":"D15+1","v":2},{"$f":"IF(VLOOKUP($B$3,$A$52:$I$71,3)<>0,VLOOKUP($B$3,$A$52:$I$71,3),8000)","v":2000},{"$f":"VLOOKUP($B$3,$A$52:$AG$71,13)","v":0.25},{"$f":"VLOOKUP($B$3,$A$52:$AG$71,14)","v":4.75},{"$f":"VLOOKUP($B$3,$A$52:$AG$71,15)","v":7},4,5,6,null,null,3,{"$f":"VLOOKUP($B$3,$A$52:$HQ$71,50)","v":89.926149989205385},{"$f":"VLOOKUP($B$3,$A$52:$HQ$71,51)","v":90.967517717682313},{"$f":"VLOOKUP($B$3,$A$52:$HQ$71,52)","v":92.292375169394134},{"$f":"VLOOKUP($B$3,$A$52:$HQ$71,53)","v":87.28152946844537},{"$f":"VLOOKUP($B$3,$A$52:$HQ$71,54)","v":80.556318273943816},{"$f":"VLOOKUP($B$3,$A$52:$HQ$71,55)","v":76.077244453473241},{"$f":"VLOOKUP($B$3,$A$52:$HQ$71,56)","v":71.506302001509624},{"$f":"VLOOKUP($B$3,$A$52:$HQ$71,57)","v":66.759720244282235}]
[null,3,{"$f":"IF(VLOOKUP($B$3,$A$52:$I$71,4)<>0,VLOOKUP($B$3,$A$52:$I$71,4),8000)","v":2400},3,{"$f":"IF(VLOOKUP($B$3,$A$52:$I$71,4)<>0,VLOOKUP($B$3,$A$52:$I$71,4),8000)","v":2400},{"$f":"VLOOKUP($B$3,$A$52:$AG$71,16)","v":0.25},{"$f":"VLOOKUP($B$3,$A$52:$AG$71,17)","v":6.75},{"$f":"VLOOKUP($B$3,$A$52:$AG$71,18)","v":10},7,8,9,null,null,4,{"$f":"VLOOKUP($B$3,$A$52:$HQ$71,58)","v":97.599264096424307},{"$f":"VLOOKUP($B$3,$A$52:$HQ$71,59)","v":99.995799886232149},{"$f":"VLOOKUP($B$3,$A$52:$HQ$71,60)","v":104.30502219211584},{"$f":"VLOOKUP($B$3,$A$52:$HQ$71,61)","v":104.20221436601472},{"$f":"VLOOKUP($B$3,$A$52:$HQ$71,62)","v":94.007498304764127},{"$f":"VLOOKUP($B$3,$A$52:$HQ$71,63)","v":88.349544345970827},{"$f":"VLOOKUP($B$3,$A$52:$HQ$71,64)","v":83.671478366331343},{"$f":"VLOOKUP($B$3,$A$52:$HQ$71,65)","v":79.671478640353968}]
[null,4,{"$f":"IF(VLOOKUP($B$3,$A$52:$I$71,5)<>0,VLOOKUP($B$3,$A$52:$I$71,5),8000)","v":2600},4,{"$f":"IF(VLOOKUP($B$3,$A$52:$I$71,5)<>0,VLOOKUP($B$3,$A$52:$I$71,5),8000)","v":2600},{"$f":"VLOOKUP($B$3,$A$52:$AG$71,19)","v":0.25},{"$f":"VLOOKUP($B$3,$A$52:$AG$71,20)","v":8},{"$f":"VLOOKUP($B$3,$A$52:$AG$71,21)","v":12},10,11,12,null,null,5,{"$f":"VLOOKUP($B$3,$A$52:$HQ$71,66)","v":93.785368513271536},{"$f":"VLOOKUP($B$3,$A$52:$HQ$71,67)","v":97.075333105569612},{"$f":"VLOOKUP($B$3,$A$52:$HQ$71,68)","v":99.715189245457708},{"$f":"VLOOKUP($B$3,$A$52:$HQ$71,69)","v":98.427368646677252},{"$f":"VLOOKUP($B$3,$A$52:$HQ$71,70)","v":89.056336800972318},{"$f":"VLOOKUP($B$3,$A$52:$HQ$71,71)","v":83.978450595970827},{"$f":"VLOOKUP($B$3,$A$52:$HQ$71,72)","v":79.300384616331343},{"$f":"VLOOKUP($B$3,$A$52:$HQ$71,73)","v":75.300383258676817}]
[null,5,{"$f":"IF(VLOOKUP($B$3,$A$52:$I$71,6)<>0,VLOOKUP($B$3,$A$52:$I$71,6),8000)","v":2800},5,{"$f":"IF(VLOOKUP($B$3,$A$52:$I$71,6)<>0,VLOOKUP($B$3,$A$52:$I$71,6),8000)","v":2800},{"$f":"VLOOKUP($B$3,$A$52:$AG$71,22)","v":0.25},{"$f":"VLOOKUP($B$3,$A$52:$AG$71,23)","v":9},{"$f":"VLOOKUP($B$3,$A$52:$AG$71,24)","v":14},13,14,15,null,null,6,{"$f":"VLOOKUP($B$3,$A$52:$HQ$71,74)","v":94.197169613048757},{"$f":"VLOOKUP($B$3,$A$52:$HQ$71,75)","v":95.630534397607576},{"$f":"VLOOKUP($B$3,$A$52:$HQ$71,76)","v":96.568267774696409},{"$f":"VLOOKUP($B$3,$A$52:$HQ$71,77)","v":95.188570803220983},{"$f":"VLOOKUP($B$3,$A$52:$HQ$71,78)","v":87.055990736404752},{"$f":"VLOOKUP($B$3,$A$52:$HQ$71,79)","v":82.312524139519411},{"$f":"VLOOKUP($B$3,$A$52:$HQ$71,80)","v":77.895999973491911},{"$f":"VLOOKUP($B$3,$A$52:$HQ$71,81)","v":73.161624740875055}]
[null,6,{"$f":"IF(VLOOKUP($B$3,$A$52:$I$71,7)<>0,VLOOKUP($B$3,$A$52:$I$71,7),8000)","v":3000},6,{"$f":"IF(VLOOKUP($B$3,$A$52:$I$71,7)<>0,VLOOKUP($B$3,$A$52:$I$71,7),8000)","v":3000},{"$f":"VLOOKUP($B$3,$A$52:$AG$71,25)","v":0.25},{"$f":"VLOOKUP($B$3,$A$52:$AG$71,26)","v":10},{"$f":"VLOOKUP($B$3,$A$52:$AG$71,27)","v":16},16,17,18,null,null,7,{"$f":"VLOOKUP($B$3,$A$52:$HQ$71,82)","v":101.09502210347686},{"$f":"VLOOKUP($B$3,$A$52:$HQ$71,83)","v":103.16581154826139},{"$f":"VLOOKUP($B$3,$A$52:$HQ$71,84)","v":106.4570293514579},{"$f":"VLOOKUP($B$3,$A$52:$HQ$71,85)","v":111.34232901539961},{"$f":"VLOOKUP($B$3,$A$52:$HQ$71,86)","v":99.620882502002232},{"$f":"VLOOKUP($B$3,$A$52:$HQ$71,87)","v":93.683460006831979},{"$f":"VLOOKUP($B$3,$A$52:$HQ$71,88)","v":88.742359206635854},{"$f":"VLOOKUP($B$3,$A$52:$HQ$71,89)","v":84.74235375861258}]
[null,7,{"$f":"IF(VLOOKUP($B$3,$A$52:$I$71,8)<>0,VLOOKUP($B$3,$A$52:$I$71,8),8000)","v":3200},7,{"$f":"IF(VLOOKUP($B$3,$A$52:$I$71,8)<>0,VLOOKUP($B$3,$A$52:$I$71,8),8000)","v":3200},{"$f":"VLOOKUP($B$3,$A$52:$AG$71,28)","v":0.25},{"$f":"VLOOKUP($B$3,$A$52:$AG$71,29)","v":11.5},{"$f":"VLOOKUP($B$3,$A$52:$AG$71,30)","v":18},19,20,21,null,null,8,{"$f":"VLOOKUP($B$3,$A$52:$HQ$71,90)","v":96.836516777298527},{"$f":"VLOOKUP($B$3,$A$52:$HQ$71,91)","v":100.42740424023259},{"$f":"VLOOKUP($B$3,$A$52:$HQ$71,92)","v":102.83244318443697},{"$f":"VLOOKUP($B$3,$A$52:$HQ$71,93)","v":105.46681037220584},{"$f":"VLOOKUP($B$3,$A$52:$HQ$71,94)","v":94.481242490694967},{"$f":"VLOOKUP($B$3,$A$52:$HQ$71,95)","v":89.325929624887536},{"$f":"VLOOKUP($B$3,$A$52:$HQ$71,96)","v":84.384828824691411},{"$f":"VLOOKUP($B$3,$A$52:$HQ$71,97)","v":80.384823376668123}]
[null,8,{"$f":"IF(VLOOKUP($B$3,$A$52:$I$71,9)<>0,VLOOKUP($B$3,$A$52:$I$71,9),8000)","v":3450},8,{"$f":"IF(VLOOKUP($B$3,$A$52:$I$71,9)<>0,VLOOKUP($B$3,$A$52:$I$71,9),8000)","v":3450},{"$f":"VLOOKUP($B$3,$A$52:$AG$71,31)","v":0.25},{"$f":"VLOOKUP($B$3,$A$52:$AG$71,32)","v":14},{"$f":"VLOOKUP($B$3,$A$52:$AG$71,33)","v":21},22,23,24,null,null,9,{"$f":"VLOOKUP($B$3,$A$52:$HQ$71,98)","v":97.647780009066082},{"$f":"VLOOKUP($B$3,$A$52:$HQ$71,99)","v":99.441937798058206},{"$f":"VLOOKUP($B$3,$A$52:$HQ$71,100)","v":100.0901304141001},{"$f":"VLOOKUP($B$3,$A$52:$HQ$71,101)","v":101.70628742300696},{"$f":"VLOOKUP($B$3,$A$52:$HQ$71,102)","v":92.390064071419545},{"$f":"VLOOKUP($B$3,$A$52:$HQ$71,103)","v":87.43571673802424},{"$f":"VLOOKUP($B$3,$A$52:$HQ$71,104)","v":83.123346284587285},{"$f":"VLOOKUP($B$3,$A$52:$HQ$71,105)","v":78.410667225452897}]
[null,null,null,null,null,null,null,null,null,null,null,null,null,10,{"$f":"VLOOKUP($B$3,$A$52:$HQ$71,106)","v":102.56576643062526},{"$f":"VLOOKUP($B$3,$A$52:$HQ$71,107)","v":104.62359751519476},{"$f":"VLOOKUP($B$3,$A$52:$HQ$71,108)","v":107.61394224259138},{"$f":"VLOOKUP($B$3,$A$52:$HQ$71,109)","v":113.62354814874809},{"$f":"VLOOKUP($B$3,$A$52:$HQ$71,110)","v":102.41134469945941},{"$f":"VLOOKUP($B$3,$A$52:$HQ$71,111)","v":96.07913109179286},{"$f":"VLOOKUP($B$3,$A$52:$HQ$71,112)","v":91.0190155516065},{"$f":"VLOOKUP($B$3,$A$52:$HQ$71,113)","v":86.96243253130379}]
[null,null,null,null,1,{"$f":"VLOOKUP($D$12,$E$15:$H$22,2)","v":0.25},1,1,{"$f":"VLOOKUP($E$12,$E$15:$H$22,2)","v":0.25},1,null,null,null,11,{"$f":"VLOOKUP($B$3,$A$52:$HQ$71,114)","v":98.133995440039101},{"$f":"VLOOKUP($B$3,$A$52:$HQ$71,115)","v":101.7928425410101},{"$f":"VLOOKUP($B$3,$A$52:$HQ$71,116)","v":104.1671637314368},{"$f":"VLOOKUP($B$3,$A$52:$HQ$71,117)","v":107.58665835584867},{"$f":"VLOOKUP($B$3,$A$52:$HQ$71,118)","v":97.087686924040426},{"$f":"VLOOKUP($B$3,$A$52:$HQ$71,119)","v":91.599317668410407},{"$f":"VLOOKUP($B$3,$A$52:$HQ$71,120)","v":86.587247800127216},{"$f":"VLOOKUP($B$3,$A$52:$HQ$71,121)","v":82.530666576957458},null,null,null,"E (dB) - End Reflection Correction Values"]
[null,null,null,null,{"$f":"E24+1","v":2},{"$f":"VLOOKUP($D$12,$E$15:$H$22,3)","v":2.75},{"$f":"G24+1","v":2},{"$f":"H24+1","v":2},{"$f":"VLOOKUP($E$12,$E$15:$H$22,3)","v":4.75},{"$f":"J24+1","v":2},null,null,null,12,{"$f":"VLOOKUP($B$3,$A$52:$HQ$71,122)","v":99.22867237197336},{"$f":"VLOOKUP($B$3,$A$52:$HQ$71,123)","v":100.98387090461601},{"$f":"VLOOKUP($B$3,$A$52:$HQ$71,124)","v":101.49812416882773},{"$f":"VLOOKUP($B$3,$A$52:$HQ$71,125)","v":103.58665835584867},{"$f":"VLOOKUP($B$3,$A$52:$HQ$71,126)","v":94.832170273631732},{"$f":"VLOOKUP($B$3,$A$52:$HQ$71,127)","v":89.590779935772559},{"$f":"VLOOKUP($B$3,$A$52:$HQ$71,128)","v":85.317139633596213},{"$f":"VLOOKUP($B$3,$A$52:$HQ$71,129)","v":80.574443382541688},null,null,"Size",63,125,250,500,1000,2000,4000,8000]
[null,null,null,null,{"$f":"E25+1","v":3},{"$f":"VLOOKUP($D$12,$E$15:$H$22,4)","v":4.5},{"$f":"G25+1","v":3},{"$f":"H25+1","v":3},{"$f":"VLOOKUP($E$12,$E$15:$H$22,4)","v":7},{"$f":"J25+1","v":3},null,null,null,13,{"$f":"VLOOKUP($B$3,$A$52:$HQ$71,130)","v":103.86907405741464},{"$f":"VLOOKUP($B$3,$A$52:$HQ$71,131)","v":106.03618095985523},{"$f":"VLOOKUP($B$3,$A$52:$HQ$71,132)","v":108.89243523152987},{"$f":"VLOOKUP($B$3,$A$52:$HQ$71,133)","v":114.91889562957078},{"$f":"VLOOKUP($B$3,$A$52:$HQ$71,134)","v":105.31109306761714},{"$f":"VLOOKUP($B$3,$A$52:$HQ$71,135)","v":98.352459012771703},{"$f":"VLOOKUP($B$3,$A$52:$HQ$71,136)","v":93.178749417409563},{"$f":"VLOOKUP($B$3,$A$52:$HQ$71,137)","v":89.015247856897304},null,null,63,0,0,0,0,0,0,0,0]
[null,null,{"$f":"MAX(C3:C10)","v":3450},null,null,{"$f":"MAX(F24:F26)","v":4.5},null,null,{"$f":"MAX(I24:I26)","v":7},null,null,null,null,14,{"$f":"VLOOKUP($B$3,$A$52:$HQ$71,138)","v":99.587661590966448},{"$f":"VLOOKUP($B$3,$A$52:$HQ$71,139)","v":103.07959025143403},{"$f":"VLOOKUP($B$3,$A$52:$HQ$71,140)","v":105.66538157344345},{"$f":"VLOOKUP($B$3,$A$52:$HQ$71,141)","v":109.20660289997895},{"$f":"VLOOKUP($B$3,$A$52:$HQ$71,142)","v":100.13181700631581},{"$f":"VLOOKUP($B$3,$A$52:$HQ$71,143)","v":93.941283523346044},{"$f":"VLOOKUP($B$3,$A$52:$HQ$71,144)","v":88.897339978634051},{"$f":"VLOOKUP($B$3,$A$52:$HQ$71,145)","v":84.73383660580609},null,null,90,0,0,0,0,0,0,0,0]
[null,null,null,null,null,null,null,null,null,null,null,null,null,15,{"$f":"VLOOKUP($B$3,$A$52:$HQ$71,146)","v":100.54907963456041},{"$f":"VLOOKUP($B$3,$A$52:$HQ$71,147)","v":102.40692972790264},{"$f":"VLOOKUP($B$3,$A$52:$HQ$71,148)","v":103.00175037995157},{"$f":"VLOOKUP($B$3,$A$52:$HQ$71,149)","v":104.80800596120345},{"$f":"VLOOKUP($B$3,$A$52:$HQ$71,150)","v":97.400352885509321},{"$f":"VLOOKUP($B$3,$A$52:$HQ$71,151)","v":91.708253179803748},{"$f":"VLOOKUP($B$3,$A$52:$HQ$71,152)","v":87.359027524021172},{"$f":"VLOOKUP($B$3,$A$52:$HQ$71,153)","v":82.66373220021805},null,null,125,23.6,17.8,12,6.8,2.8,0.5,0,0]
[null,null,{"$f":"VLOOKUP(C27,C15:D22,2)","v":8},{"$f":"VLOOKUP(C29,B15:C22,2)","v":3450},null,{"$f":"VLOOKUP(F27,F24:G26,2)","v":3},{"$f":"VLOOKUP(F29,E24:F26,2)","v":4.5},null,{"$f":"VLOOKUP(I27,I24:J26,2)","v":3},{"$f":"VLOOKUP(I29,H24:I26,2)","v":7},null,null,null,16,{"$f":"VLOOKUP($B$3,$A$52:$HQ$71,154)","v":105.08044667165068},{"$f":"VLOOKUP($B$3,$A$52:$HQ$71,155)","v":107.34928392077096},{"$f":"VLOOKUP($B$3,$A$52:$HQ$71,156)","v":110.08296177663652},{"$f":"VLOOKUP($B$3,$A$52:$HQ$71,157)","v":116.1238464042377},{"$f":"VLOOKUP($B$3,$A$52:$HQ$71,158)","v":108.00744426322008},{"$f":"VLOOKUP($B$3,$A$52:$HQ$71,159)","v":100.46689635479095},{"$f":"VLOOKUP($B$3,$A$52:$HQ$71,160)","v":95.187428092436619},{"$f":"VLOOKUP($B$3,$A$52:$HQ$71,161)","v":90.924397277815643},null,null,160,0,0,0,0,0,0,0,0]
[null,null,{"$f":"C29-1","v":7},{"$f":"VLOOKUP(C30,B15:C22,2)","v":3200},null,{"$f":"F29-1","v":2},{"$f":"VLOOKUP(F30,E25:F27,2)","v":2.75},null,{"$f":"I29-1","v":2},{"$f":"VLOOKUP(I30,H25:I27,2)","v":4.75},null,null,null,17,{"$f":"VLOOKUP($B$3,$A$52:$HQ$71,162)","v":100.95891608583186},{"$f":"VLOOKUP($B$3,$A$52:$HQ$71,163)","v":104.30822855934112},{"$f":"VLOOKUP($B$3,$A$52:$HQ$71,164)","v":107.05365658347719},{"$f":"VLOOKUP($B$3,$A$52:$HQ$71,165)","v":110.75058251534878},{"$f":"VLOOKUP($B$3,$A$52:$HQ$71,166)","v":103.01417720389391},{"$f":"VLOOKUP($B$3,$A$52:$HQ$71,167)","v":96.151745722992317},{"$f":"VLOOKUP($B$3,$A$52:$HQ$71,168)","v":91.065900314658847},{"$f":"VLOOKUP($B$3,$A$52:$HQ$71,169)","v":86.802867675473465},null,null,200,0,0,0,0,0,0,0,0]
[null,null,null,null,null,null,null,null,null,null,null,null,null,18,{"$f":"VLOOKUP($B$3,$A$52:$HQ$71,170)","v":101.72280693505128},{"$f":"VLOOKUP($B$3,$A$52:$HQ$71,171)","v":103.74700680081655},{"$f":"VLOOKUP($B$3,$A$52:$HQ$71,172)","v":104.47664377965776},{"$f":"VLOOKUP($B$3,$A$52:$HQ$71,173)","v":106.05613807090435},{"$f":"VLOOKUP($B$3,$A$52:$HQ$71,174)","v":99.855077889946017},{"$f":"VLOOKUP($B$3,$A$52:$HQ$71,175)","v":93.735111534234306},{"$f":"VLOOKUP($B$3,$A$52:$HQ$71,176)","v":89.291873232003681},{"$f":"VLOOKUP($B$3,$A$52:$HQ$71,177)","v":84.66022809146196},null,null,250,0,0,0,0,0,0,0,0]
[null,null,null,null,null,null,null,null,null,null,null,null,null,19,{"$f":"VLOOKUP($B$3,$A$52:$HQ$71,178)","v":106.21210722590349},{"$f":"VLOOKUP($B$3,$A$52:$HQ$71,179)","v":108.57610591301206},{"$f":"VLOOKUP($B$3,$A$52:$HQ$71,180)","v":111.19676746064405},{"$f":"VLOOKUP($B$3,$A$52:$HQ$71,181)","v":116.88030944194318},{"$f":"VLOOKUP($B$3,$A$52:$HQ$71,182)","v":110.5273177578181},{"$f":"VLOOKUP($B$3,$A$52:$HQ$71,183)","v":102.44332161851642},{"$f":"VLOOKUP($B$3,$A$52:$HQ$71,184)","v":97.064922997275374},{"$f":"VLOOKUP($B$3,$A$52:$HQ$71,185)","v":92.70877931988197}]
[null,null,null,null,null,null,null,null,null,null,null,null,null,20,{"$f":"VLOOKUP($B$3,$A$52:$HQ$71,186)","v":102.02411606546976},{"$f":"VLOOKUP($B$3,$A$52:$HQ$71,187)","v":105.35377858286235},{"$f":"VLOOKUP($B$3,$A$52:$HQ$71,188)","v":108.16567734591271},{"$f":"VLOOKUP($B$3,$A$52:$HQ$71,189)","v":111.67596477863984},{"$f":"VLOOKUP($B$3,$A$52:$HQ$71,190)","v":105.3895191360332},{"$f":"VLOOKUP($B$3,$A$52:$HQ$71,191)","v":97.98652986417008},{"$f":"VLOOKUP($B$3,$A$52:$HQ$71,192)","v":92.876934716025374},{"$f":"VLOOKUP($B$3,$A$52:$HQ$71,193)","v":88.520792478223839}]
[null,null,null,null,null,null,null,null,null,null,null,null,null,21,{"$f":"VLOOKUP($B$3,$A$52:$HQ$71,194)","v":102.78156426700316},{"$f":"VLOOKUP($B$3,$A$52:$HQ$71,195)","v":104.99219231107715},{"$f":"VLOOKUP($B$3,$A$52:$HQ$71,196)","v":105.89667293671127},{"$f":"VLOOKUP($B$3,$A$52:$HQ$71,197)","v":107.40547803964139},{"$f":"VLOOKUP($B$3,$A$52:$HQ$71,198)","v":102.20893667182624},{"$f":"VLOOKUP($B$3,$A$52:$HQ$71,199)","v":95.670307549912891},{"$f":"VLOOKUP($B$3,$A$52:$HQ$71,200)","v":91.128744236672304},{"$f":"VLOOKUP($B$3,$A$52:$HQ$71,201)","v":86.557801784708673}]
[null,null,null,null,null,null,null,null,null,null,null,null,null,22,{"$f":"VLOOKUP($B$3,$A$52:$HQ$71,202)","v":107.5295283702312},{"$f":"VLOOKUP($B$3,$A$52:$HQ$71,203)","v":110.00444319503508},{"$f":"VLOOKUP($B$3,$A$52:$HQ$71,204)","v":112.49503524688299},{"$f":"VLOOKUP($B$3,$A$52:$HQ$71,205)","v":117.76121948784626},{"$f":"VLOOKUP($B$3,$A$52:$HQ$71,206)","v":113.46191972189123},{"$f":"VLOOKUP($B$3,$A$52:$HQ$71,207)","v":104.74536190346913},{"$f":"VLOOKUP($B$3,$A$52:$HQ$71,208)","v":99.251660242677303},{"$f":"VLOOKUP($B$3,$A$52:$HQ$71,209)","v":94.786996057471399}]
[{"$f":"A3","v":"Size"},{"$f":"A4","v":"RPM"},{"$f":"A5","v":"SP"},63,125,250,500,1000,2000,4000,8000,"LWA",null,23,{"$f":"VLOOKUP($B$3,$A$52:$HQ$71,210)","v":103.08161507117062},{"$f":"VLOOKUP($B$3,$A$52:$HQ$71,211)","v":106.44452973605367},{"$f":"VLOOKUP($B$3,$A$52:$HQ$71,212)","v":109.34353183478891},{"$f":"VLOOKUP($B$3,$A$52:$HQ$71,213)","v":112.45464715001364},{"$f":"VLOOKUP($B$3,$A$52:$HQ$71,214)","v":107.84693819738111},{"$f":"VLOOKUP($B$3,$A$52:$HQ$71,215)","v":99.908129862996546},{"$f":"VLOOKUP($B$3,$A$52:$HQ$71,216)","v":94.803750139757739},{"$f":"VLOOKUP($B$3,$A$52:$HQ$71,217)","v":90.339084356481337},null,null,null,"Size","RPM","AMCA Test No."]
[{"$f":"B3","v":250},{"$f":"B4","v":1222},{"$f":"B5","v":2.944},{"$f":"O12","v":90.380880952797398},93.14017651410343,96.470753660576548,90.429185171745175,82.843438907973834,77.835144180668749,73.4551896754528,69.37242654387245,{"$f":"10*LOG10(10^((D37-26.2)/10) +10^((E37-16.1)/10)+10^((F37-8.6)/10)+10^((G37-3.2)/10)+10^((H37)/10)+10^((I37+1.2)/10)+10^((J37+1)/10)+10^((K37-1.1)/10))","v":91.764264959317018},null,24,{"$f":"VLOOKUP($B$3,$A$52:$HQ$71,218)","v":104.10871248755542},{"$f":"VLOOKUP($B$3,$A$52:$HQ$71,219)","v":106.4403749546408},{"$f":"VLOOKUP($B$3,$A$52:$HQ$71,220)","v":107.44074537238529},{"$f":"VLOOKUP($B$3,$A$52:$HQ$71,221)","v":108.7947945093733},{"$f":"VLOOKUP($B$3,$A$52:$HQ$71,222)","v":104.8307977958049},{"$f":"VLOOKUP($B$3,$A$52:$HQ$71,223)","v":97.832783526623786},{"$f":"VLOOKUP($B$3,$A$52:$HQ$71,224)","v":93.208875157410631},{"$f":"VLOOKUP($B$3,$A$52:$HQ$71,225)","v":88.690732816569863},null,null,1,63,2500,"AMCA Test - 02/27/2006 - 22638-S1"]
[null,null,null,null,null,null,null,null,null,null,null,null,null,null,null,null,null,null,null,null,null,null,null,null,2,90,2500,"AMCA Test - 02/28/2026 - 22639-S1"]
[null,null,null,null,null,null,null,null,null,null,null,null,null,null,null,null,null,null,null,null,null,null,null,null,3,125,2500,"AMCA Test - 03/06/2026 - 44759-S1"]
[null,null,null,null,null,null,null,null,null,null,null,null,null,null,null,null,null,null,null,null,null,null,null,null,4,160,2500,"AMCA Test - 02/28/2006 - 22641-S1"]
[null,null,null,null,null,null,null,null,null,null,null,null,null,null,null,null,null,null,null,null,null,null,null,null,5,200,2500,"AMCA Test - 02/25/2006 - 22642-S1"]
[null,null,null,null,null,null,null,null,null,null,null,null,null,null,null,null,null,null,null,null,null,null,null,null,6,250,2500,"AMCA Test - 02/25/2026 - 22637-S1"]
[]
[]
[]
[]
[]
[]
[1,{"$f":"A49+1","v":2},3,4,5,6,7,8,9,10,11,12,13,14,15,16,17,18,19,20,21,22,23,24,25,26,27,28,29,30,31,32,33,34,35,36,37,38,39,40,41,42,43,44,45,46,47,48,49,50,51,52,53,54,55,56,57,58,59,60,61,62,63,64,65,{"$f":"BM49+1","v":66},67,68,69,70,71,72,73,74,75,76,77,78,79,80,81,82,83,84,85,86,87,88,89,90,91,92,93,94,95,96,97,98,99,100,101,102,103,104,105,106,107,108,109,110,111,112,113,114,115,116,117,118,119,120,121,122,123,124,125,126,127,128,129,{"$f":"DY49+1","v":130},131,132,133,134,135,136,137,138,139,140,141,142,143,144,145,146,147,148,149,150,151,152,153,154,155,156,157,158,159,160,161,162,163,164,165,166,167,168,169,170,171,172,173,174,175,176,177,178,179,180,181,182,183,184,185,186,187,188,189,190,191,192,193,{"$f":"GK49+1","v":194},195,196,197,198,199,200,201,202,203,204,205,206,207,208,209,210,211,212,213,214,215,216,217,218,219,220,221,222,223,224,225]
["Size","RPM1","RPM2","RPM3","RPM4","RPM5","RPM6","RPM7","RPM8","SP11","SP12","SP13","SP21","SP22","SP23","SP31","SP32","SP33","SP41","SP42","SP43","SP51","SP52","SP53","SP61","SP62","SP63","SP71","SP72","SP73","SP81","SP82","SP83",63,125,250,500,1000,2000,4000,8000,63,125,250,500,1000,2000,4000,8000,63,125,250,500,1000,2000,4000,8000,63,125,250,500,1000,2000,4000,8000,63,125,250,500,1000,2000,4000,8000,63,125,250,500,1000,2000,4000,8000,63,125,250,500,1000,2000,4000,8000,63,125,250,500,1000,2000,4000,8000,63,125,250,500,1000,2000,4000,8000,63,125,250,500,1000,2000,4000,8000,63,125,250,500,1000,2000,4000,8000,63,125,250,500,1000,2000,4000,8000,63,125,250,500,1000,2000,4000,8000,63,125,250,500,1000,2000,4000,8000,63,125,250,500,1000,2000,4000,8000,63,125,250,500,1000,2000,4000,8000,63,125,250,500,1000,2000,4000,8000,63,125,250,500,1000,2000,4000,8000,63,125,250,500,1000,2000,4000,8000,63,125,250,500,1000,2000,4000,8000,63,125,250,500,1000,2000,4000,8000,63,125,250,500,1000,2000,4000,8000,63,125,250,500,1000,2000,4000,8000,63,125,250,500,1000,2000,4000,8000]
[]
[63,1600,2000,2400,2600,2800,3000,3200,3450,0.25,1.5,2.25,0.25,2.25,3.5,0.25,3.5,5,0.25,4,6,0.25,4.5,7,0.25,5,8,0.25,6,9,0.25,7,11,96.133218108403469,90.649360417329262,97.310657288578867,88.443334774075339,77.761770239275847,70.158147106288226,62.354638560298625,54.659813581337531,95.508533081698204,88.516370103635381,97.773361466524719,88.739309874324391,77.761770239275847,70.158147106288226,62.266925748992506,54.435869911522914,94.99569755672195,89.417583965637277,98.109612248537658,89.280170082075784,78.027660913941418,71.119531243449302,63.651314774151686,55.651313140825678,104.21667499463292,96.77460076118065,98.383181047554075,98.721670871790167,84.880880873123502,77.579074680443483,69.641955336407904,61.837266389346397,105.01039333264562,94.392320083623659,97.354687196130811,99.235520845468756,84.880880873123502,77.579074680443483,69.657045712546591,61.899231810188567,104.26772720734807,94.700932728296053,98.287637722606718,99.636158233698126,85.378841380993222,78.051906466122347,71.047828769163374,63.047827836191928,110.68668214773636,101.66483336567404,99.390200742117173,107.11967556599008,90.69762488617107,83.642412168832848,75.650406066883704,67.786032521417695,113.03364127671223,99.039257826535462,97.07615943802557,107.96560452636639,90.69762488617107,83.642412168832848,75.648373944619408,67.74949515791333,111.87739517419372,99.028027819721459,98.395682919884678,108.10275235033592,91.368325505789159,83.726355433184807,77.067765387123586,69.06775803175168,112.79690548387968,104.15752867883587,100.67432804961746,109.68133291206169,93.806561590152839,86.251284022961102,78.304337199205406,70.413367682577473,115.37956080932348,101.83724374369159,98.023031805752339,110.53044533809719,93.854607262056007,86.251284022961102,78.304337199205406,70.44668731455468,114.13399867914596,101.62369693433148,99.474277164462094,110.68133291206169,94.593036828162852,86.295060828545331,79.764120866143415,71.851674751334528,114.06837252680238,106.8053747040281,102.64873835824456,110.96872024691774,97.22008951949131,88.615609986967542,80.768896241214776,72.852247394738711,116.5560957410881,105.05156299915892,99.96512549339991,111.76240647140753,97.349855570141457,88.615609986967542,80.768896241214776,72.94147230103485,115.38836614925138,104.68623331268266,101.25336263450306,111.96872024691774,98.044573459070861,88.744802543621233,82.090866763618493,74.349247936048641,115.25405778276179,109.25879824199221,104.47840215641506,112.16724918201547,100.3980038305656,90.816736730903159,83.063338109662112,75.127312962860032,117.63947444942848,108.01290391588815,101.78539790588863,112.90336029312658,100.59162668458644,90.816736730903159,83.063338109662112,75.25781721338646,116.61169667165068,107.5457476116347,102.86237621848697,113.16724918201547,101.23423379068929,91.021316402127113,84.209728388796222,76.618895846588913,116.36469511652849,111.5454171559352,106.18364626271259,112.51051111042173,103.37074197745621,92.875759515244937,85.209646889487288,77.258771389018321,118.95051054621599,110.76358826258662,103.44552532266434,112.88646433677198,103.66671707770526,92.875759515244937,85.209646889487288,77.318425532191569,117.79523710871599,110.2392857948828,104.34673918466623,113.22271511878492,104.20757728545665,93.141650189910507,86.171031026648365,78.702814557350749,117.66080331247024,114.2021604462188,108.16469687355655,112.91936215458185,106.83564873743468,95.275667648514428,87.711302535574163,79.74644444500359,120.27086422404342,113.99478340564981,105.40645597287789,112.76104583378876,107.22497067498769,95.275667648514428,87.711302535574163,79.798111096574928,118.81906838283361,113.22640930452421,106.28191095464913,113.36477429982671,107.77571767043246,95.688315718700977,88.662103853718151,81.487404082811167]
[90,1600,2000,2400,2600,2800,3000,3200,3450,0.25,2.5,4.5,0.25,4.5,6.5,0.25,6.5,9,0.25,7.5,12,0.25,8.5,14,0.25,9.5,16,0.25,11,18,0.25,13,21,92.039461430820609,88.368398488440107,94.521082379554926,84.657332707157622,74.198695142929409,68.838884632444234,62.496829554993454,55.496830782690395,92.635454672115827,86.30314033938248,93.9291057211138,83.154743081851194,73.200784059417401,67.294558384796829,60.276126429993454,53.276127657690395,90.666132594185854,84.82968706538577,91.710770582479952,81.018602565823386,72.324721727696215,66.411565075038226,59.055424016989562,52.055424888688449,98.101708155080999,94.297657879238855,95.645828914756834,95.403082525547262,81.038936774650907,75.415764219697195,69.705694293455366,62.70569361380366,98.752447199032034,92.66694946790291,93.081249696130811,94.162293410118338,79.254850398222302,74.492821067209917,67.143194293455366,60.14319361380366,98.201586913273061,91.382880048995744,92.293109220380842,92.677759891565557,78.264010082403516,74.040012180443483,66.361944293455366,59.361944127893722,103.07259826572903,99.063742690661101,96.645209539381938,104.11661531286001,86.624876582343759,80.747282766768237,75.565677688081166,68.565671286383562,104.24166235621274,98.418796190416032,92.77560685379467,103.40257421970261,84.142072490489525,80.4335373794558,72.938073521414509,65.938067119716905,104.11654090347059,96.903683752280358,92.419823537798337,102.06018154743539,83.076381871239391,80.201005918832848,72.259905118636723,65.259898716939119,104.85469024719329,101.2014891859353,97.912002825883761,106.7391176753753,89.75738444398327,83.133646196467595,78.022287117594018,71.132184486951928,106.21425015843589,100.98121416759317,94.040202232160553,106.21424711324511,87.257845954283198,82.788647404036539,75.540640199965907,68.514210215604393,106.45500459630573,98.782616663756116,93.88316620137428,104.13399563395518,85.428974525669361,82.207504960159525,74.530668560152151,67.47408447595943,106.11819714414933,103.23611417735152,99.864329460778976,108.01854486426467,93.308376874223356,85.394137408578231,80.186895733982894,73.505741726344297,107.58064931251668,103.32631007524212,96.503278163773615,107.5806462673259,91.066570621344809,84.755700097318169,77.974810033369991,70.911353971242249,107.75890186353708,101.27075349937938,95.987987020336803,105.38836310406059,89.13022615104822,84.042243344969251,76.978717669786192,69.815212389609599,107.29746056053956,105.13100171126864,101.67484615125505,109.21065195979324,96.608482255591539,87.498882690704306,82.198846358865467,75.713499914921158,108.86864111609513,105.52359479041174,98.820206078008624,108.86863807090435,94.630043772247348,86.59839518166558,80.229542853577243,73.150999295695129,108.94503000498402,103.63015880887319,97.932154237014529,106.6116936264599,92.631548921982684,85.782240847385353,79.285560331884327,72.022526739024613,108.40284208918474,106.90414281362179,103.3634057804903,109.5631202441887,99.691349424288788,89.467882777596316,84.07850881085173,77.777211174130017,109.93146757746599,107.3834349958736,100.77453188653644,108.71775443281652,97.875219140301638,88.358674717400646,82.302156494943432,75.175038322567517,110.03498320246599,105.84846214750293,99.758842284414726,106.82387345272721,95.946009769204252,87.438711003665304,81.463064858237288,74.106923800188625,109.69362204802998,108.9715724278379,105.32647159139908,109.97911484442497,103.28042901585589,91.762930813823914,86.266910067882279,80.181000879248757,111.18201734313605,109.57300165060026,103.07006110421668,108.54596836567627,101.65942494729735,90.396260076303975,84.732037012081477,77.540064101260924,111.35193962837026,108.38432290834395,101.89161021112787,106.98644807049969,99.716105985172945,89.308571996425115,83.954528748554623,76.489864563348732]
[125,1600,2000,2400,2600,2800,3000,3200,3450,0.25,2.5,4.5,0.25,4.5,6.5,0.25,6.5,9,0.25,7.5,12,0.25,8.5,14,0.25,9.5,16,0.25,11,18,0.25,13,21,95.651075528339618,84.206616655832491,94.69341071402215,85.424861071832652,75.272834306645592,70.086183673207216,65.728243121297282,61.02824312129728,94.758231676661694,83.164808675683631,101.18659492702099,84.693847748680554,73.567065903224261,68.258138621405507,63.64259209948051,58.742592099480504,94.903910654453171,83.164808675683631,109.33700557208981,84.693847748680554,73.567065903224261,68.258138621405507,63.64259209948051,58.742592099480504,108.47553776416981,90.61934711322769,99.692433985764723,95.026830212433751,82.710176507538378,76.282761812239954,72.219253166961124,67.519253166961121,107.62205140995782,89.426792943590854,107.58067359998689,98.096259862508347,80.827027265282311,74.423544460846514,70.065540414831403,65.165540414831398,107.62205140995782,89.426792943590854,112.79693641283095,100.34380890154671,80.827027265282311,74.423544460846514,70.065540414831403,65.165540414831398,118.95388637030739,95.803585911469227,92.273094515800267,103.73489129233052,88.720774741250708,81.314265741203656,77.486523885017732,72.786523885017729,118.20683734350366,94.8189368873294,91.26720194848896,111.57595994967956,86.758847611416996,79.461047827146302,75.313471305798231,70.41347130579824,118.20683734350366,95.006089157991241,91.26720194848896,116.10396586360667,86.758847611416996,79.461047827146302,75.313471305798231,70.41347130579824,122.15166696493901,99.164191219196425,93.579539704734515,105.50103419411056,91.745434295627533,83.735126699114048,79.738960842332389,75.09156076571557,121.44298281201577,98.291372528933564,92.389411701249102,113.11579754806581,89.934299025522549,81.863032055027119,77.572609731528644,72.717414984116516,121.44298281201577,98.653594960589786,92.389411701249102,120.06052614504753,89.934299025522549,81.863032055027119,77.572609731528644,72.717414984116516,123.76090113350907,103.31320388331291,95.685949540980076,107.1325153311153,94.923687819590683,86.178059329181636,81.771759114550633,77.222489342717211,123.05221698058583,102.50098968485683,94.469072767051813,114.46125801142172,93.435932303414873,84.27413025297102,79.620196236156403,74.850533651877484,123.05221698058583,102.78959203988667,94.469072767051813,121.77999410087128,93.435932303414873,84.27413025297102,79.620196236156403,74.850533651877484,125.25906230238122,107.27834860613758,97.64258343563462,108.64862421888434,97.88422802426426,88.447090718953589,83.662367516082782,79.203952069964672,124.55037814945798,106.42461851649885,96.405190899548003,115.66075560654262,96.695874894138214,86.518808973475032,81.526453666587315,76.836419621149133,124.55037814945798,106.6324763343063,96.405190899548003,123.19535744731733,96.695874894138214,86.518808973475032,81.526453666587315,76.836419621149133,126.66049848239341,110.98749378291063,99.469677566053434,110.06474929167902,100.65473909670024,90.56576071106943,85.429454165129854,81.055674882184732,125.95181432947017,110.10915882988573,98.216308458882693,117.25689604085366,99.745347531879617,88.618565686423324,83.30963840460457,78.694091882679572,125.95181432947017,110.22687078191527,98.216308458882693,124.38850535528887,99.745347531879617,88.618565686423324,83.30963840460457,78.694091882679572,128.2939543200618,115.31071943397589,101.59597605374977,111.71309645458123,103.88495328633212,93.031246767287087,87.487516196544533,83.212042741216095,127.58527016713857,114.39811913384152,100.32727190637505,119.07802017656148,103.64124900018555,91.065954949927999,85.38804451506347,80.859317558561017,127.58527016713857,114.42328939349635,100.32727190637505,126.09000967502858,104.02185118239154,91.065954949927999,85.38804451506347,80.859317558561017]
[160,1600,2000,2400,2600,2800,3000,3200,3450,0.25,2.75,4.5,0.25,4.75,7,0.25,6.75,10,0.25,8,12,0.25,9,14,0.25,10,16,0.25,11.5,18,0.25,14,21,91.77301921575048,90.122848271333169,96.373834989664672,89.069727138577292,80.842551191513394,75.293273220179827,70.384498226079899,66.079322427814205,90.621449785965467,87.916323698997985,92.729329757092117,85.339502529202292,78.968442847196911,73.572191208942087,66.652094747494715,59.973626964330052,90.370326108026291,86.160496010385941,90.312189481852172,83.843124418480585,78.624906530779754,73.158149013636859,65.321315887007657,57.574731752113749,99.886510800525869,94.096793534403574,98.644194555397092,98.492140537317511,87.360866333762502,82.125274479027468,76.706258049086813,72.510943915760805,97.877309244081701,92.384944306855928,94.754876327629148,94.121046787317511,84.106460328618383,80.672131999965387,73.236597953216318,66.381129201567447,98.784318160221304,91.223094629293215,92.933928442115842,92.691534822996374,83.812452833572721,80.579074680443483,72.664590900615934,64.930215474283969,106.51571285190352,97.289459690496543,100.4691266041977,106.16072340398921,92.683771693427744,87.692381736025766,81.802186237582674,77.666548887002108,104.12157384516962,96.299661439370993,96.876237928153685,101.80319302204477,88.527974346415249,86.662311630251239,79.049151724345919,72.218091588822631,105.60305106105574,95.366119471320062,95.099498969513462,99.954953126674496,88.050987923280445,86.642412168832848,78.659339736460751,70.946659318009324,108.68133595725247,99.426064319654003,101.56596286092852,108.56576338543448,95.521241849902566,90.077062791926579,84.133383829676816,79.911188882400893,106.13399867914596,98.47973981884212,98.137980699192184,104.13399563395518,91.089474098423267,88.937396793628537,81.589036881858704,74.691879057942657,108.00234187441224,97.715052613634711,96.341182811378772,102.13399563395518,90.54925776536129,88.911783595715008,81.304337199205406,73.51786223521799,109.96872329210852,102.12062481124833,102.86704546410692,109.86907101222386,98.629942695686097,92.230639483773544,86.392071959561193,81.981713965348405,107.58766461863912,101.06438789580592,99.819791706999894,105.58766157344834,94.348533256910585,90.735811218233096,84.114059256901498,77.190601927250583,109.33925900639422,100.52242786197071,97.989731443930594,103.38836310406059,93.47120681707257,90.634614808744885,83.768896241214776,75.944406853611923,111.16725222720625,104.62920471070153,104.07380434418633,111.0804436264599,101.52209381334011,94.235847870147666,88.493865690771045,83.903825559202346,108.95891889387291,103.50134379371612,101.38524728892493,106.95891584868212,97.400566035562335,92.446766515211692,86.45229195436832,79.522560170607591,110.50058556053956,103.14708419678551,99.575908560338092,104.6116936264599,96.199737059460986,92.238531622260581,86.063338109662112,78.227110330909653,112.28840117121599,106.97582515129331,105.19937044484149,111.71581969584943,104.22601617789566,96.111738826180286,90.45921392134764,85.697805881727064,110.02411894465349,105.6772038758311,102.72006265455465,107.62318998004915,100.03802789664566,94.000917241707867,88.525446355821572,81.501884321908975,111.52814726496599,105.58459834182146,101.0896512294149,105.42529235209943,98.770531621861451,93.738895806748843,88.209648796835921,80.37281567020672,113.59516584135072,109.71094217738506,106.50796217224089,112.45479553080037,107.37600644453782,98.298262539898133,92.749147252162828,87.784675127569741,111.08161826731164,108.08539124728414,104.18606009566233,108.23612274356611,102.92809634161826,95.713697014078008,90.884911480135926,83.657744439956431,112.86548720240931,108.43697880682451,102.77520601005537,106.28048683466969,101.73834637692404,95.487658004959727,90.711302535574163,82.84151333271538]
[200,1600,2000,2400,2600,2800,3000,3200,3450,0.25,2.75,4.5,0.25,4.75,7,0.25,6.75,10,0.25,8,12,0.25,9,14,0.25,10.5,16,0.25,12,18,0.25,14,21,92.830966206925893,92.370308946758996,96.359900927802144,90.892612590415652,83.744306555193816,78.686296741819234,73.63195566888507,68.631954326597352,90.780846847879673,89.364976642594229,92.334475087632953,87.042050278706739,80.450916896750186,75.088927517054827,69.295950796078699,63.617482979153593,91.079011342215324,88.529112667717527,89.880597864908694,84.066728786526511,78.41497500444666,73.699279079554827,67.699281260926085,61.699279627600063,99.451259892389501,96.642431112175714,99.685218867774068,99.32549058478665,90.329428236404752,85.318106248613077,80.251892370955233,75.251894366061975,96.556057821914877,94.011543708091509,95.273168993110716,94.890827587064024,86.233732219258641,81.511993229027468,75.55852597750831,69.703055869853785,96.900587033436025,94.133498417382967,93.589878988380491,92.45011401754212,84.116373639026975,80.488555729027468,74.488559817747358,68.488558184421336,104.80552941523162,100.10292591283243,102.29845581960176,106.20975914397067,95.679777613086216,90.679465926490451,85.615647255274098,80.615641807250825,101.56828566851385,98.091720477205399,97.924765813382081,101.66188337701784,91.371192289278952,87.098089201303551,81.10804492808127,75.276984792557982,101.64543968567088,98.690601309599359,96.618353157107975,99.335017769766125,88.820228835744373,86.047524965192437,80.047530961260961,74.047525513237673,106.68133595725247,102.03090105268485,103.61600694819178,108.45019385880724,98.344952319001763,93.022547687251844,87.964500446931766,82.961232969664138,103.28488625311046,100.05992042150831,99.328376212422,103.83222048602619,93.902648419524539,89.391846689904895,83.492945250257151,77.635295653401641,103.45500459630573,100.79903802131163,98.215211660557287,101.36032699490192,91.146055245746965,88.220311559116297,82.41750175107012,76.41750202509273,107.96872329210852,104.21046147559413,105.01425457046221,109.76942177752997,101.12315628812537,95.188961087967016,90.137071021603035,85.128921259387965,104.79397839414933,102.099319840147,101.12213965900571,105.17503402242794,96.790574947162852,91.571471823031146,85.854524127928528,80.027102488609557,104.75890186353708,102.75300381518183,100.07260351110959,102.59818453263202,93.868562441680197,90.076548713120218,84.651719512625576,78.651714464804911,109.16725222720625,106.23503038655993,106.31400628101409,110.99363807090435,103.71016028263858,97.203861534234306,92.155441756523288,87.144027496030105,105.87558556053956,103.95503246821902,102.58142904981887,106.3443325153488,99.257890556309206,93.428378018706809,87.891435135215488,82.021941567113174,105.94503000498402,104.54432684883086,101.82130379688323,103.83391584868212,96.486465388589679,91.840692182020774,86.759490690771045,80.759492872142289,110.28840117121599,108.12558915219712,107.52834643828291,111.90185034054005,106.13041651119217,99.087177667100406,94.04036183819548,89.026778205990368,106.96418242121599,105.69729698249581,103.99939795266445,107.25643389474274,101.62038031882345,95.205387137163854,89.83525151900389,83.94403016170817,107.03498320246599,106.20040400871518,103.45826788674648,104.99370073515595,98.994135989907377,93.528964280415749,88.75077886275389,82.750781044125134,111.59516584135072,110.32580184911897,108.94213448526045,112.95431938591236,108.95150578704779,101.28069362954335,96.234091332322521,91.218843688488789,108.24376907596529,107.72532780700173,105.66218650549624,108.31851555010823,104.38340266179266,97.28131078041713,92.106267605029871,86.193075856752529,108.35193962837026,108.1772115088382,105.34829684036734,106.21142062775505,101.77732154751865,95.421591500984249,91.02519220070306,85.025196289422951]
[250,1600,2000,2400,2600,2800,3000,3200,3450,0.25,2.75,4.5,0.25,4.75,7,0.25,6.75,10,0.25,8,12,0.25,9,14,0.25,10,16,0.25,11.5,18,0.25,14,21,93.283975026297355,96.112413446359824,101.65276565372717,95.411785722671326,87.100450506609832,81.784541378138812,77.428397700745421,73.428399882116665,90.437576201471472,93.411060708515834,96.991708305364071,90.821630677169438,83.128594051291202,78.054316768763812,73.698174385443139,69.698175272741665,89.926149989205385,90.967517717682313,92.292375169394134,87.28152946844537,80.556318273943816,76.077244453473241,71.506302001509624,66.759720244282235,97.599264096424307,99.995799886232149,104.30502219211584,104.20221436601472,94.007498304764127,88.349544345970827,83.671478366331343,79.671478640353968,93.785368513271536,97.075333105569612,99.715189245457708,98.427368646677252,89.056336800972318,83.978450595970827,79.300384616331343,75.300383258676817,94.197169613048757,95.630534397607576,96.568267774696409,95.188570803220983,87.055990736404752,82.312524139519411,77.895999973491911,73.161624740875055,101.09502210347686,103.16581154826139,106.4570293514579,111.34232901539961,99.620882502002232,93.683460006831979,88.742359206635854,84.74235375861258,96.836516777298527,100.42740424023259,102.83244318443697,105.46681037220584,94.481242490694967,89.325929624887536,84.384828824691411,80.384823376668123,97.647780009066082,99.441937798058206,100.0901304141001,101.70628742300696,92.390064071419545,87.43571673802424,83.123346284587285,78.410667225452897,102.56576643062526,104.62359751519476,107.61394224259138,113.62354814874809,102.41134469945941,96.07913109179286,91.0190155516065,86.96243253130379,98.133995440039101,101.7928425410101,104.1671637314368,107.58665835584867,97.087686924040426,91.599317668410407,86.587247800127216,82.530666576957458,99.22867237197336,100.98387090461601,101.49812416882773,103.58665835584867,94.832170273631732,89.590779935772559,85.317139633596213,80.574443382541688,103.86907405741464,106.03618095985523,108.89243523152987,114.91889562957078,105.31109306761714,98.352459012771703,93.178749417409563,89.015247856897304,99.587661590966448,103.07959025143403,105.66538157344345,109.20660289997895,100.13181700631581,93.941283523346044,88.897339978634051,84.73383660580609,100.54907963456041,102.40692972790264,103.00175037995157,104.80800596120345,97.400352885509321,91.708253179803748,87.359027524021172,82.66373220021805,105.08044667165068,107.34928392077096,110.08296177663652,116.1238464042377,108.00744426322008,100.46689635479095,95.187428092436619,90.924397277815643,100.95891608583186,104.30822855934112,107.05365658347719,110.75058251534878,103.01417720389391,96.151745722992317,91.065900314658847,86.802867675473465,101.72280693505128,103.74700680081655,104.47664377965776,106.05613807090435,99.855077889946017,93.735111534234306,89.291873232003681,84.66022809146196,106.21210722590349,108.57610591301206,111.19676746064405,116.88030944194318,110.5273177578181,102.44332161851642,97.064922997275374,92.70877931988197,102.02411606546976,105.35377858286235,108.16567734591271,111.67596477863984,105.3895191360332,97.98652986417008,92.876934716025374,88.520792478223839,102.78156426700316,104.99219231107715,105.89667293671127,107.40547803964139,102.20893667182624,95.670307549912891,91.128744236672304,86.557801784708673,107.5295283702312,110.00444319503508,112.49503524688299,117.76121948784626,113.46191972189123,104.74536190346913,99.251660242677303,94.786996057471399,103.08161507117062,106.44452973605367,109.34353183478891,112.45464715001364,107.84693819738111,99.908129862996546,94.803750139757739,90.339084356481337,104.10871248755542,106.4403749546408,107.44074537238529,108.7947945093733,104.8307977958049,97.832783526623786,93.208875157410631,88.690732816569863]
[]
[null,null,null,"Size","RPM","AMCA Test No."]
[null,null,1,63]
[null,null,2,90]
[null,null,3,125,2500,"AMCA Test - 03/06/2026 - 44759-S1"]
[null,null,4,160]
[null,null,5,200]
[null,null,6,250]